BEGIN:VCALENDAR
VERSION:2.0
PRODID:-//Khon Kaen University - ECPv6.15.20//NONSGML v1.0//EN
CALSCALE:GREGORIAN
METHOD:PUBLISH
X-WR-CALNAME:Khon Kaen University
X-ORIGINAL-URL:https://www.kku.ac.th
X-WR-CALDESC:Events for Khon Kaen University
REFRESH-INTERVAL;VALUE=DURATION:PT1H
X-Robots-Tag:noindex
X-PUBLISHED-TTL:PT1H
BEGIN:VTIMEZONE
TZID:Asia/Bangkok
BEGIN:STANDARD
TZOFFSETFROM:+0700
TZOFFSETTO:+0700
TZNAME:+07
DTSTART:20250101T000000
END:STANDARD
END:VTIMEZONE
BEGIN:VEVENT
DTSTART;VALUE=DATE:20260205
DTEND;VALUE=DATE:20260208
DTSTAMP:20260423T194503
CREATED:20251105T042451Z
LAST-MODIFIED:20251105T043445Z
UID:253948-1770249600-1770508799@www.kku.ac.th
SUMMARY:LAST Call for Papers – INCBAA 2026 Conference (Extended to December 15\, 2025)
DESCRIPTION:INCBAA 2026 Conference under the theme “Bridging Technological Transformation and Sustainable Performance” \nFebruary 5–7\, 2026\nAt the Science Park\, Khon Kaen University \n Important Dates\n• Submission Deadline (Extended):  (December 15\, 2025)\n• Notification of Acceptance: (January 5\, 2026)\n• Conference Template: https://www.incbaa.org/callforpapers\n• Workshop Registration (PLS-SEM by Prof. Dr. Marko Sarstedt): https://www.incbaa.org/conferenceworkshop \n Keynote Speakers \n\n\nProf. Dr. Marko Sarstedt (Ludwig-Maximilians-University Munich\, Germany) \n\n\nMr. Worrawat Sriyoos (Mitr Phol Group) \n\n\nDr. Saowathip Kiratiprayoonwong (Chiang Mai University) \n\n\n Selected papers may be considered for publication in SCOPUS and TCI indexed journals such as:\nJournal of Global Marketing\, ABAC Journal\, Young Consumers\, Journal of Hospitality and Tourism Insights\,\nand other high-quality journals. \nFor more information\, please inquire at \nEmail: incbaa.kku@gmail.com\n Website: www.incbaa.org \n \n 
URL:https://www.kku.ac.th/en/event/last-call-for-papers-incbaa-2026-conference-extended-to-december-15-2025/
LOCATION:Khon Kaen University Science Park\, หมู่ที่ 16 123 Soi Maha Witthayalai\, Mueang Khon Kaen District\, Khon Kaen 40002\, Mueang Khon Kaen District\, KhonKaen\, 40002\, Thailand
ATTACH;FMTTYPE=image/jpeg:https://www.kku.ac.th/wp-content/uploads/2025/11/6273275_0.jpg
ORGANIZER;CN="Enterprise and Societal Sustainability":MAILTO:kku.innoprise@gmail.com
END:VEVENT
BEGIN:VEVENT
DTSTART;TZID=Asia/Bangkok:20260205T090000
DTEND;TZID=Asia/Bangkok:20260205T120000
DTSTAMP:20260423T194503
CREATED:20260122T035810Z
LAST-MODIFIED:20260122T040456Z
UID:267634-1770282000-1770292800@www.kku.ac.th
SUMMARY:seminar : “Creating Opportunities for Publishing in High Impact Ranking Journals for Young Researchers”
DESCRIPTION:Khon Kaen Business School\, Khon Kaen University\, cordially invites early-career researchers\, faculty members\, and students to participate in the academic seminar: \n“Creating Opportunities for Publishing in High Impact Ranking Journals for Young Researchers” \nThis seminar provides in-depth insights into strategies for publishing research papers in high-impact ranking journals\, shared by distinguished editors from leading international and national journals. \nKey Speakers \n1.Prof. Emeritus Ajay Manrai\, Ph.D.\, Editor-in-Chief\, Journal of Global Marketing\n2.Prof. Hiram Ting\, Ph.D.\, Editor-in-Chief\, Young Consumers; Ambassador of Emerald Publishing\, Southeast Asia\n3.Assoc. Prof. Supawat Meeprom\, Ph.D.\, Editor-in-Chief\, Khon Kaen Business School Journal \n.\nThursday\, 5 February 2026\n09.00 – 12.00 hrs.\nWanglert Smart Classroom\, Khon Kaen Business School\, Khon Kaen University \nRegister now: https://forms.gle/3FYF2t4eTA54V2W46\n \n \n\n 
URL:https://www.kku.ac.th/en/event/seminar-creating-opportunities-for-publishing-in-high-impact-ranking-journals-for-young-researchers/
LOCATION:Faculty of Business Administration and Accountancy\, Khon Kaen University\, Moo 16 123 Thanon Mittraphap\, Mueang Khon Kaen District\, Khon Kaen 40002\, Mueang Khon Kaen District\, KhonKaen\, 40002\, Thailand
ATTACH;FMTTYPE=image/jpeg:https://www.kku.ac.th/wp-content/uploads/2026/01/6288906.jpg
ORGANIZER;CN="Faculty of Business Administration and Accountancy%2C Khon Kaen University":MAILTO:kkbs@kku.ac.th
END:VEVENT
BEGIN:VEVENT
DTSTART;TZID=Asia/Bangkok:20260213T170000
DTEND;TZID=Asia/Bangkok:20260215T230000
DTSTAMP:20260423T194503
CREATED:20260129T084227Z
LAST-MODIFIED:20260129T085502Z
UID:269473-1771002000-1771196400@www.kku.ac.th
SUMMARY:ART LANE 23rd
DESCRIPTION:  \nART LANE 23rd \nFebruary 13-15\, 2026\n \nAt \nFaculty of Fine and Applied Arts\, Khon Kaen University\n  \nART LANE \n  \n 
URL:https://www.kku.ac.th/en/event/art-lane-23rd/
LOCATION:Faculty of Fine and Applied Arts\, Khon Kaen University\, Moo 16 123 Thanon Mittraphap\, Mueang Khon Kaen District\, Khon Kaen 40002\, Mueang Khon Kaen District\, KhonKaen\, 40002\, Thailand
ATTACH;FMTTYPE=image/jpeg:https://www.kku.ac.th/wp-content/uploads/2026/01/602451863_1455881566540237_3888976461752189436_n-1.jpg
END:VEVENT
END:VCALENDAR