BEGIN:VCALENDAR
VERSION:2.0
PRODID:-//Khon Kaen University - ECPv6.15.20//NONSGML v1.0//EN
CALSCALE:GREGORIAN
METHOD:PUBLISH
X-WR-CALNAME:Khon Kaen University
X-ORIGINAL-URL:https://www.kku.ac.th
X-WR-CALDESC:Events for Khon Kaen University
REFRESH-INTERVAL;VALUE=DURATION:PT1H
X-Robots-Tag:noindex
X-PUBLISHED-TTL:PT1H
BEGIN:VTIMEZONE
TZID:Asia/Bangkok
BEGIN:STANDARD
TZOFFSETFROM:+0700
TZOFFSETTO:+0700
TZNAME:+07
DTSTART:20240101T000000
END:STANDARD
END:VTIMEZONE
BEGIN:VEVENT
DTSTART;TZID=Asia/Bangkok:20251112T133000
DTEND;TZID=Asia/Bangkok:20251112T143000
DTSTAMP:20260426T094226
CREATED:20251111T040644Z
LAST-MODIFIED:20251111T040644Z
UID:254996-1762954200-1762957800@www.kku.ac.th
SUMMARY:เสวนากับหมอ มข. EP.60 “การตรวจ DNA พิสูจน์ทางนิติวิทยาศาสตร์”
DESCRIPTION:เสวนากับหมอ มข. EP.60\n“การตรวจ DNA พิสูจน์ทางนิติวิทยาศาสตร์”\nไขข้อสงสัยเรื่องการตรวจดีเอ็นเอ เพื่อใช้ในการพิสูจน์และยืนยันตัวบุคคล\nเบื้องหลังงานนิติวิทยาศาสตร์ที่แม่นยำ ต้องอาศัยความเชี่ยวชาญจากนักเทคนิคการแพทย์!\n\n\n โดย ทนพ.นพนันท์ ผลานิสงค์\nนักเทคนิคการแพทย์ปฏิบัติการ\nสาขาวิชานิติเวชศาสตร์\nคณะแพทยศาสตร์ มหาวิทยาลัยขอนแก่น\n\n\n เตรียมพบสาระและความรู้ที่คุณไม่ควรพลาด\n วันพุธที่ 12 พฤศจิกายน 2568\n เวลา 13.30 – 14.30 น.\n รับชมสดทาง Facebook Page:\nคณะแพทยศาสตร์ มหาวิทยาลัยขอนแก่น
URL:https://www.kku.ac.th/th/event/%e0%b9%80%e0%b8%aa%e0%b8%a7%e0%b8%99%e0%b8%b2%e0%b8%81%e0%b8%b1%e0%b8%9a%e0%b8%ab%e0%b8%a1%e0%b8%ad-%e0%b8%a1%e0%b8%82-ep-60-%e0%b8%81%e0%b8%b2%e0%b8%a3%e0%b8%95%e0%b8%a3%e0%b8%a7%e0%b8%88-d/
LOCATION:คณะแพทยศาสตร์ Faculty of Medicine\, หมู่ที่ 16 123 Thanon Mittraphap\, Mueang Khon Kaen District\, Khon Kaen 40002\, Mueang Khon Kaen District\, Khon Kaen\, 40002\, Thailand
CATEGORIES:Non degree education,การบรรยายพิเศษ,กิจกรรมนักศึกษา,กิจกรรมบุคลากร,สุขภาพ
ATTACH;FMTTYPE=image/jpeg:https://www.kku.ac.th/wp-content/uploads/2025/11/580839131_1274166481422811_8131054800651614864_n.jpg
ORGANIZER;CN="%E0%B8%84%E0%B8%93%E0%B8%B0%E0%B9%81%E0%B8%9E%E0%B8%97%E0%B8%A2%E0%B8%A8%E0%B8%B2%E0%B8%AA%E0%B8%95%E0%B8%A3%E0%B9%8C Faculty of Medicine":MAILTO:info@md.kku.ac.th
END:VEVENT
BEGIN:VEVENT
DTSTART;TZID=Asia/Bangkok:20251125T083000
DTEND;TZID=Asia/Bangkok:20251125T120000
DTSTAMP:20260426T094226
CREATED:20251111T063948Z
LAST-MODIFIED:20251111T063948Z
UID:255019-1764059400-1764072000@www.kku.ac.th
SUMMARY:Research Talk #4 | เปิดประตูสู่โลกแห่ง Quantum Computing!
DESCRIPTION:Research Talk #4 | เปิดประตูสู่โลกแห่ง Quantum Computing!\n“A Gentle Journey into Quantum Computing: States\, Circuits\, and Beyond”\n ร่วมฟังการบรรยายพิเศษจาก Prof.\nDr. Marcello Bonsangue จาก Leiden University\n(Netherlands) ศาสตราจารย์สาขาวิทยาการคอมพิวเตอร์ ณ Leiden University ประเทศเนเธอร์แลนด์ และ ปัจจุบันดำรงตำแหน่ง Scientific Director of LIACS\, the Leiden Institute of Advanced Computer Science and coordinates international relations.\nเนื้อหาการบรรยาย : หลักการพื้นฐาน Quantum\nComputing • Quantum States\, Circuits และการประยุกต์ใช้ • การจำลอง\nQuantum บนคอมพิวเตอร์แบบดั้งเดิม\nวันอังคารที่ 25 พฤศจิกายน 2568\nเวลา 08:30-12:00 น.\nห้องวิทยวิภาส 1\, อาคารวิทยวิภาส มข. \nลงทะเบียน ได้ตั้งแต่บัดนี้ – 17 พฤศจิกายน 2568 : https://forms.gle/6e1FLernL1JdxBDq8 \n\n\n————–
URL:https://www.kku.ac.th/th/event/research-talk-4-%e0%b9%80%e0%b8%9b%e0%b8%b4%e0%b8%94%e0%b8%9b%e0%b8%a3%e0%b8%b0%e0%b8%95%e0%b8%b9%e0%b8%aa%e0%b8%b9%e0%b9%88%e0%b9%82%e0%b8%a5%e0%b8%81%e0%b9%81%e0%b8%ab%e0%b9%88%e0%b8%87-quantum-c/
LOCATION:College of Computing Khon Kaen University\, FRGG+75X ตำบล ศิลา อำเภอเมืองขอนแก่น ขอนแก่น 40000\, Mueang Khon Kaen District\, KhonKaen\, 40002\, Thailand
CATEGORIES:Non degree education,การบรรยายพิเศษ,กิจกรรมนักศึกษา,กิจกรรมบุคลากร,หลักสูตรระยะสั้น
ATTACH;FMTTYPE=image/jpeg:https://www.kku.ac.th/wp-content/uploads/2025/11/research-talk4-4.jpg
ORGANIZER;CN="College of Computing Khon Kaen University":MAILTO:computing.kku@kku.ac.th
END:VEVENT
BEGIN:VEVENT
DTSTART;TZID=Asia/Bangkok:20251127T080000
DTEND;TZID=Asia/Bangkok:20251128T170000
DTSTAMP:20260426T094226
CREATED:20250903T033059Z
LAST-MODIFIED:20250903T033059Z
UID:244755-1764230400-1764349200@www.kku.ac.th
SUMMARY:The 3rd MDKKU Annual Research Conference
DESCRIPTION:ประชาสัมพันธ์ เชิญชวนเข้าร่วมงานประชุมวิชาการ 2025\n“The 3rd MDKKU Annual Research Conference” ครั้งที่ 3\n\n\n สถานที่: Sirikunakorn 3 Conference Room\, ชั้น 2 อาคารสิริคุณากร มหาวิทยาลัยขอนแก่น\n วันที่ 27-28 พฤศจิกายน 2568\n\n\n ส่งบทคัดย่อภายใน: 31 ตุลาคม 2568\n ประกาศผลการตอบรับ: 15 พฤศจิกายน 2568\n\n\n ค่าลงทะเบียน:\n• 27 พ.ย. → 1\,000 บาท\n• 28 พ.ย. → 1\,500 บาท\n• ทั้งสองวัน → 2\,000 บาท\n\n\nลงทะเบียนและส่งบทคัดย่อ: [QR Code บนโปสเตอร์]\n\n\n ติดต่อ: 043-366576-7\n Email: jintanaka@kku.ac.th
URL:https://www.kku.ac.th/th/event/the-3rd-mdkku-annual-research-conference/
LOCATION:อาคารสิริคุณากร\, FRC8+94 Khon Kaen\, Mueang Khon Kaen District\, Khon Kaen\, Mueang Khon Kaen District\, Khon Kaen\, 40002\, Thailand
CATEGORIES:การบรรยายพิเศษ,ประชุม เสวนา,ประชุมสัมมนา
ATTACH;FMTTYPE=image/jpeg:https://www.kku.ac.th/wp-content/uploads/2025/09/messageImage_1756793717884.jpg
ORGANIZER;CN="%E0%B8%84%E0%B8%93%E0%B8%B0%E0%B9%81%E0%B8%9E%E0%B8%97%E0%B8%A2%E0%B8%A8%E0%B8%B2%E0%B8%AA%E0%B8%95%E0%B8%A3%E0%B9%8C Faculty of Medicine":MAILTO:info@md.kku.ac.th
END:VEVENT
BEGIN:VEVENT
DTSTART;TZID=Asia/Bangkok:20251127T130000
DTEND;TZID=Asia/Bangkok:20251127T150000
DTSTAMP:20260426T094226
CREATED:20251126T040721Z
LAST-MODIFIED:20251126T040721Z
UID:257946-1764248400-1764255600@www.kku.ac.th
SUMMARY:พิธีแถลงข่าวรับมอบเครื่องวัดความดันโลหิตจำนวน 2\,000 เครื่อง
DESCRIPTION:พิธีแถลงข่าวรับมอบเครื่องวัดความดันโลหิตจำนวน 2\,000 เครื่อง\n\n\n “โครงการหมอห่วงใย ตรวจวัดเป็นประจำรู้ค่าความดัน ลดความเสี่ยงโรคหลอดเลือดสมองและหัวใจวาย” \nในวันพฤหัสบดีที่ 27 พฤศจิกายน 2568 เวลา 14.00 น.\n\n\nณ ห้องประชุมกวีทังสุบุตร อาคารเตรียมวิทยาศาสตร์ 3 ชั้น 5 คณะแพทยศาสตร์ มข. \n\n\n**โดยได้รับการสนับสนุนจาก คุณวิโรจน์ ศรีสดใส \nเพื่อเพิ่มการเข้าถึงอุปกรณ์วัดความดันโลหิตสำหรับผู้ป่วยโรคความดันโลหิตสูง โรคหลอดเลือดสมอง \nและผู้ป่วยกลุ่มเสี่ยงในชุมชน อันเป็นประโยชน์อย่างยิ่งต่อการดูแลผู้ป่วยในพื้นที่*
URL:https://www.kku.ac.th/th/event/%e0%b8%9e%e0%b8%b4%e0%b8%98%e0%b8%b5%e0%b9%81%e0%b8%96%e0%b8%a5%e0%b8%87%e0%b8%82%e0%b9%88%e0%b8%b2%e0%b8%a7%e0%b8%a3%e0%b8%b1%e0%b8%9a%e0%b8%a1%e0%b8%ad%e0%b8%9a%e0%b9%80%e0%b8%84%e0%b8%a3%e0%b8%b7/
LOCATION:คณะแพทยศาสตร์ Faculty of Medicine\, หมู่ที่ 16 123 Thanon Mittraphap\, Mueang Khon Kaen District\, Khon Kaen 40002\, Mueang Khon Kaen District\, Khon Kaen\, 40002\, Thailand
CATEGORIES:การบรรยายพิเศษ,กิจกรรมเพื่อการกุศล,งานวิจัย,ประชุม เสวนา,ประชุมสัมมนา,สื่อมวลชน
ORGANIZER;CN="%E0%B8%84%E0%B8%93%E0%B8%B0%E0%B9%81%E0%B8%9E%E0%B8%97%E0%B8%A2%E0%B8%A8%E0%B8%B2%E0%B8%AA%E0%B8%95%E0%B8%A3%E0%B9%8C Faculty of Medicine":MAILTO:info@md.kku.ac.th
END:VEVENT
END:VCALENDAR