BEGIN:VCALENDAR
VERSION:2.0
PRODID:-//Khon Kaen University - ECPv6.15.20//NONSGML v1.0//EN
CALSCALE:GREGORIAN
METHOD:PUBLISH
X-ORIGINAL-URL:https://www.kku.ac.th
X-WR-CALDESC:Events for Khon Kaen University
REFRESH-INTERVAL;VALUE=DURATION:PT1H
X-Robots-Tag:noindex
X-PUBLISHED-TTL:PT1H
BEGIN:VTIMEZONE
TZID:Asia/Bangkok
BEGIN:STANDARD
TZOFFSETFROM:+0700
TZOFFSETTO:+0700
TZNAME:+07
DTSTART:20250101T000000
END:STANDARD
END:VTIMEZONE
BEGIN:VEVENT
DTSTART;VALUE=DATE:20260526
DTEND;VALUE=DATE:20260528
DTSTAMP:20260426T063952
CREATED:20260302T040240Z
LAST-MODIFIED:20260302T040240Z
UID:276458-1779753600-1779926399@www.kku.ac.th
SUMMARY:ประชุมเชิงวิชาการและการเสวนา กิจกรรม Workshop”End-TB Isan 2026 เทคโนโลยี บูรณาการ ต้านวัณโรค“
DESCRIPTION:ศูนย์วิจัยและบริการตรวจวินิจฉัยโรคติดเชื้อระบาดใหม่ มหาวิทยาลัยขอนแก่น (Research and Diagnostic Center for Emerging Infectious Diseases Khon Kaen University\, RCEID KKU) และเครือข่ายยุติวัณโรคภาคตะวันออกเฉียงเหนือ (End TB Isan Consortium)  \nขอเรียนเชิญทุกท่านลงทะเบียนร่วมงานประชุมวิชาการ ”End-TB Isan 2026 เทคโนโลยี บูรณาการ ต้านวัณโรค“\n\nงานจัดวันที่ 26-27 พฤษภาคม 2569 ณ โรงแรมอวานี ขอนแก่น โฮเทล แอนด์ คอนเวนชั่น เซ็นเตอร์ จังหวัดขอนแก่น\n\n การประชุมวันแรก (26 พ.ค. 2569) จะเป็นเป็นการจัดงานประชุมเชิงวิชาการและการเสวนา กิจกรรม Workshop พร้อมบูทแสดงสาธิตเทคโนโลยีส่งเสริมการยุติวัณโรค ในงานมีการประกวดที่ขอประชาสัมพันธ์ล่วงหน้า คือ 1. การประกวด Poster presentation และ 2. การประกวด Clip สั้น End-TB Hero Award: หัวใจนักสู้ในสมรภูมิวัณโรค: แรงบันดาลใจในการจัดการวัณโรคเพื่อการยุติการระบาดในภาคอีสาน มีรางวัลให้สำหรับผู้ชนะการประกวด\n\n การประชุมวันที่ 2 (27 พ.ค. 2569) จะจัดเป็น Workshop เฉพาะทาง การฝึกอบรมเชิงปฏิบัติการบุคลากรสหวิชาชีพด้านเทคโนโลยีการตรวจวินิจฉัยวัณโรคดื้อยา โดย High Throughput Sequencing Technology\n\nรับจำนวนจำกัด ลงทะเบียนฟรี Conference 100 ท่าน Workshop 40 ท่าน ยี่นรับคะแนน CME CNE CMTE ได้ และเชิญผู้สนใจส่งประกวดผลงานวิจัย Poster presentation และ Clip สั้น End TB Hero Award มีรางวัลให้สำหรับผู้ชนะการประกวดนะคะ ผู้สนใจ Scan QR code ได้เลยค่ะ
URL:https://www.kku.ac.th/th/event/%e0%b8%9b%e0%b8%a3%e0%b8%b0%e0%b8%8a%e0%b8%b8%e0%b8%a1%e0%b9%80%e0%b8%8a%e0%b8%b4%e0%b8%87%e0%b8%a7%e0%b8%b4%e0%b8%8a%e0%b8%b2%e0%b8%81%e0%b8%b2%e0%b8%a3%e0%b9%81%e0%b8%a5%e0%b8%b0%e0%b8%81%e0%b8%b2/
LOCATION:โรงแรมอวานี ขอนแก่น โฮเทลแอนด์คอนเวนชั่นเซ็นเตอร์\, CRPW+WG Khon Kaen\, Mueang Khon Kaen District\, Khon Kaen\, Mueang Khon Kaen District\, Khon Kaen\, Thailand
CATEGORIES:กิจกรรมบุคลากร,สุขภาพ,หลักสูตรอบรม,อาจารย์
ATTACH;FMTTYPE=image/jpeg:https://www.kku.ac.th/wp-content/uploads/2026/03/638569153_1356972856475506_509990606851662903_n.jpg
ORGANIZER;CN="%E0%B8%84%E0%B8%93%E0%B8%B0%E0%B9%81%E0%B8%9E%E0%B8%97%E0%B8%A2%E0%B8%A8%E0%B8%B2%E0%B8%AA%E0%B8%95%E0%B8%A3%E0%B9%8C Faculty of Medicine":MAILTO:info@md.kku.ac.th
END:VEVENT
END:VCALENDAR