BEGIN:VCALENDAR
VERSION:2.0
PRODID:-//Khon Kaen University - ECPv6.15.19//NONSGML v1.0//EN
CALSCALE:GREGORIAN
METHOD:PUBLISH
X-ORIGINAL-URL:https://www.kku.ac.th
X-WR-CALDESC:Events for Khon Kaen University
REFRESH-INTERVAL;VALUE=DURATION:PT1H
X-Robots-Tag:noindex
X-PUBLISHED-TTL:PT1H
BEGIN:VTIMEZONE
TZID:Asia/Bangkok
BEGIN:STANDARD
TZOFFSETFROM:+0700
TZOFFSETTO:+0700
TZNAME:+07
DTSTART:20250101T000000
END:STANDARD
END:VTIMEZONE
BEGIN:VEVENT
DTSTART;VALUE=DATE:20260107
DTEND;VALUE=DATE:20260109
DTSTAMP:20260421T132126
CREATED:20260106T080825Z
LAST-MODIFIED:20260106T080929Z
UID:264609-1767744000-1767916799@www.kku.ac.th
SUMMARY:The 20th International Conference on Humanities and Social Sciences:  IC-HUSO 2026
DESCRIPTION:โครงการประชุมวิชาการระดับนานาชาติ มนุษยศาสตร์และสังคมศาสตร์  ครั้งที่ 20 \n(The 20th International Conference on Humanities and Social Sciences:  IC-HUSO 2026) \nในวันที่ 7 – 8 มกราคม 2569 ณ โรงแรมพูลแมน ขอนแก่น ราชา ออคิด จังหวัดขอนแก่น \nกำหนดการ \nSchedule ICHUSO 2026_NEW 29-12-68-Overall (1)
URL:https://www.kku.ac.th/th/event/the-20th-international-conference-on-humanities-and-social-sciences-ic-huso-2026/
LOCATION:โรงแรม พูลแมน ขอนแก่น ราชา ออคิด\, CRHJ+P2 Khon Kaen\, Mueang Khon Kaen District\, Khon Kaen\, Mueang Khon Kaen District\,\, Khon Kaen\, 40002\, Thailand
CATEGORIES:ประชุม เสวนา,ประชุมสัมมนา
ATTACH;FMTTYPE=image/jpeg:https://www.kku.ac.th/wp-content/uploads/2026/01/619aa609-3713-460f-9953-4d5b1730215c.jpg
END:VEVENT
BEGIN:VEVENT
DTSTART;VALUE=DATE:20260115
DTEND;VALUE=DATE:20260116
DTSTAMP:20260421T132126
CREATED:20251229T085936Z
LAST-MODIFIED:20251229T090303Z
UID:264107-1768435200-1768521599@www.kku.ac.th
SUMMARY:การประชุมวิชาการระดับนานาชาติ ภายใต้หัวข้อ " High Value Creation of Foods and Agricultural Produces"
DESCRIPTION:เปิดรับสมัครผู้นำเสนอผลงานวิจัยแบบปากเปล่า สำหรับนักศึกษาระดับบัณฑิตศึกษา\nการประชุมวิชาการระดับนานาชาติ ภายใต้หัวข้อ &quot; High Value Creation of Foods and Agricultural\nProduces&quot;\nวันที่: วันพฤหัสบดีที่ 15 มกราคม พ.ศ. 2569 สถานที่: โรงแรมพูลแมน ขอนแก่น ราชาออคิด จังหวัดขอนแก่น\nเปิดรับสมัครนิสิตระดับปริญญาโทหรือเอก ที่ทำวิจัยในสาขา:\n Food Science &amp; Technology\n Functional Foods &amp; Nutraceuticals\n Alternative Protein Sources\n Agricultural Product Development\n Food Innovation &amp; Biotechnology\n\nรายละเอียดการนำเสนอ: เวลานำเสนอ: 15 นาที (นำเสนอ 12 นาที + ตอบคำถาม 3 นาที)\nภาษาที่ใช้นำเสนอ: อังกฤษ\nรูปแบบ: การนำเสนอด้วยสไลด์\n ลงทะเบียนฟรี:\n สมัครเลย: https://kku.world/7mhtol\n ปิดรับสมัคร: 5 มกราคม พ.ศ. 2569\nประกาศผล: 6 มกราคม พ.ศ. 2569\n\nสอบถามข้อมูลเพิ่มเติม: เว็บไซต์: https://te.kku.ac.th/ อีเมล: te.info@kku.ac.th\nผู้ประสานงาน: รศ. ดร.จันทิมา ภูงามเงิน (+66 81-8116501)
URL:https://www.kku.ac.th/th/event/%e0%b8%81%e0%b8%b2%e0%b8%a3%e0%b8%9b%e0%b8%a3%e0%b8%b0%e0%b8%8a%e0%b8%b8%e0%b8%a1%e0%b8%a7%e0%b8%b4%e0%b8%8a%e0%b8%b2%e0%b8%81%e0%b8%b2%e0%b8%a3%e0%b8%a3%e0%b8%b0%e0%b8%94%e0%b8%b1%e0%b8%9a%e0%b8%99-4/
LOCATION:Faculty of Engineering Khon Kaen University\, 123 ถ. มิตรภาพ Tambon Sila\, Mueang Khon Kaen District\, Khon Kaen 40002\, Mueang Khon Kaen District\, KhonKaen\, 40002\, Thailand
CATEGORIES:กิจกรรมนักศึกษา,ประชุม เสวนา,ประชุมสัมมนา
ATTACH;FMTTYPE=image/png:https://www.kku.ac.th/wp-content/uploads/2025/12/Call-for-Oral-Presentation.png
ORGANIZER;CN="Faculty of Engineering%2C Khon Kaen University":MAILTO:en.inbox@kku.ac.th
END:VEVENT
BEGIN:VEVENT
DTSTART;VALUE=DATE:20260123
DTEND;VALUE=DATE:20260202
DTSTAMP:20260421T132126
CREATED:20251223T031624Z
LAST-MODIFIED:20251223T031745Z
UID:262622-1769126400-1769990399@www.kku.ac.th
SUMMARY:งานวันเกษตรภาคอีสาน 2569 - Isan Agricultural Fair 2026
DESCRIPTION:งานวันเกษตรภาคอีสาน 2569\nIsan Agricultural Fair 2026 \nระหว่างวันที่ 23 มกราคม – 1 กุมภาพันธ์ 2569\n📍 ณ อุทยานเทคโนโลยีการเกษตร มหาวิทยาลัยขอนแก่น
URL:https://www.kku.ac.th/th/event/%e0%b8%87%e0%b8%b2%e0%b8%99%e0%b8%a7%e0%b8%b1%e0%b8%99%e0%b9%80%e0%b8%81%e0%b8%a9%e0%b8%95%e0%b8%a3%e0%b8%a0%e0%b8%b2%e0%b8%84%e0%b8%ad%e0%b8%b5%e0%b8%aa%e0%b8%b2%e0%b8%99-2569-isan-agricultural-fai/
LOCATION:อุทยานเทคโนโลยีการเกษตร มหาวิทยาลัยขอนแก่น
CATEGORIES:Non degree education,กิจกรรมนักศึกษา,กิจกรรมนักเรียน,กิจกรรมบุคลากร,งานวิจัย,ช่วยเหลือสังคม,ประชุม เสวนา,ประชุมสัมมนา,ศิลปวัฒนธรรม ท่องเที่ยว บันเทิง,สัตว์เลี้ยง,สิ่งแวดล้อม,สื่อมวลชน,สุขภาพ,หลักสูตรระยะสั้น,หลักสูตรอบรม
ATTACH;FMTTYPE=image/png:https://www.kku.ac.th/wp-content/uploads/2025/12/558162292_1211388871022827_1244576060615847190_n.png
END:VEVENT
BEGIN:VEVENT
DTSTART;TZID=Asia/Bangkok:20260125T130000
DTEND;TZID=Asia/Bangkok:20260125T170000
DTSTAMP:20260421T132126
CREATED:20260109T084438Z
LAST-MODIFIED:20260109T084438Z
UID:264995-1769346000-1769360400@www.kku.ac.th
SUMMARY:COLA x ECON KKU x Thai PBS Locals x COLAB 
DESCRIPTION: COLA x ECON KKU x Thai PBS Locals x COLAB \nขอเชิญทุกท่านร่วมเป็นส่วนหนึ่งของเวทีนโยบายสำคัญแห่งภาคอีสาน\n—————\nวิทยาลัยการปกครองท้องถิ่น และ คณะเศรษฐศาสตร์ มหาวิทยาลัยขอนแก่น ร่วมกับ Thai PBS Locals และ COLAB \nขอเชิญ นักศึกษา นักวิชาการ ภาคพลเมือง ภาคเอกชน และพี่น้องประชาชนผู้สนใจ เข้าร่วมงาน\n—————\n เวทีประชันนโยบายพรรคการเมือง เพื่อ “พลิกโฉมภาคอีสาน”\nพื้นที่เปิดกว้างเพื่อแสดงวิสัยทัศน์และนโยบายของพรรคในด้านการพัฒนาภูมิภาคอีสาน ทั้งในมิติเศรษฐกิจ การเมือง และสังคม\n—————\n ส่งเสริมประชาธิปไตยและการมีส่วนร่วมทางการเมืองของพลเมือง\n แลกเปลี่ยนมุมมองนโยบายสาธารณะระหว่าง พรรคการเมือง – ภาควิชาการ – ภาคประชาชน\n รับฟังวิสัยทัศน์และนโยบายจาก หัวหน้าพรรค แคนดิเดตนายกรัฐมนตรี หรือผู้แทนระดับบริหารพรรคการเมือง ในประเด็นการพัฒนา เศรษฐกิจ การเมือง และสังคมของภาคอีสาน\n—————\n กำหนดการจัดงาน\n วันเสาร์ที่ 24 มกราคม 2569\n เวลา 13.00 – 17.00 น.\n ห้องประชุมพีรสิทธิ์ คำนวณศิลป์\nวิทยาลัยการปกครองท้องถิ่น มหาวิทยาลัยขอนแก่น\n—————\nไฮไลต์ภายในงาน\n เปิดข้อมูลเชิงลึกจากผลสำรวจ “อีสานโพล”\n เวทีประชันนโยบายพรรคการเมือง เพื่ออนาคตภาคอีสาน\n เปิดพื้นที่ให้ภาคพลเมืองและผู้เข้าร่วมงานมีส่วนร่วมอย่างสร้างสรรค์\n—————\n เพราะอนาคตภาคอีสาน…ไม่ควรถูกกำหนดโดยใครเพียงลำพัง\nมาร่วม ฟัง คิด ถาม และแลกเปลี่ยน\nเพื่อร่วมออกแบบนโยบายที่ตอบโจทย์คนอีสานอย่างแท้จริง\n—————\n เข้าร่วมฟรี! เปิดรับประชาชนทั่วไป\n(ที่นั่งมีจำนวนจำกัด เพียง 500 ที่นั่ง แนะนำให้ท่านมาก่อนเวลา)
URL:https://www.kku.ac.th/th/event/cola-x-econ-kku-x-thai-pbs-locals-x-colab/
LOCATION:วิทยาลัยการปกครองท้องถิ่น\, 123 Thanon Mittraphap\, Nai Mueang\, Mueang Khon Kaen District\, Khon Kaen 40002\, Mueang Khon Kaen District\, 40002
CATEGORIES:Non degree education,การบรรยายพิเศษ,กิจกรรมนักศึกษา,กิจกรรมบุคลากร,ประชุม เสวนา,ประชุมสัมมนา
ATTACH;FMTTYPE=image/png:https://www.kku.ac.th/wp-content/uploads/2026/01/Election-2569-.png
ORGANIZER;CN="%E0%B8%A7%E0%B8%B4%E0%B8%97%E0%B8%A2%E0%B8%B2%E0%B8%A5%E0%B8%B1%E0%B8%A2%E0%B8%81%E0%B8%B2%E0%B8%A3%E0%B8%9B%E0%B8%81%E0%B8%84%E0%B8%A3%E0%B8%AD%E0%B8%87%E0%B8%97%E0%B9%89%E0%B8%AD%E0%B8%87%E0%B8%96%E0%B8%B4%E0%B9%88%E0%B8%99 %E0%B8%A1%E0%B8%AB%E0%B8%B2%E0%B8%A7%E0%B8%B4%E0%B8%97%E0%B8%A2%E0%B8%B2%E0%B8%A5%E0%B8%B1%E0%B8%A2%E0%B8%82%E0%B8%AD%E0%B8%99%E0%B9%81%E0%B8%81%E0%B9%88%E0%B8%99":MAILTO:cola@kku.ac.th
END:VEVENT
BEGIN:VEVENT
DTSTART;VALUE=DATE:20260126
DTEND;VALUE=DATE:20260128
DTSTAMP:20260421T132126
CREATED:20251121T083713Z
LAST-MODIFIED:20251121T084018Z
UID:257113-1769385600-1769558399@www.kku.ac.th
SUMMARY:การประชุมวิชาการเกษตร ครั้งที่ 27 “ นวัตกรรมวิจัยสร้างเสริม เพิ่มพูนรายได้ ใส่ใจสิ่งแวดล้อม ”
DESCRIPTION:ขยายเวลาการเปิดรับลงทะเบียน นำเสนอผลงานและส่งบทความฉบับเต็ม (Full Paper)หรือ ฉบับบทคัดย่อ (Abstract)\n วันนี้ – 30 พฤศจิกายน 2568\n\n\nขอเชิญชวนผู้สนใจส่งผลงานเข้าร่วม “การประชุมวิชาการเกษตร ครั้งที่ 27″\n “ นวัตกรรมวิจัยสร้างเสริม เพิ่มพูนรายได้ ใส่ใจสิ่งแวดล้อม ” \nจัดขึ้นระหว่างวันที่ 26-27 มกราคม 2569 ณ คณะเกษตรศาสตร์ มหาวิทยาลัยขอนแก่น\n\n\n ส่งบทความนำเสนอผลงานประชุมวิชาการเกษตร :\nhttps://kku.world/2pxr32\n\n\nสอบถามรายละเอียดเพิ่มเติม ได้ที่ : งานบริการวิชาการวิจัยและวิเทศสัมพันธ์\n 083 343 5926  agconkku@gmail.com
URL:https://www.kku.ac.th/th/event/%e0%b8%81%e0%b8%b2%e0%b8%a3%e0%b8%9b%e0%b8%a3%e0%b8%b0%e0%b8%8a%e0%b8%b8%e0%b8%a1%e0%b8%a7%e0%b8%b4%e0%b8%8a%e0%b8%b2%e0%b8%81%e0%b8%b2%e0%b8%a3%e0%b9%80%e0%b8%81%e0%b8%a9%e0%b8%95%e0%b8%a3-%e0%b8%84/
LOCATION:คณะเกษตรศาสตร์ มหาวิทยาลัยขอนแก่น
CATEGORIES:การบรรยายพิเศษ,กิจกรรมบุคลากร,งานวิจัย,ประชุม เสวนา,ประชุมสัมมนา,หลักสูตรระยะสั้น
ATTACH;FMTTYPE=image/jpeg:https://www.kku.ac.th/wp-content/uploads/2025/11/585203340_1246643730830674_6338796318355416084_n.jpg
END:VEVENT
BEGIN:VEVENT
DTSTART;VALUE=DATE:20260130
DTEND;VALUE=DATE:20260131
DTSTAMP:20260421T132126
CREATED:20260128T030122Z
LAST-MODIFIED:20260128T030122Z
UID:268854-1769731200-1769817599@www.kku.ac.th
SUMMARY:งาน "การประชุมวิชาการระดับชาติ ครั้งที่ 3" งานเดียวที่รวมพลังความคิดเพื่อพลิกโฉมสังคมไทย!
DESCRIPTION:ปักหมุดงานใหญ่แห่งปีที่ มข.! ทั้งเวทีวิชาการ และ เวทีประลองไอเดียสร้างสรรค์ \n.\nมหาวิทยาลัยขอนแก่น และภาคีเครือข่าย ขอเชิญร่วมงาน “การประชุมวิชาการระดับชาติ ครั้งที่ 3” งานเดียวที่รวมพลังความคิดเพื่อพลิกโฉมสังคมไทย!\n.\n สายวิชาการต้องมา: ร่วมเสวนาและนำเสนอผลงานวิจัย หัวข้อ “นวัตกรรมทางสังคมเพื่อสร้างชุมชนเข้มแข็ง”\n.\n สายครีเอเตอร์ต้องโดน: ประกวดคลิปสั้น “นวัตกรรมชุมชนเข้มแข็ง” ความยาว 3-5 นาที ชิงเงินรางวัลและเกียรติบัตร\n.\n งานนี้รวมตัวจริงเสียงจริง! ทั้งนักวิชาการชั้นนำ และนักพัฒนาระดับประเทศ  เจอกัน 30 มกราคม 2569 ณ อุทยานวิทยาศาสตร์ ม.ขอนแก่น (หรือ Online ผ่าน Zoom)\n.\nเตรียมพบกับการนำเสนอผลงานจากนักวิจัยทั่วประเทศ\nและการระดมความเห็นจากผู้ทรงคุณวุฒิในหลากหลายประเด็นสำคัญ เช่น:\nการกระจายอำนาจและการจัดการตนเองของจังหวัด\nบทบาทของเยาวชนในการสร้างประชาธิปไตย\nกฎหมายและนโยบายเพื่อชุมชนท้องถิ่น\nการขับเคลื่อนสุขภาวะของชุมชน\n.\n สนใจส่วนไหน สแกน QR Code ตามภาพดูรายละเอียดเพิ่มเติมได้เลย! สอบถามรายละเอียดเพิ่มเติม :\nโทร.090-796-5550 คุณจารุวรรณ\nโทร. 099-738-3268 คุณพันธรัตน์\n\n\n#ประชุมวิชาการ69 #มหาวิทยาลัยขอนแก่น #วิจัยสังคม #ประกวดคลิป #พัฒนาชุมชน #กระจายอำนาจ\n.\nสอบถามรายละเอียดเพิ่มเติมได้ที่ : สำนักบริการวิชาการ มหาวิทยาลัยขอนแก่น\n \n\n \n\n 
URL:https://www.kku.ac.th/th/event/%e0%b8%87%e0%b8%b2%e0%b8%99-%e0%b8%81%e0%b8%b2%e0%b8%a3%e0%b8%9b%e0%b8%a3%e0%b8%b0%e0%b8%8a%e0%b8%b8%e0%b8%a1%e0%b8%a7%e0%b8%b4%e0%b8%8a%e0%b8%b2%e0%b8%81%e0%b8%b2%e0%b8%a3%e0%b8%a3%e0%b8%b0/
LOCATION:อุทยานวิทยาศาสตร์ภาคตะวันออกเฉียงเหนือ
CATEGORIES:กิจกรรมนักศึกษา,กิจกรรมนักเรียน,กิจกรรมบุคลากร,ประชุม เสวนา,ประชุมสัมมนา,หลักสูตรระยะสั้น
ATTACH;FMTTYPE=image/jpeg:https://www.kku.ac.th/wp-content/uploads/2026/01/615396206_1510107494451375_7925310888537368836_n.jpg
END:VEVENT
END:VCALENDAR