BEGIN:VCALENDAR
VERSION:2.0
PRODID:-//Khon Kaen University - ECPv6.15.20//NONSGML v1.0//EN
CALSCALE:GREGORIAN
METHOD:PUBLISH
X-WR-CALNAME:Khon Kaen University
X-ORIGINAL-URL:https://www.kku.ac.th
X-WR-CALDESC:Events for Khon Kaen University
REFRESH-INTERVAL;VALUE=DURATION:PT1H
X-Robots-Tag:noindex
X-PUBLISHED-TTL:PT1H
BEGIN:VTIMEZONE
TZID:Asia/Bangkok
BEGIN:STANDARD
TZOFFSETFROM:+0700
TZOFFSETTO:+0700
TZNAME:+07
DTSTART:20250101T000000
END:STANDARD
END:VTIMEZONE
BEGIN:VEVENT
DTSTART;TZID=Asia/Bangkok:20260307T083000
DTEND;TZID=Asia/Bangkok:20260307T163000
DTSTAMP:20260423T144002
CREATED:20260302T034206Z
LAST-MODIFIED:20260302T034206Z
UID:276411-1772872200-1772901000@www.kku.ac.th
SUMMARY:สัมมนาด้านวิจัยวัฒนธรรม ศิลปกรรมและการออกแบบ ในหัวข้อ "The Art of Living with Algorithms ศิลปะแห่งการใช้ชีวิต เมื่ออัลกอริทึมกลายเป็นส่วนหนึ่งของวัฒนธรรม"
DESCRIPTION:ขอเชิญผู้ที่มีความสนใจเข้าร่วมฟังสัมมนาด้านวิจัยวัฒนธรรม ศิลปกรรมและการออกแบบ  \nในหัวข้อ “The Art of Living with Algorithms ศิลปะแห่งการใช้ชีวิต เมื่ออัลกอริทึมกลายเป็นส่วนหนึ่งของวัฒนธรรม”\nมาร่วมเปิดมุมมองใหม่ เพื่อปรับตัวรับมือกับโลกดิจิทัลไปด้วยกัน พบกับวิทยากร\nคุณพิเชษฐ กลั่นชื่น\nศิลปินรางวัลศิลปาธร สาขาศิลปะการแสดง ปี พ.ศ.2549 ผู้นำเอานาฏศิลป์ไทยมาร่ายรำร่วมกับเทคโนโลยี\nผศ.ดร.เด่นพงษ์ สุดภักดี\nรองอธิการบดีฝ่ายการศึกษาและดิจิทัลมหาวิทยาลัยขอนแก่น เป็นผู้เชี่ยวชาญด้านวิศวกรรมและการประยุกต์ใช้เทคโนโลยีการศึกษาและ AI\nคุณธีรวัฒน์ เจียงคำ\nศิลปินและนักสร้างสรรค์นาฏยศิลป์อีสานพื้นบ้าน ผู้นิยามตัวเองว่าเป็นศิลปินธรรมดาจากบ้านขามเรียง\nพิเศษกับผู้ดำเนินรายการ ผศ.ดร.พชญ อัคพราหมณ์ รองคณบดีฝ่านวิจัย นวัตกรรม และศิลปวัฒนธรรม คณะศิลปกรรมศาสตร์ มหาวิทยาลัยขอนแก่น\nในวันเสาร์ที่ 7 มีนาคม พ.ศ. 2569\nเวลา: 08:30 – 16:30 น.\nณ โรงละคร คณะศิลปกรรมศาสตร์ มหาวิทยาลัยขอนแก่น\nสามารถลงชื่อเข้าร่วมกิจกรรมตามลิงก์นี้\nhttps://kku.world/tjr456\n\nติดตามรายละเอียดเพิ่มเติมได้ที่เพจ The Art of Living With Algorithms https://kku.world/272k1c
URL:https://www.kku.ac.th/th/event/%e0%b8%aa%e0%b8%b1%e0%b8%a1%e0%b8%a1%e0%b8%99%e0%b8%b2%e0%b8%94%e0%b9%89%e0%b8%b2%e0%b8%99%e0%b8%a7%e0%b8%b4%e0%b8%88%e0%b8%b1%e0%b8%a2%e0%b8%a7%e0%b8%b1%e0%b8%92%e0%b8%99%e0%b8%98%e0%b8%a3%e0%b8%a3/
LOCATION:คณะศิลปกรรมศาสตร์
CATEGORIES:กิจกรรมนักศึกษา,กิจกรรมนักเรียน,กิจกรรมบุคลากร,ประชุม เสวนา,ประชุมสัมมนา,หลักสูตรอบรม
ATTACH;FMTTYPE=image/jpeg:https://www.kku.ac.th/wp-content/uploads/2026/03/641371281_905283642298274_6080031400152391957_n.jpg
END:VEVENT
BEGIN:VEVENT
DTSTART;TZID=Asia/Bangkok:20260313T080000
DTEND;TZID=Asia/Bangkok:20260313T090000
DTSTAMP:20260423T144002
CREATED:20260302T040757Z
LAST-MODIFIED:20260302T040850Z
UID:276465-1773388800-1773392400@www.kku.ac.th
SUMMARY:การสัมมนาวิชาการออนไลน์ เรื่อง Obstructive sleep apnea in children with craniofacial deformities
DESCRIPTION:craniofacial deformities\nคลินิกบูรณาการในการดูแลผู้ป่วยปากแหว่ง เพดานโหว่ และความพิการแต่กำเนิดของศีรษะและใบหน้า มหาวิทยาลัยขอนแก่น โดย ศูนย์การดูแลผู้ป่วยปากแหว่ง เพดานโหว่ และความพิการแต่กำเนิดของศีรษะและใบหน้า มหาวิทยาลัยขอนแก่น ภายใต้ความร่วมมือระหว่างคณะแพทยศาสตร์ และคณะทันตแพทยศาสตร์\nขอเชิญท่านเข้าร่วมรับฟังการสัมมนาวิชาการออนไลน์ เรื่อง Obstructive sleep apnea in children with craniofacial deformities\nในวันศุกร์ที่ 13 มีนาคม 2569 เวลา 08.00-09.00 น. ผ่านโปรแกรม ZOOM Meeting\nวิทยากร: ผศ.พญ.สุภวรรณ เลาหศิริวงศ์ สาขาวิชาโสต ศอ นาสิกวิทยา คณะแพทยศาสตร์ มหาวิทยาลัยขอนแก่น\nZoom Meeting\nhttps://kku-th.zoom.us/j/92448904240…\nMeeting ID: 924 4890 4240\nPasscode: 338121\n\n\n#โรงเรียนทันตแพทย์ที่ดีที่สุดสำหรับทุกคน #DENTKKU #KKU\n\n\n 
URL:https://www.kku.ac.th/th/event/%e0%b8%81%e0%b8%b2%e0%b8%a3%e0%b8%aa%e0%b8%b1%e0%b8%a1%e0%b8%a1%e0%b8%99%e0%b8%b2%e0%b8%a7%e0%b8%b4%e0%b8%8a%e0%b8%b2%e0%b8%81%e0%b8%b2%e0%b8%a3%e0%b8%ad%e0%b8%ad%e0%b8%99%e0%b9%84%e0%b8%a5%e0%b8%99/
LOCATION:Faculty of Dentistry\, Khon Kaen University\, 123 ถนน มิตรภาพ ในเมือง อ อำเภอเมืองขอนแก่น ขอนแก่น 40002\, Mueang Khon Kaen District\, KhonKaen\, 40002\, Thailand
CATEGORIES:กิจกรรมนักศึกษา,กิจกรรมนักเรียน,ประชุมสัมมนา,หลักสูตรอบรม,อาจารย์
ATTACH;FMTTYPE=image/jpeg:https://www.kku.ac.th/wp-content/uploads/2026/03/642285835_1404711634783738_1360727719400918443_n.jpg
END:VEVENT
BEGIN:VEVENT
DTSTART;TZID=Asia/Bangkok:20260325T123000
DTEND;TZID=Asia/Bangkok:20260325T170000
DTSTAMP:20260423T144002
CREATED:20260318T063909Z
LAST-MODIFIED:20260318T064532Z
UID:280105-1774441800-1774458000@www.kku.ac.th
SUMMARY:งาน KKU DEMO DAY ครั้งที่ 4 (#2/2026)
DESCRIPTION:กลับมาแล้ว! งาน KKU DEMO DAY ครั้งที่ 4 (#2/2026)\nปลดล็อกอนาคตแห่งสุขภาพกับโอกาสต่อยอดนวัตกรรมสู่ธุรกิจ\nการนำเสนอผลงานวิจัยที่โดดเด่นของมหาวิทยาลัยขอนแก่น พร้อมต่อยอดสู่เชิงพาณิชย์\nในแนวคิด “Vital Longevity Innovation นวัตกรรมสำหรับสุขภาพและชีวิตที่ยืนยาว\nโดยความร่วมมือระหว่าง KKU Enterprise และศูนย์นวัตกรรมและการวิจัยมิตรผลขอนแก่น \n\n\n ไฮไลท์งานวิจัย\n• แครกเกอร์ปราศจากกลูเตน เสริมผงจิ้งหรีด\n• ผลิตภัณฑ์เวย์โปรตีนที่มีส่วนผสมของโพรไบโอติก\n• สูตรนมผงข้าวเหนียวดำฮางงอก\n• ถั่วเหลืองผักแพ้ว\n• ชีสฟักทอง\n• Health AI (AI ประเมินอายุร่างกายและอวัยวะ)\n• บริการตรวจวัดความยาว Telomere (ตรวจวัดความชราของเซลล์ร่างกาย)\n• บริการเซลล์บำบัดรักษา (ซ่อมแซมและฟื้นฟูเซลล์ในร่างกาย)\n• บริการตรวจวิเคราะห์สารพันธุกรรมเชิงลึก (GeneWise)\n• บริการตรวจเพื่อบ่งชี้สุขภาพเมแทบอลิซึม (Metabolic Phenotyping)\n\n\n วันที่ : 25 มีนาคม 2569\n เวลา : 12.30 – 17.00 น.\n สถานที่ : ศูนย์นวัตกรรมและการวิจัยมิตรผล (ศูนย์ขอนแก่น) ชั้น 9 อาคารขอนแก่นอินโนเวชั่น เซ็นเตอร์ (KIC)\n\n\n ลงทะเบียนผ่าน QR CODE\n หรือคลิก : https://forms.gle/21qtzdHbMku5tHQ56\n สอบถามเพิ่มเติม : 095-636-4474 (คุณกอล์ฟ)
URL:https://www.kku.ac.th/th/event/%e0%b8%87%e0%b8%b2%e0%b8%99-kku-demo-day-%e0%b8%84%e0%b8%a3%e0%b8%b1%e0%b9%89%e0%b8%87%e0%b8%97%e0%b8%b5%e0%b9%88-4-2-2026/
LOCATION:Khon Kaen Innovation Center (KIC) : ขอนแก่น อินโนเวชั่น เซ็นเตอร์\, 999 ถนน ไก่ย่าง Tambon Nai Mueang\, Mueang Khon Kaen District\, Khon Kaen 40000\, Mueang Khon Kaen District\, Khon Kaen\, 40000\, Thailand
CATEGORIES:Non degree education,กิจกรรมนักศึกษา,กิจกรรมนักเรียน,กิจกรรมบุคลากร,ประชุม เสวนา,ประชุมสัมมนา,สิ่งแวดล้อม,สุขภาพ,หลักสูตรอบรม
ATTACH;FMTTYPE=image/jpeg:https://www.kku.ac.th/wp-content/uploads/2026/03/652268795_1374717764691241_3977238689181716763_n.jpg
ORGANIZER;CN="%E0%B8%A8%E0%B8%B9%E0%B8%99%E0%B8%A2%E0%B9%8C%E0%B8%AD%E0%B8%B3%E0%B8%99%E0%B8%A7%E0%B8%A2%E0%B8%81%E0%B8%B2%E0%B8%A3%E0%B9%83%E0%B8%99%E0%B8%81%E0%B8%B2%E0%B8%A3%E0%B8%9A%E0%B8%A3%E0%B8%B4%E0%B8%AB%E0%B8%B2%E0%B8%A3%E0%B8%88%E0%B8%B1%E0%B8%94%E0%B8%81%E0%B8%B2%E0%B8%A3%E0%B8%81%E0%B8%B2%E0%B8%A3%E0%B8%99%E0%B8%B3%E0%B8%9C%E0%B8%A5%E0%B8%B4%E0%B8%95%E0%B8%A0%E0%B8%B1%E0%B8%93%E0%B8%91%E0%B9%8C (KKU Enterprise)":MAILTO:kkuenterprise@gmail.com
END:VEVENT
BEGIN:VEVENT
DTSTART;TZID=Asia/Bangkok:20260327T130000
DTEND;TZID=Asia/Bangkok:20260327T170000
DTSTAMP:20260423T144002
CREATED:20260327T043948Z
LAST-MODIFIED:20260327T043948Z
UID:281666-1774616400-1774630800@www.kku.ac.th
SUMMARY:การประชุมใหญ่สามัญกองทุนสำรองเลี้ยงชีพ ประจำปี 2569 เรื่อง การลงทุน และแนวทางการบริหารเงินออมเพื่ออนาคตของสมาชิก
DESCRIPTION:ขอเชิญร่วม การประชุมใหญ่สามัญประจำปี 2569 \nโอกาสสำคัญในการรับฟังผลการดำเนินงานของกองทุน  \nอัปเดตข้อมูลการลงทุน และแนวทางการบริหารเงินออมเพื่ออนาคตของสมาชิก \n\n📅 วันศุกร์ที่ 27 มีนาคม 2569\n⏰ เวลา 13.30 น. เป็นต้นไป\n📍 ห้องประชุม 108 ชั้น 1 วิทยาลัยการปกครองท้องถิ่น และผ่านระบบออนไลน์ \nZoom meeting Meeting ID: 982 3517 0640 \nPasscode: KKUPVD \n\n🎁 ร่วมลุ้นรับของรางวัลจาก บลจ.กสิกรไทย มากกว่า 40 รางวัล\n👉 ลงทะเบียนเข้าร่วมได้ที่ QR Code ในภาพ หรือ https://kku.world/5xpa0e
URL:https://www.kku.ac.th/th/event/%e0%b8%81%e0%b8%b2%e0%b8%a3%e0%b8%9b%e0%b8%a3%e0%b8%b0%e0%b8%8a%e0%b8%b8%e0%b8%a1%e0%b9%83%e0%b8%ab%e0%b8%8d%e0%b9%88%e0%b8%aa%e0%b8%b2%e0%b8%a1%e0%b8%b1%e0%b8%8d%e0%b8%81%e0%b8%ad%e0%b8%87%e0%b8%97/
LOCATION:วิทยาลัยการปกครองท้องถิ่น\, 123 Thanon Mittraphap\, Nai Mueang\, Mueang Khon Kaen District\, Khon Kaen 40002\, Mueang Khon Kaen District\, 40002
CATEGORIES:การบรรยายพิเศษ,ประชุม เสวนา,ประชุมสัมมนา
ATTACH;FMTTYPE=image/jpeg:https://www.kku.ac.th/wp-content/uploads/2026/03/โปสเตอร์ประชุมใหญ่-69.jpg
END:VEVENT
BEGIN:VEVENT
DTSTART;VALUE=DATE:20260331
DTEND;VALUE=DATE:20260403
DTSTAMP:20260423T144002
CREATED:20260327T024640Z
LAST-MODIFIED:20260327T024850Z
UID:281612-1774915200-1775174399@www.kku.ac.th
SUMMARY: โครงการแลกเปลี่ยนเรียนรู้  เรื่อง “การใช้งานระบบ SROI KKU Platform และการใช้ Sustainability Keywords และ Key Phrases สำหรับงานวิจัย SDGs”
DESCRIPTION:ฝ่ายวิสาหกิจและสังคมยั่งยืน มหาวิทยาลัยขอนแก่น ขอเรียนเชิญท่านเข้าร่วม โครงการแลกเปลี่ยนเรียนรู้ \nเรื่อง “การใช้งานระบบ SROI KKU Platform และการใช้ Sustainability Keywords และ Key Phrases สำหรับงานวิจัย SDGs” \nเพื่อสนับสนุนการขับเคลื่อนยุทธศาสตร์มหาวิทยาลัยด้านการสร้างคุณค่าต่อสังคม (Societal Contributions) และการบรรลุเป้าหมายการพัฒนาที่ยั่งยืน (SDGs) อย่างเป็นรูปธรรมและวัดผลได้จริง \n สิ่งที่ท่านจะได้รับ \n เสริมศักยภาพในการกำกับ ติดตาม และประเมิน “ผลลัพธ์และผลกระทบเชิงสังคม (SROI)” อย่างเป็นระบบ \n เรียนรู้แนวทางการใช้ SROI KKU Platform เพื่อสนับสนุนการขอทุนวิจัยและบริการวิชาการ \n เทคนิคการเลือกใช้ Sustainability Keywords & Key Phrases อย่างตรงเป้าหมาย เพื่อเพิ่มการมองเห็นผลงานในระดับสากล \n แนวทางเชื่อมโยง “งานวิจัย → Impact → SDGs” อย่างเป็นรูปธรรม \n แลกเปลี่ยนประสบการณ์และมุมมองกับผู้บริหาร คณาจารย์ นักวิจัย และผู้ปฏิบัติงานจริงภายในมหาวิทยาลัย \nโครงการนี้เป็นเวที Knowledge Sharing ที่มุ่งเน้นการแลกเปลี่ยนองค์ความรู้ แนวปฏิบัติ และมุมมองเชิงนโยบาย เพื่อการนำไปประยุกต์ใช้ได้จริงทั้งในระดับส่วนงานและระดับมหาวิทยาลัย \n วิทยากรโดย ศ.ดร.ธิดารัตน์ บุญมาศ รองอธิการบดีฝ่ายวิสาหกิจและสังคมยั่งยืน มหาวิทยาลัยขอนแก่น \n กำหนดการ วันที่ 31 มีนาคม และ 2 เมษายน 2569 (รวม 4 รอบ) \n ณ พื้นที่คณะต่าง ๆ ภายในมหาวิทยาลัย เพื่อความสะดวกในการเข้าร่วม  \n วันอังคารที่ 31 มีนาคม 2569 \n• รอบที่ 1 | 09.30 – 10.30 น. \n ห้องบรรยาย 3 คณะแพทยศาสตร์ \n• รอบที่ 2 | 13.30 – 14.30 น. \n ห้องประชุม 1101 คณะศึกษาศาสตร์ \n วันพฤหัสบดีที่ 2 เมษายน 2569 \n• รอบที่ 3 | 09.30 – 10.30 น. \n ห้องประชุมสัมมนา 1 คณะวิศวกรรมศาสตร์ \n• รอบที่ 4 | 13.30 – 14.30 น. \n ห้องประชุม วิทยาลัยการปกครองส่วนท้องถิ่น \n ลงทะเบียนเข้าร่วมฟรี! ผ่าน QR Code  \n รับจำนวนจำกัดเพียง 150 คน / รอบ  \n เปิดรับสมัครตั้งแต่วันนี้ – 27 มีนาคม 2569 \nขอเชิญท่านร่วมเป็นส่วนหนึ่งของการขับเคลื่อนมหาวิทยาลัยสู่ “การเป็นองค์กรที่สร้างคุณค่าเชิงสังคมอย่างยั่งยืน” \n สอบถามเพิ่มเติม \nคุณศศิวิมล บุญมาก \n 065-272-6244 (ภายใน 50832) \n sasibo@kku.ac.th \n Facebook: ฝ่ายวิสาหกิจและสังคมยั่งยืน มหาวิทยาลัยขอนแก่น
URL:https://www.kku.ac.th/th/event/%e0%b9%82%e0%b8%84%e0%b8%a3%e0%b8%87%e0%b8%81%e0%b8%b2%e0%b8%a3%e0%b9%81%e0%b8%a5%e0%b8%81%e0%b9%80%e0%b8%9b%e0%b8%a5%e0%b8%b5%e0%b9%88%e0%b8%a2%e0%b8%99%e0%b9%80%e0%b8%a3%e0%b8%b5%e0%b8%a2/
LOCATION:มหาวิทยาลัยขอนแก่น\, 123 ถนนมิตรภาพ Tambon Nai Mueang\, Mueang Khon Kaen District\, Khon Kaen 40002\, Mueang Khon Kaen District\, KhonKaen\, 40002\, Thailand
CATEGORIES:การบรรยายพิเศษ,งานวิจัย,ช่วยเหลือสังคม,ประชุม เสวนา,ประชุมสัมมนา,หลักสูตรอบรม
ATTACH;FMTTYPE=image/png:https://www.kku.ac.th/wp-content/uploads/2026/03/SROI-KKU-Platform.png
ORGANIZER;CN="%E0%B8%9D%E0%B9%88%E0%B8%B2%E0%B8%A2%E0%B8%99%E0%B8%A7%E0%B8%B1%E0%B8%95%E0%B8%81%E0%B8%A3%E0%B8%A3%E0%B8%A1%E0%B9%81%E0%B8%A5%E0%B8%B0%E0%B8%A7%E0%B8%B4%E0%B8%AA%E0%B8%B2%E0%B8%AB%E0%B8%81%E0%B8%B4%E0%B8%88 %E0%B8%AA%E0%B8%B3%E0%B8%99%E0%B8%B1%E0%B8%81%E0%B8%87%E0%B8%B2%E0%B8%99%E0%B8%AD%E0%B8%98%E0%B8%B4%E0%B8%81%E0%B8%B2%E0%B8%A3%E0%B8%9A%E0%B8%94%E0%B8%B5":MAILTO:kku.innoprise@gmail.com
END:VEVENT
END:VCALENDAR