BEGIN:VCALENDAR
VERSION:2.0
PRODID:-//Khon Kaen University - ECPv6.15.20//NONSGML v1.0//EN
CALSCALE:GREGORIAN
METHOD:PUBLISH
X-WR-CALNAME:Khon Kaen University
X-ORIGINAL-URL:https://www.kku.ac.th
X-WR-CALDESC:Events for Khon Kaen University
REFRESH-INTERVAL;VALUE=DURATION:PT1H
X-Robots-Tag:noindex
X-PUBLISHED-TTL:PT1H
BEGIN:VTIMEZONE
TZID:Asia/Bangkok
BEGIN:STANDARD
TZOFFSETFROM:+0700
TZOFFSETTO:+0700
TZNAME:+07
DTSTART:20230101T000000
END:STANDARD
END:VTIMEZONE
BEGIN:VEVENT
DTSTART;VALUE=DATE:20240731
DTEND;VALUE=DATE:20240916
DTSTAMP:20260424T212406
CREATED:20240731T035144Z
LAST-MODIFIED:20240731T035144Z
UID:193249-1722384000-1726444799@www.kku.ac.th
SUMMARY:รับสมัครการประกวดวงดนตรีร่วมสมัย ภายใต้แนวคิด "New Isan" ในงานสีฐานเฟสติวัล 2567 ชิงเงินรางวัลรวมกว่า 230\,000 บาท พร้อมถ้วยเกียรติยศ
DESCRIPTION:ประกาศเกณฑ์การประกวดวงดนตรีร่วมสมัย\nภายใต้แนวคิด “New Isan” ในงานสีฐานเฟสติวัล 2567\n.\nKKU MUSIC AWARDS 2024 ครั้งที 2\nเปิดรับสมัครแล้วตั้งแต่บัดนี้ ถึง 15 กันยายน 2567\n(นักเรียนระดับมัธยมศึกษา หรือ นักศึกษาระดับอุดมศึกษาในพื้นที่ภาคอีสาน)\n\n\nสามารถสมัครได้ที่ >>\nhttps://kku.world/kkuawreg2024\n\n\nหลักเกณฑ์การประกวด \nhttps://kku.world/kkuewsan2024\n.\nชิงเงินรางวัลรวมกว่า 230\,000 บาท พร้อมถ้วยเกียรติยศ\nติดต่อสอบถามรายละเอียดเพิ่มเติม\n099 167 4664 คุณอนุศรา คำงาม
URL:https://www.kku.ac.th/th/event/%e0%b8%a3%e0%b8%b1%e0%b8%9a%e0%b8%aa%e0%b8%a1%e0%b8%b1%e0%b8%84%e0%b8%a3%e0%b8%81%e0%b8%b2%e0%b8%a3%e0%b8%9b%e0%b8%a3%e0%b8%b0%e0%b8%81%e0%b8%a7%e0%b8%94%e0%b8%a7%e0%b8%87%e0%b8%94%e0%b8%99%e0%b8%95/
LOCATION:คุ้มศิลปวัฒนธรรม (ริมบึงสีฐาน) มหาวิทยาลัยขอนแก่น\, CRW7+43 Khon Kaen\, Mueang Khon Kaen District\, Khon Kaen\, Thailand\, Mueang Khon Kaen District\, Khon Kaen\, 40002\, Thailand
CATEGORIES:Non degree education,กิจกรรมนักศึกษา,ศิลปวัฒนธรรม ท่องเที่ยว บันเทิง
ATTACH;FMTTYPE=image/jpeg:https://www.kku.ac.th/wp-content/uploads/2024/07/453164199_947018567228613_2080618680326801460_n.jpg
END:VEVENT
BEGIN:VEVENT
DTSTART;TZID=Asia/Bangkok:20240810T160000
DTEND;TZID=Asia/Bangkok:20240810T180000
DTSTAMP:20260424T212406
CREATED:20240808T035250Z
LAST-MODIFIED:20240808T035250Z
UID:194377-1723305600-1723312800@www.kku.ac.th
SUMMARY:กิจกรรมเสวนา “เส้นทางสู่อาชีพในอุตสาหกรรมภาพยนตร์และซีรีส์ไทย”
DESCRIPTION:ขอเชิญผู้ที่สนใจเข้าร่วมกิจกรรมเสวนา “เส้นทางสู่อาชีพในอุตสาหกรรมภาพยนตร์และซีรีส์ไทย” \nถอดบทเรียนความสำเร็จภาพยนตร์และซีรีส์ไทยกลุ่มตลาดคนอีสาน.ณ FA Theater @ KKU โรงละครคณะศิลปกรรมศาสตร์ ม.ขอนแก่น  \nวันเสาร์ที่ 10 สิงหาคม 2567 เวลา 16.00 – 18.00 น. และถ่ายทอดสดผ่าน FB LIVE ทางเพจ Content Lab (เพจเครือข่าย)
URL:https://www.kku.ac.th/th/event/%e0%b8%81%e0%b8%b4%e0%b8%88%e0%b8%81%e0%b8%a3%e0%b8%a3%e0%b8%a1%e0%b9%80%e0%b8%aa%e0%b8%a7%e0%b8%99%e0%b8%b2-%e0%b9%80%e0%b8%aa%e0%b9%89%e0%b8%99%e0%b8%97%e0%b8%b2%e0%b8%87%e0%b8%aa%e0%b8%b9/
LOCATION:คณะศิลปกรรมศาสตร์
CATEGORIES:Non degree education,กิจกรรมนักศึกษา,กิจกรรมบุคลากร,ศิลปวัฒนธรรม ท่องเที่ยว บันเทิง
ATTACH;FMTTYPE=image/jpeg:https://www.kku.ac.th/wp-content/uploads/2024/08/cd3bf770-971a-447e-91d4-e3316c017a9a.jpg
END:VEVENT
BEGIN:VEVENT
DTSTART;TZID=Asia/Bangkok:20240814T080000
DTEND;TZID=Asia/Bangkok:20240814T110000
DTSTAMP:20260424T212406
CREATED:20240808T035807Z
LAST-MODIFIED:20240808T035807Z
UID:194380-1723622400-1723633200@www.kku.ac.th
SUMMARY:โครงการดำนาสร้างสรรค์ ปั้นฝันเกษตรกรรุ่นใหม่
DESCRIPTION:โครงการดำนาสร้างสรรค์ ปั้นฝันเกษตรกรรุ่นใหม่ \nณ แปลงนา อุทยานเทคโนโลยีเกษตร คณะเกษตรศาสตร์ มหาวิทยาลัยขอนแก่น \nในวันพุธที่ 14 สิงหาคม 2567 เวลา 8.00-11.00 น. \n\n\n\n08.00 – 08.30 น. (30 นาที) \n– ลงทะเบียนผู้เข้าร่วมโครงการ \n– รับอาหารว่างและเครื่องดื่ม \n08.30 – 08.45 น. (15 นาที) \n– พิธีเปิดโครงการ \n* กล่าวรายงานโดยประธานโครงการฯ \n* กล่าวเปิดงานโดยคณบดีคณะเกษตรศาสตร์ รศ.ดร.ดรุณี โชติษฐยางกูร \n08.45 – 09.00 น. (15 นาที) \n– ปฐมนิเทศและแนะนำโครงการ \n– แบ่งกลุ่มผู้เข้าร่วม \n09.00 – 11.00 น. (120 นาที) \n– แบ่ง 3 ชุด [1 ชุดมี 4 กลุ่มๆ ละ 40-50 คน] เวียนกันเข้า แปลงนาละ 4 จุด \n– กิจกรรมฐานดำนา \n– พิธีปิด
URL:https://www.kku.ac.th/th/event/%e0%b9%82%e0%b8%84%e0%b8%a3%e0%b8%87%e0%b8%81%e0%b8%b2%e0%b8%a3%e0%b8%94%e0%b8%b3%e0%b8%99%e0%b8%b2%e0%b8%aa%e0%b8%a3%e0%b9%89%e0%b8%b2%e0%b8%87%e0%b8%aa%e0%b8%a3%e0%b8%a3%e0%b8%84%e0%b9%8c-%e0%b8%9b/
LOCATION:คณะเกษตรศาสตร์ มหาวิทยาลัยขอนแก่น
CATEGORIES:Non degree education,กิจกรรมนักศึกษา,กิจกรรมบุคลากร,ศิลปวัฒนธรรม ท่องเที่ยว บันเทิง,หลักสูตรระยะสั้น
ATTACH;FMTTYPE=image/jpeg:https://www.kku.ac.th/wp-content/uploads/2024/08/โครงการดำนาสร้างสรรค์-ปั้นฝันเกษตรกรรุ่น.jpg
END:VEVENT
BEGIN:VEVENT
DTSTART;TZID=Asia/Bangkok:20240814T130000
DTEND;TZID=Asia/Bangkok:20240814T150000
DTSTAMP:20260424T212406
CREATED:20240813T043553Z
LAST-MODIFIED:20240814T050117Z
UID:194786-1723640400-1723647600@www.kku.ac.th
SUMMARY:แถลงข่าว HOPE for Health ❤️ "มหกรรมคอนเสิร์ตการกุศล"
DESCRIPTION:แถลงข่าว HOPE for Health ❤️ “มหกรรมคอนเสิร์ตการกุศล” \nในวันที่ 14 สิงหาคม2567 เวลา 13.00-15.00 น.  ณ ห้องประชุมสารสิน อาคารสิริคุณากร มหาวิทยาลัยขอนแก่น\n \n\n\n\nเวลา 12.30  – 13.00 น.\nลงทะเบียนสื่อมวลชน และผู้ร่วมงาน\n\n\nเวลา 13.00 – 14.00 น.\n  กล่าวต้อนรับ และกล่าวถึงความเป็นมาของการจัดงาน  \nโดย    อธิการบดีมหาวิทยาลัยขอนแก่น \nความร่วมมือระหว่างชมรมหมอลำเรื่องต่อกลอนกับมหาวิทยาลัยขอนแก่น  \nโดย ประธานชมรมหมอลำเรื่องต่อกลอน \nการจัดงานคอนเสิร์ต  HOPE for Health ❤️“มหกรรมคอนเสิร์ตการกุศล“เพื่อผู้ป่วยโรคหลอดเลือดในสมอง  \nโดย รศ.นพ.ภัทรพงษ์ มกรเวส คณบดีคณะแพทยศาสตร์ มหาวิทยาลัยขอนแก่น \nความพร้อมของการแสดงจากวงหมอลำ  \nโดย บอยศิริชัย หมอลำใจเกินร้อย\n\n\nเวลา 14.00  – 15.00  น.\nสื่อมวลชนสอบถามข้อมูลเพิ่มเติม \nเสร็จพิธี\n\n\n\n 
URL:https://www.kku.ac.th/th/event/%e0%b9%81%e0%b8%96%e0%b8%a5%e0%b8%87%e0%b8%82%e0%b9%88%e0%b8%b2%e0%b8%a7-hope-for-health-%e2%9d%a4%ef%b8%8f-%e0%b8%a1%e0%b8%ab%e0%b8%81%e0%b8%a3%e0%b8%a3%e0%b8%a1%e0%b8%84%e0%b8%ad%e0%b8%99%e0%b9%80/
LOCATION:ห้องประชุมสารสิน อาคารสิริคุณากร ชั้น 2 มหาวิทยาลัยขอนแก่น\, khonkaen\, Thailand
CATEGORIES:Non degree education,พิธีลงนามความร่วมมือ,ศิลปวัฒนธรรม ท่องเที่ยว บันเทิง,สุขภาพ
ATTACH;FMTTYPE=image/jpeg:https://www.kku.ac.th/wp-content/uploads/2024/08/S__11288730.jpg
END:VEVENT
BEGIN:VEVENT
DTSTART;TZID=Asia/Bangkok:20240817T093000
DTEND;TZID=Asia/Bangkok:20240817T163000
DTSTAMP:20260424T212406
CREATED:20240816T023110Z
LAST-MODIFIED:20240816T023110Z
UID:195094-1723887000-1723912200@www.kku.ac.th
SUMMARY:กิจกรรม Family Day เรียนรู้ ทดลอง ลงมือทำ ภาพพิมพ์ปลาสไตล์ญี่ปุ่น GYOTAKU (เกียวทาคุ)
DESCRIPTION:กลับมาแล้วกิจกรรม Family Day ✨✨\n#GYOTAKU 🐟🎏🐙🖊️\nเรียนรู้ ทดลอง ลงมือทำ ภาพพิมพ์ปลาสไตล์ญี่ปุ่น\nGYOTAKU (เกียวทาคุ) เป็นศาสตร์และศิลป์ที่มาบรรจบกัน การทำภาพพิมพ์หมึกแบบธรรมชาติโดยใช้ปลาที่เพิ่งตายใหม่ ๆ ทาหมึกดำ \nและพิมพ์ตัวปลาลงบนกระดาษ ศิลปะลักษณะนี้เป็นวิธีการพิมพ์แบบดั้งเดิมของญี่ปุ่นมาตั้งแต่ช่วง ศตวรรษที่ 19 หรือยุคเอโดะ\n🗓️ วันเสาร์ที่ 17 สิงหาคม 2567\n⏰ 9.30 – 16.30 น.\n📍 พิพิธภัณฑ์ธรรมชาติวิทยา มข.\nค่าลงทะเบียนกิจกรรม 380 บาท/ท่าน\nราคานี้รวม อุปกรณ์เวิร์คช็อป / อาหารกลางวัน / อาหารว่าง\n✨ สิ่งที่ท่านจะได้รับ ✨\nเข้าใจประวัติที่มาของเทคนิคภาพพิมพ์\nกระบวนการใช้ความคิดสร้างสรรค์ศิลปะ\nผลงานจากการสร้างสรรค์ของตนเอง\nสมัครได้แล้วตั้งแต่วันนี้ – 16 สิงหาคม 2567\nรับสมัครเพียง 50 ท่านเท่านั้น !\nสอบถามรายละเอียดเพิ่มเติมติดต่อ 094-512-9458 / 094-278-4222 หรือ Inbox\nคลิก Link ในคอมเมนต์ 🖱️
URL:https://www.kku.ac.th/th/event/%e0%b8%81%e0%b8%b4%e0%b8%88%e0%b8%81%e0%b8%a3%e0%b8%a3%e0%b8%a1-family-day-%e0%b9%80%e0%b8%a3%e0%b8%b5%e0%b8%a2%e0%b8%99%e0%b8%a3%e0%b8%b9%e0%b9%89-%e0%b8%97%e0%b8%94%e0%b8%a5%e0%b8%ad%e0%b8%87/
LOCATION:ศูนย์พิพิธภัณฑ์และแหล่งเรียนรู้ตลอดชีวิต มหาวิทยาลัยขอนแก่น\, 123 ถนน มิตรภาพ Tambon Sila\, Mueang Khon Kaen District\, Khon Kaen 40002\, Mueang Khon Kaen District\, 40002
CATEGORIES:Non degree education,ศิลปวัฒนธรรม ท่องเที่ยว บันเทิง
ATTACH;FMTTYPE=image/jpeg:https://www.kku.ac.th/wp-content/uploads/2024/08/454952345_1019346463528731_2043368268028570707_n.jpg
END:VEVENT
BEGIN:VEVENT
DTSTART;VALUE=DATE:20240818
DTEND;VALUE=DATE:20240820
DTSTAMP:20260424T212406
CREATED:20240814T091832Z
LAST-MODIFIED:20240814T091832Z
UID:194950-1723939200-1724111999@www.kku.ac.th
SUMMARY:กิจกรรม “The Food Treasure ” ในงาน KKU OPEN HOUSE x SCIENCE WEEK 2024
DESCRIPTION:ชุมนุมนักศึกษาสาขาวิชาเทคโนโลยีการอาหาร (ชนอ.) x สาขาเทคโนโลยีการอาหาร มหาวิทยาลัยขอนแก่น (FOOD TECH KKU)\n ขอเชิญชวนคณาจารย์และบุคลากรทุกท่านเข้าร่วมกิจกรรม “The Food Treasure ”\n\n\nในงาน KKU OPEN HOUSE x SCIENCE WEEK 2024\nเปิดบ้าน เปิดกระป๋อง x สัปดาห์วันวิทยาศาสตร์และ เทคโนโลยี ปี 2567\n ในวันที่ 18 – 19 สิงหาคม 2567\n 9.00 – 16.00 น.\nณ ตึก TE04 (Processing) คณะเทคโนโลยี\n>> https://maps.app.goo.gl/mPbeacQu4LjHtaZb8…\n\n\nในวันงานพวกเราจะมาเปิดบ้านเปิดกระป๋องและเปิดโลก  ใหม่ให้กับน้องๆ นักเรียนและผู้สนใจ ซึ่งภายในงาน จะได้พบกับกิจกรรมหลากหลายที่เชื่อมโยงระหว่างวิทยาศาสตร์และเทคโนโลยีในอาหารต่างๆที่เกี่ยวกับชีวิตประจำวันที่เราอาจจะไม่เคยรู้กันมาก่อน แถมยังมีโอกาสทำความรู้จักกับสาขา Food Tech ของเราอีกด้วย รวมไปถึงบรรยากาศการเรียนการสอนในสาขานี้แบบหมดเปลือก \n\n\nแต่..แต่ยังไม่พอแค่นี้เพราะเรายังมีบูธกิจกรรมที่น่าสนใจให้ร่วมสนุก พร้อมของรางวัลที่จะมอบให้ผู้เข้าร่วมงาน งานนี้เป็นโอกาสดีที่จะได้เรียนรู้และสำรวจโลกของอาหารในมุมมองที่แตกต่างออกจากที่พบเห็น\n\n\n กิจกรรม Highlight \n1. “The Food Treasure : ตามล่ามหาขุมทรัพย์ Food Badge “\nเข้าฐานกิจกรรมพิชิตภารกิจต่างๆ เพื่อเก็บเหรียญ Food Badge \nสะสมครบ 3/4 ฐาน รับรางวัลกล่องสุ่มได้ทันที\nฐานที่ 1: Food Microbiology ภารกิจนับโคโลนีและส่องกล้องตรวจเชื้อจุลินทรีย์\nฐานที่ 2: Cup cake ภารกิจแต่งหน้าคัพเค้ก\nฐานที่ 3: Food Chemistry ภารกิจสร้างไข่มุกป๊อป\nฐานที่ 4: Sensory ภารกิจคุณคือนักชิมตัวจริง\n\n\n2. Special workshop\nพิเศษกับ Workshop สุด chic สุดฉ่ำ กับการทำ “โยเกิร์ต”\nวันละ 2 รอบ รอบละไม่เกิน 20 คน/รอบ\n>> รอบเช้า เริ่ม 9.00 น.\n>> รอบบ่าย เริ่ม 13.00 น.\n\n\n3. นิทรรศการ ผลิตภัณฑ์นวัตกรรมอาหาร\nจากผลงานต้นแบบผลิตภัณฑ์นวัตกรรมอาหารหลายหลายไอเดียของนักศึกษาในสาขาเทคโนโลยีการอาหาร ที่ได้เข้าประกวดและได้รับรางวัลในเวทีนวัตกรรมอาหารระดับชาติ\nณ โซนชั้น 1 TE 06\n\n\n4. การจัดจำหน่ายสินค้าต่างๆ ภายในโซน FOOD TECH KKU\nมาช้อป ชิม ชิวได้กับผลิตภัณฑ์อาหารต่างๆ รังสรรค์จากทีมนักศึกษา Food Tech KKU\n\n\nถ้าหากอยากรู้คำตอบ อย่าลืมมาพบกับพวกเราได้ที่งาน “The Food Treasure” ณ ตึก TE04 (Processing) สาขาเทคโนโลยีการอาหาร คณะเทคโนโลยี มหาวิทยาลัยขอนแก่นนะคะ \n\n\nอย่าลืมมาร่วมงานและสัมผัสประสบการณ์ใหม่ๆ ในโลกของเทคโนโลยีการอาหารกันนะคะ ! \nแล้วมาพบกันที่คณะที่อยู่ตรงวงเวียนค่ะทุกๆ คน \n\n\nสามารถติดตามข่าวสารและกิจกรรมต่างๆ ได้ที่\nFB Food Tech KKU: https://www.facebook.com/profile.php?id=100095514912398\nFB ชนอ.: https://www.facebook.com/profile.php?id=100057855991229\nTikTok: @foodtechkku\n————————————————————————————————————————————–\nดูรายละเอียดกิจกรรมอื่นๆ เพิ่มเติม สำหรับทุกโซนคณะเทคโนโลยีได้ที่นี่เลย >> https://te.kku.ac.th/?p=43873
URL:https://www.kku.ac.th/th/event/%e0%b8%81%e0%b8%b4%e0%b8%88%e0%b8%81%e0%b8%a3%e0%b8%a3%e0%b8%a1-the-food-treasure-%e0%b9%83%e0%b8%99%e0%b8%87%e0%b8%b2%e0%b8%99-kku-open-house-x-science-week-2024/
LOCATION:คณะเทคโนโลยี มหาวิทยาลัยขอนแก่น
CATEGORIES:Non degree education,กิจกรรมนักศึกษา,กิจกรรมบุคลากร,ครบรอบ สถาปณา,งานวิจัย,ประชุมสัมมนา,พิธีลงนามความร่วมมือ,ศิลปวัฒนธรรม ท่องเที่ยว บันเทิง,หลักสูตรระยะสั้น
ATTACH;FMTTYPE=image/jpeg:https://www.kku.ac.th/wp-content/uploads/2024/08/455313968_909700237859665_1387099543068212870_n.jpg
END:VEVENT
BEGIN:VEVENT
DTSTART;TZID=Asia/Bangkok:20240819T160000
DTEND;TZID=Asia/Bangkok:20240819T170000
DTSTAMP:20260424T212406
CREATED:20240819T022907Z
LAST-MODIFIED:20240819T022907Z
UID:195397-1724083200-1724086800@www.kku.ac.th
SUMMARY:สวดมนต์ ทำวัตรเย็น นั่งสมาธิ  กับโครงการส่งเสริมคุณธรรม จริยธรรม สำนักงานอธิการบดี “ศีล สมาธิ ปัญญา นำชีวาพบสุข”
DESCRIPTION:ขอเชิญพุทธศาสนิกชนทุกท่าน ร่วมสวดมนต์ ทำวัตรเย็น นั่งสมาธิ \nกับโครงการส่งเสริมคุณธรรม จริยธรรม สำนักงานอธิการบดี\n“ศีล สมาธิ ปัญญา นำชีวาพบสุข”\nในวันที่ 19 สิงหาคม 2567 เวลา 16.00-17.00 น. ณ โถงชั้น 1 อาคารสิริคุณากร มหาวิทยาลัยขอนแก่น\n——\nสามารถติดตาม วันเวลาของการจัดกิจกรรมล่วงหน้า ได้ที่\nFacebook : https://www.facebook.com/NATSAMOLKKU\nสอบถามเพิ่มเติม กองสื่อสารองค์กร 043-202204
URL:https://www.kku.ac.th/th/event/%e0%b8%aa%e0%b8%a7%e0%b8%94%e0%b8%a1%e0%b8%99%e0%b8%95%e0%b9%8c-%e0%b8%97%e0%b8%b3%e0%b8%a7%e0%b8%b1%e0%b8%95%e0%b8%a3%e0%b9%80%e0%b8%a2%e0%b9%87%e0%b8%99-%e0%b8%99%e0%b8%b1%e0%b9%88%e0%b8%87-10/
LOCATION:อาคารสิริคุณากร\, FRC8+94 Khon Kaen\, Mueang Khon Kaen District\, Khon Kaen\, Mueang Khon Kaen District\, Khon Kaen\, 40002\, Thailand
CATEGORIES:Non degree education,กิจกรรมนักศึกษา,กิจกรรมบุคลากร,ศิลปวัฒนธรรม ท่องเที่ยว บันเทิง
ATTACH;FMTTYPE=image/jpeg:https://www.kku.ac.th/wp-content/uploads/2024/08/455108872_946154660645139_2496730591979700032_n.jpg
END:VEVENT
BEGIN:VEVENT
DTSTART;VALUE=DATE:20240822
DTEND;VALUE=DATE:20240825
DTSTAMP:20260424T212406
CREATED:20240809T063826Z
LAST-MODIFIED:20240809T063826Z
UID:194543-1724284800-1724543999@www.kku.ac.th
SUMMARY:"การประกวดออกแบบโลโก้ของโรงละคร คณะศิลปกรรมศาสตร์" ชิงรางวัลกว่า 10\,000 บาท!"
DESCRIPTION:ใครมีไอเดีย อยากโชว์ฝีมือสุดเจ๋ง! โอกาสมาถึงแล้วกับ \n“การประกวดออกแบบโลโก้ของโรงละคร คณะศิลปกรรมศาสตร์” ชิงรางวัลกว่า 10\,000 บาท!”\n.\nรางวัลชนะเลิศ 5\,000 บาท\nรองชนะเลิศ อันดับ 1 3\,000 บาท\nรองชนะเลิศ อันดับ 2 2\,000 บาท\n.\nคุณสมบัติผู้มีสิทธิ์ส่งผลงานเข้าประกวด\n– บุคลทั่วไป ไม่จำกัดอายุ เพศ การศึกษาและอาชีพ\n– สามารถส่งผลงานแบบเดี่ยวหรือแบบกลุ่มได้\n– ต้องไม่ใช่คณะกรรมการตัดสินหรือบุคคลภายในองค์กรโรงละคร\n.\nเกณฑ์การพิจารณาตัดสิน\n– มีความคิดสร้างสรรค์และมีแนวคิดในการนำเสนอ\n– การสื่อความหมายของผลงาน มีความสอดคล้องกับภาพลักษณ์ขององค์กร\n– มีความทันสมัย สวยงาม มีกลิ่นอายอีสานและเหมาะสมแก่การนำไปใช้งาน\n– ตัดสินโดยคณะกรรมการบริหารจัดการโรงละคร คณะศิลปกรรมศาสตร์\n.\nการส่งผลงานเข้าประกวด\n– สร้างสรรค์ผลงานด้วยโปรแกรมกราฟฟิกจากคอมพิวเตอร์\nหรือแท็บเล็ต (ไม่จำกัดโปรแกรมการออกแบบ)\n– ส่งไฟล์ผลงานนามสกุล ai เท่านั้น\n– ส่งผลงานช่องทาง google forms\n– ประกาศผลงานที่ผ่านการคัดเลือก 10 ผลงาน ในวันที่ 22 สิงหาคม 2567\n– ผู้ส่งผลงานเข้าประกวดที่ผ่านเข้ารอบทั้ง 10 ผลงาน ต้องมีการนำเสนอผลงาน ต่อคณะกรรมผู้ตัดสิน\nในวันที่ 24 สิงหาคม 2567 ณ โรงละคร คณะศิลปกรรมศาสตร์ เวลา 10:00 เป็นต้นไป (ผลงานละ 5 นาที)\n\n\n—————————————————————————\n\n\n รายละเอียดเพิ่มเติม : https://drive.google.com/…/1EzKOx9m1LyxbUlTyqMk…/view…\n\n\n ส่งผลงานประกวดออกแบบโลโก้ : https://docs.google.com/…/1FAIpQLSd4_iQQ…/viewform…\n\n\nระยะเวลาส่งผลงาน : ตั้งแต่วันนี้ – 21 สิงหาคม 2567\n สอบถามเพิ่มเติม : 091 053 8473 (ม่อนแจ่ม)
URL:https://www.kku.ac.th/th/event/%e0%b8%81%e0%b8%b2%e0%b8%a3%e0%b8%9b%e0%b8%a3%e0%b8%b0%e0%b8%81%e0%b8%a7%e0%b8%94%e0%b8%ad%e0%b8%ad%e0%b8%81%e0%b9%81%e0%b8%9a%e0%b8%9a%e0%b9%82%e0%b8%a5%e0%b9%82%e0%b8%81%e0%b9%89%e0%b8%82%e0%b8%ad/
LOCATION:คณะศิลปกรรมศาสตร์
CATEGORIES:Non degree education,กิจกรรมนักศึกษา,กิจกรรมบุคลากร,ศิลปวัฒนธรรม ท่องเที่ยว บันเทิง
ATTACH;FMTTYPE=image/jpeg:https://www.kku.ac.th/wp-content/uploads/2024/08/240445eb-b1a8-4b76-a897-a689c5e9a167.jpg
END:VEVENT
BEGIN:VEVENT
DTSTART;TZID=Asia/Bangkok:20240823T160000
DTEND;TZID=Asia/Bangkok:20240823T200000
DTSTAMP:20260424T212406
CREATED:20240815T070738Z
LAST-MODIFIED:20240815T070738Z
UID:195050-1724428800-1724443200@www.kku.ac.th
SUMMARY:งาน More Care Festival 2024 : More Market
DESCRIPTION:📢รับสมัครร้านค้านักศึกษา งาน More Care Festival 2024 : More Market\n🗓️วันศุกร์ที่ 23  สิงหาคม  2567 ⏰เวลา 16.00 – 22.00 น.  ที่ลานกิจกรรมกองพัฒนานักศึกษาและศิษย์เก่าสัมพันธ์ \n📝เงื่อนไขร้านค้าที่เข้าร่วมสมัครร้านค้า\n– ร้านค้าที่เข้าร่วมเป็นนักศึกษามหาวิทยาลัยขอนแก่น (ทุกชั้นปี)\n– มีการอบรมร้านค้าก่อนเข้าจัดล็อค\n– ประเภทร้านค้า สินค้าทั่วไป/อาหาร-เครื่องดื่ม\n– ไม่เป็นของผิดกฎหมาย/ไม่ดีต่อสุขภาพ เช่น ผลิตภัณฑ์ลดความอ้วน แอลกอฮอล์ อาหาร-เครื่องดื่มที่มีส่วนผสมกัญชา\n– ผู้จัดเป็นผู้จัดสรรล็อคตามความเหมาะสม\n– ไม่มีค่าใช้จ่าย \n \nหมดเขตรับสมัคร ภายในวันที่ 17 สิงหาคม 2567 \nสมัครได้ที่ลิงก์ >>> https://kku.world/1gb7r\nสอบถามเพิ่มเติมได้ที่ พี่ปิ๋ม พินิตนันท์ โทร.080-7415419 \n \nวันศุกร์ที่   23  สิงหาคม  2567 \nณ บริเวณลานกิจกรรมกองพัฒนานักศึกษาและศิษย์เก่าสัมพันธ์และอาคารองค์กรกิจกรรมนักศึกษา มหาวิทยาลัยขอนแก่น  \n\n\n\nเวลา\nรายการ\n\n\n16.30 – 17.10 น.\nกิจกรรมบนเวที “วงดนตรีนักศึกษา 1 (แนวดนตรี Acoustic)”\n\n\n17.00 น.\nนักศึกษาลงทะเบียนเข้าร่วมงาน\n\n\n17.30 – 18.00 น.\nผู้บริหารและผู้มีเกียรติ และคณะกรรมการลงทะเบียนและรับอาหารว่าง\n\n\n18.00 – 18.20 น.\nกล่าวรายงาน โดย รองอธิการบดีฝ่ายพัฒนานักศึกษาและศิษย์เก่าสัมพันธ์ \nกล่าวเปิดโครงการ โดย อธิการบดีบดีมหาวิทยาลัยขอนแก่น \nผู้บริหารทุกท่านร่วมกันปล่อยลูกโป่งรอยยิ้มเปิดงาน\n\n\n18.20 – 18.30 น.\nผู้บริหารมอบลูกโป่งรอยยิ้มให้นักศึกษาที่เข้าร่วมงาน\n\n\n18.30 – 18.50 น.\nการแสดงนักศึกษาต่างชาติ มหาวิทยาลัยขอนแก่น\n\n\n18.50 – 19.50 น\nผู้บริหารและแขกผู้มีเกียรติเยี่ยมชมนิทรรศการวิชาการ /workshopการดูแลสุขภาพกาย-ใจจากหน่วยงานต่าง ๆ / การออกร้านค้าของนักศึกษา ในโซน \nMore health care และ More market\n\n\n18.50 – 19.30 น.\nกิจกรรมบนเวที “การแสดง cover dance และ random dance”\n\n\n19.30 – 20.10 น.\nกิจกรรมบนเวที “วงดนตรีนักศึกษา 2 (แนวดนตรี POP)”\n\n\n20.10 – 20.30 น.\nกิจกรรมบนเวที “นักศึกษาร่วมเล่นเกมบนเวที”\n\n\n20.30 – 21.10 น.\nกิจกรรมบนเวที “วงดนตรีนักศึกษา 3 (แนวดนตรี Rock)”\n\n\n21.10 – 21.50 น.\nกิจกรรมบนเวที “วงดนตรีนักศึกษา 4 (แนวหมอลำ)”\n\n\n22.00 น.\nเสร็จสิ้นกิจกรรม\n\n\n\nหมายเหตุ  กำหนดการอาจมีการเปลี่ยนแปลงตามความเหมาะสม
URL:https://www.kku.ac.th/th/event/%e0%b8%87%e0%b8%b2%e0%b8%99-more-care-festival-2024-more-market/
LOCATION:กองพัฒนานักศึกษาและศิษย์เก่าสัมพันธ์
CATEGORIES:กิจกรรมบุคลากร,ศิลปวัฒนธรรม ท่องเที่ยว บันเทิง
ATTACH;FMTTYPE=image/png:https://www.kku.ac.th/wp-content/uploads/2024/08/Facebook-Post-2.png
END:VEVENT
BEGIN:VEVENT
DTSTART;TZID=Asia/Bangkok:20240824T080000
DTEND;TZID=Asia/Bangkok:20240824T170000
DTSTAMP:20260424T212406
CREATED:20240627T030018Z
LAST-MODIFIED:20240627T030018Z
UID:188950-1724486400-1724518800@www.kku.ac.th
SUMMARY:40 ปี คณะเทคโนโลยี มหาวิทยาลัยขอนแก่น “Shaping the Next Chapter of TE-KKU” กับการเฉลิมฉลองสุดยิ่งใหญ่ ร่วมกับวาระครบรอบ 60 ปี มหาวิทยาลัยขอนแก่น
DESCRIPTION:ขอเชิญร่วมงาน 40 ปี คณะเทคโนโลยี มหาวิทยาลัยขอนแก่น\n“Shaping the Next Chapter of TE-KKU” กับการเฉลิมฉลองสุดยิ่งใหญ่ ร่วมกับวาระครบรอบ 60 ปี มหาวิทยาลัยขอนแก่น\nจัดขึ้นในวันเสาร์ ที่ 24 สิงหาคม 2567 นี้ ณ คณะเทคโนโลยี มหาวิทยาลัยขอนแก่น\n\n\n ร่วมชื่นชมยินดีกับก้าวย่างของคณะเทคโนโลยี กับพิธีมอบรางวัลศรีเฟื่องฟ้า \nโดยได้รับเกียรติจาก รศ. นพ.ชาญชัย พานทองวิริยะกุล อธิการบดีมหาวิทยาลัยขอนแก่น เป็นผู้มอบรางวัล\n การบรรยายพิเศษในหัวข้อ “Weather & Climate Change – ผลกระทบต่ออุตสาหกรรมเกษตรและการจัดการทรัพยากรแห่งอนาคต”\nโดยได้รับเกียรติจากผู้บรรยายพิเศษระดับนานาชาติ\n1) ผศ. ดร.ชินวัชร์ สุรัสวดี\nผู้เชี่ยวชาญชั้นนำระดับโลกด้านการประมาณค่าตัวแปรบรรยากาศจากดาวเทียม และการพยากรณ์อากาศเชิงเลขความละเอียดสูง\nเพจ Facebook: “พยากรณ์อากาศประเทศไทย” ที่มีผู้ติดตามมากกว่า 1 ล้านคน\n2) Professor Tsuyoshi Imai\, Ph.D.\nอาจารย์ประจำ Yamaguchi University\, Japan\n การเสวนาวิชาการ “Shaping the Next Chapter of TE-KKU”\nได้รับเกียรติจากผู้ร่วมเสวนาจากหลายภาคส่วน…..\n1) ศ. ดร.ศุภชัย ปทุมนากุล\nรองปลัดกระทรวงการอุดมศึกษา วิทยาศาสตร์ วิจัยและนวัตกรรม\n2) รศ. ดร.พรเทพ ถนนแก้ว\nอาจารย์ประจำสาขาวิชาเทคโนโลยีชีวภาพ คณะเทคโนโลยี มข.\nอดีตคณบดี คณะเทคโนโลยี มข.\n3) ผศ. ดร.ศราวุธ จักรเป็ง\nรองคณบดีฝ่ายโรงเรียนสาธิตและนวัตกรรมการศึกษา คณะศึกษาศาสตร์ มข.\nรักษาการแทนผู้อำนวยการโรงเรียนสาธิต มหาวิทยาลัยขอนแก่น\n4) คุณสมบัติ บงกชโอฬาร\nหัวหน้าทีมสำรวจปิโตรเลียมโครงการต่างประเทศ\nอดีตผู้จัดการธรณีวิทยาโครงการผลิตปิโตรเลียมบนฝั่ง ประเทศไทย\nบริษัท ปตท.สผ.จำกัด (มหาชน)\n การบรรยายมุมมองวิจัยของคณะฯ โดยผู้ทรงคุณวุฒิจากหลากหลายความเชี่ยวชาญ\n ประกาศเจตนารมณ์ 40 ปี คณะเทคโนโลยี มข.\nโดย ผศ. ดร.อารยา เชาว์เรืองฤทธิ์ คณบดีคณะเทคโนโลยี มข.\n พลาดไม่ได้….กับค่ำคืนสุดพิเศษ กับ กิจกรรมคืนสู่เหย้าชาวเทคโนฯ มข.\n\n\nติดตามรายละเอียดเพิ่มเติมได้ทาง\nWebsite: https://te.kku.ac.th/?page_id=41348\nFacebook: คณะเทคโนโลยี มหาวิทยาลัยขอนแก่น\n\n\n#TEKKU\n#40TEKKU\n#KKU\n#40ปีคณะเทคโนโลยีมข\n#คณะเทคโนโลยี
URL:https://www.kku.ac.th/th/event/40-%e0%b8%9b%e0%b8%b5-%e0%b8%84%e0%b8%93%e0%b8%b0%e0%b9%80%e0%b8%97%e0%b8%84%e0%b9%82%e0%b8%99%e0%b9%82%e0%b8%a5%e0%b8%a2%e0%b8%b5-%e0%b8%a1%e0%b8%ab%e0%b8%b2%e0%b8%a7%e0%b8%b4%e0%b8%97%e0%b8%a2/
LOCATION:คณะเทคโนโลยี มหาวิทยาลัยขอนแก่น
CATEGORIES:กิจกรรมนักศึกษา,กิจกรรมบุคลากร,ครบรอบ สถาปณา,ศิลปวัฒนธรรม ท่องเที่ยว บันเทิง
ATTACH;FMTTYPE=image/jpeg:https://www.kku.ac.th/wp-content/uploads/2024/06/448209090_950737816849151_6234387366120601493_n.jpg
END:VEVENT
BEGIN:VEVENT
DTSTART;TZID=Asia/Bangkok:20240828T170000
DTEND;TZID=Asia/Bangkok:20240828T200000
DTSTAMP:20260424T212406
CREATED:20240827T031541Z
LAST-MODIFIED:20240827T031541Z
UID:196624-1724864400-1724875200@www.kku.ac.th
SUMMARY:เปิดร้านแอคมาร์ท (AG mart) และตลาดแลนด์ (Land market) คณะเกษตรศาสตร์ มหาวิทยาลัยขอนแก่น
DESCRIPTION:พิธีเปิดร้านแอคมาร์ท (AG mart) และตลาดแลนด์ (Land market) ของคณะเกษตรศาสตร์ มหาวิทยาลัยขอนแก่น \nใน วันที่ 28 สิงหาคม 2567 เวลา 18.00 น.  ณ AG Mart อุทยานเทคโนโลยีเกษตร คณะเกษตรศาสตร์ มหาวิทยาลัยขอนแก่น
URL:https://www.kku.ac.th/th/event/%e0%b9%80%e0%b8%9b%e0%b8%b4%e0%b8%94%e0%b8%a3%e0%b9%89%e0%b8%b2%e0%b8%99%e0%b9%81%e0%b8%ad%e0%b8%84%e0%b8%a1%e0%b8%b2%e0%b8%a3%e0%b9%8c%e0%b8%97-ag-mart-%e0%b9%81%e0%b8%a5%e0%b8%b0%e0%b8%95%e0%b8%a5/
LOCATION:อุทยานเทคโนโลยีการเกษตร มหาวิทยาลัยขอนแก่น
CATEGORIES:Non degree education,กิจกรรมนักศึกษา,กิจกรรมบุคลากร,ศิลปวัฒนธรรม ท่องเที่ยว บันเทิง
ATTACH;FMTTYPE=image/jpeg:https://www.kku.ac.th/wp-content/uploads/2024/08/กำหนดการพิธีเปิด-Ag-Mart-ร้านจำหน่ายผลิตภัณฑ์.jpg
END:VEVENT
BEGIN:VEVENT
DTSTART;VALUE=DATE:20240831
DTEND;VALUE=DATE:20240902
DTSTAMP:20260424T212406
CREATED:20240809T063505Z
LAST-MODIFIED:20240809T063505Z
UID:194540-1725062400-1725235199@www.kku.ac.th
SUMMARY:เปิดประสบการณ์กับการแสดงสุดพิเศษ! Spirit Mediumship of Isan "ว่างเปล่า เชื่อมต่อ สื่อสาร รักษา : ภารกิจแห่ง วิญญาณศักดิ์สิทธิ์"
DESCRIPTION:เริ่มจองบัตรแล้ววันนี้ เปิดประสบการณ์กับการแสดงสุดพิเศษ! Spirit Mediumship of Isan “ว่างเปล่า เชื่อมต่อ สื่อสาร รักษา : ภารกิจแห่ง วิญญาณศักดิ์สิทธิ์”.นำแสดง โดย พงศธร ยอดดำเนินกำกับการแสดง โดย ธนัชพร กิตติก้อง.รอบการแสดง :31 สิงหาคม และ 1 กันยายน 2567เวลา15.00 น. \,17.00 น. และ 19.00 น. ที่ Performing Arts tudio (PAS) คณะศิลปกรรมศาสตร์มหาวิทยาลัยขอนแก่น.ราคาบัตร :● ประชาชนทั่วไป 100 บาท● นักเรียน/นักศึกษา 70 บาท● นักศึกษามหาวิทยาลัยขอนแก่น 50 บาท***ที่นั่งจํากัด สํารองที่นั่งได้ที่ : Isan Folk Experiment อิสานสำแดงศิลป์
URL:https://www.kku.ac.th/th/event/%e0%b9%80%e0%b8%9b%e0%b8%b4%e0%b8%94%e0%b8%9b%e0%b8%a3%e0%b8%b0%e0%b8%aa%e0%b8%9a%e0%b8%81%e0%b8%b2%e0%b8%a3%e0%b8%93%e0%b9%8c%e0%b8%81%e0%b8%b1%e0%b8%9a%e0%b8%81%e0%b8%b2%e0%b8%a3%e0%b9%81%e0%b8%aa/
LOCATION:คณะศิลปกรรมศาสตร์
CATEGORIES:Non degree education,กิจกรรมนักศึกษา,กิจกรรมบุคลากร,ศิลปวัฒนธรรม ท่องเที่ยว บันเทิง
ATTACH;FMTTYPE=image/jpeg:https://www.kku.ac.th/wp-content/uploads/2024/08/180d7611-f94b-469f-b908-890472b4cc2e.jpg
END:VEVENT
BEGIN:VEVENT
DTSTART;TZID=Asia/Bangkok:20240831T090000
DTEND;TZID=Asia/Bangkok:20240831T160000
DTSTAMP:20260424T212406
CREATED:20240819T022246Z
LAST-MODIFIED:20240819T022441Z
UID:195392-1725094800-1725120000@www.kku.ac.th
SUMMARY:ขอเชิญทุกท่านเข้าร่วม **"หลักสูตรชินนสาสมาธิ 1"  ** (สมาธิชนะใจตนเอง) หลักสูตร 1 วัน เรียนฟรี! ไม่มีค่าใช้จ่าย
DESCRIPTION: **ขอเชิญเข้าร่วมอบรมฟรี!**สถาบันพลังจิตตานุภาพ สาขา 78 มหาวิทยาลัยขอนแก่น  \nขอเชิญทุกท่านเข้าร่วม **”หลักสูตรชินนสาสมาธิ 1″ \n** (สมาธิชนะใจตนเอง) หลักสูตร 1 วัน เรียนฟรี! ไม่มีค่าใช้จ่าย \nในวันที่ 31 สิงหาคม 2567 เวลา 09.00 – 16.00 น.
URL:https://www.kku.ac.th/th/event/%e0%b8%82%e0%b8%ad%e0%b9%80%e0%b8%8a%e0%b8%b4%e0%b8%8d%e0%b8%97%e0%b8%b8%e0%b8%81%e0%b8%97%e0%b9%88%e0%b8%b2%e0%b8%99%e0%b9%80%e0%b8%82%e0%b9%89%e0%b8%b2%e0%b8%a3%e0%b9%88%e0%b8%a7%e0%b8%a1/
LOCATION:มหาวิทยาลัยขอนแก่น\, 123 ถนนมิตรภาพ Tambon Nai Mueang\, Mueang Khon Kaen District\, Khon Kaen 40002\, Mueang Khon Kaen District\, KhonKaen\, 40002\, Thailand
CATEGORIES:Non degree education,ศิลปวัฒนธรรม ท่องเที่ยว บันเทิง
ATTACH;FMTTYPE=image/jpeg:https://www.kku.ac.th/wp-content/uploads/2024/08/455363406_911596404336715_4342542198630258591_n.jpg
END:VEVENT
END:VCALENDAR