BEGIN:VCALENDAR
VERSION:2.0
PRODID:-//Khon Kaen University - ECPv6.15.20//NONSGML v1.0//EN
CALSCALE:GREGORIAN
METHOD:PUBLISH
X-ORIGINAL-URL:https://www.kku.ac.th
X-WR-CALDESC:Events for Khon Kaen University
REFRESH-INTERVAL;VALUE=DURATION:PT1H
X-Robots-Tag:noindex
X-PUBLISHED-TTL:PT1H
BEGIN:VTIMEZONE
TZID:Asia/Bangkok
BEGIN:STANDARD
TZOFFSETFROM:+0700
TZOFFSETTO:+0700
TZNAME:+07
DTSTART:20230101T000000
END:STANDARD
END:VTIMEZONE
BEGIN:VEVENT
DTSTART;VALUE=DATE:20240731
DTEND;VALUE=DATE:20240916
DTSTAMP:20260425T185447
CREATED:20240731T035144Z
LAST-MODIFIED:20240731T035144Z
UID:193249-1722384000-1726444799@www.kku.ac.th
SUMMARY:รับสมัครการประกวดวงดนตรีร่วมสมัย ภายใต้แนวคิด "New Isan" ในงานสีฐานเฟสติวัล 2567 ชิงเงินรางวัลรวมกว่า 230\,000 บาท พร้อมถ้วยเกียรติยศ
DESCRIPTION:ประกาศเกณฑ์การประกวดวงดนตรีร่วมสมัย\nภายใต้แนวคิด “New Isan” ในงานสีฐานเฟสติวัล 2567\n.\nKKU MUSIC AWARDS 2024 ครั้งที 2\nเปิดรับสมัครแล้วตั้งแต่บัดนี้ ถึง 15 กันยายน 2567\n(นักเรียนระดับมัธยมศึกษา หรือ นักศึกษาระดับอุดมศึกษาในพื้นที่ภาคอีสาน)\n\n\nสามารถสมัครได้ที่ >>\nhttps://kku.world/kkuawreg2024\n\n\nหลักเกณฑ์การประกวด \nhttps://kku.world/kkuewsan2024\n.\nชิงเงินรางวัลรวมกว่า 230\,000 บาท พร้อมถ้วยเกียรติยศ\nติดต่อสอบถามรายละเอียดเพิ่มเติม\n099 167 4664 คุณอนุศรา คำงาม
URL:https://www.kku.ac.th/th/event/%e0%b8%a3%e0%b8%b1%e0%b8%9a%e0%b8%aa%e0%b8%a1%e0%b8%b1%e0%b8%84%e0%b8%a3%e0%b8%81%e0%b8%b2%e0%b8%a3%e0%b8%9b%e0%b8%a3%e0%b8%b0%e0%b8%81%e0%b8%a7%e0%b8%94%e0%b8%a7%e0%b8%87%e0%b8%94%e0%b8%99%e0%b8%95/
LOCATION:คุ้มศิลปวัฒนธรรม (ริมบึงสีฐาน) มหาวิทยาลัยขอนแก่น\, CRW7+43 Khon Kaen\, Mueang Khon Kaen District\, Khon Kaen\, Thailand\, Mueang Khon Kaen District\, Khon Kaen\, 40002\, Thailand
CATEGORIES:Non degree education,กิจกรรมนักศึกษา,ศิลปวัฒนธรรม ท่องเที่ยว บันเทิง
ATTACH;FMTTYPE=image/jpeg:https://www.kku.ac.th/wp-content/uploads/2024/07/453164199_947018567228613_2080618680326801460_n.jpg
END:VEVENT
BEGIN:VEVENT
DTSTART;VALUE=DATE:20240831
DTEND;VALUE=DATE:20240902
DTSTAMP:20260425T185447
CREATED:20240809T063505Z
LAST-MODIFIED:20240809T063505Z
UID:194540-1725062400-1725235199@www.kku.ac.th
SUMMARY:เปิดประสบการณ์กับการแสดงสุดพิเศษ! Spirit Mediumship of Isan "ว่างเปล่า เชื่อมต่อ สื่อสาร รักษา : ภารกิจแห่ง วิญญาณศักดิ์สิทธิ์"
DESCRIPTION:เริ่มจองบัตรแล้ววันนี้ เปิดประสบการณ์กับการแสดงสุดพิเศษ! Spirit Mediumship of Isan “ว่างเปล่า เชื่อมต่อ สื่อสาร รักษา : ภารกิจแห่ง วิญญาณศักดิ์สิทธิ์”.นำแสดง โดย พงศธร ยอดดำเนินกำกับการแสดง โดย ธนัชพร กิตติก้อง.รอบการแสดง :31 สิงหาคม และ 1 กันยายน 2567เวลา15.00 น. \,17.00 น. และ 19.00 น. ที่ Performing Arts tudio (PAS) คณะศิลปกรรมศาสตร์มหาวิทยาลัยขอนแก่น.ราคาบัตร :● ประชาชนทั่วไป 100 บาท● นักเรียน/นักศึกษา 70 บาท● นักศึกษามหาวิทยาลัยขอนแก่น 50 บาท***ที่นั่งจํากัด สํารองที่นั่งได้ที่ : Isan Folk Experiment อิสานสำแดงศิลป์
URL:https://www.kku.ac.th/th/event/%e0%b9%80%e0%b8%9b%e0%b8%b4%e0%b8%94%e0%b8%9b%e0%b8%a3%e0%b8%b0%e0%b8%aa%e0%b8%9a%e0%b8%81%e0%b8%b2%e0%b8%a3%e0%b8%93%e0%b9%8c%e0%b8%81%e0%b8%b1%e0%b8%9a%e0%b8%81%e0%b8%b2%e0%b8%a3%e0%b9%81%e0%b8%aa/
LOCATION:คณะศิลปกรรมศาสตร์
CATEGORIES:Non degree education,กิจกรรมนักศึกษา,กิจกรรมบุคลากร,ศิลปวัฒนธรรม ท่องเที่ยว บันเทิง
ATTACH;FMTTYPE=image/jpeg:https://www.kku.ac.th/wp-content/uploads/2024/08/180d7611-f94b-469f-b908-890472b4cc2e.jpg
END:VEVENT
BEGIN:VEVENT
DTSTART;TZID=Asia/Bangkok:20240902T160000
DTEND;TZID=Asia/Bangkok:20240902T170000
DTSTAMP:20260425T185447
CREATED:20240828T062001Z
LAST-MODIFIED:20240828T062001Z
UID:196767-1725292800-1725296400@www.kku.ac.th
SUMMARY:สวดมนต์ ทำวัตรเย็น นั่งสมาธิ  “ศีล สมาธิ ปัญญา นำชีวาพบสุข”
DESCRIPTION:ขอเชิญพุทธศาสนิกชนทุกท่าน ร่วมสวดมนต์ ทำวัตรเย็น นั่งสมาธิ \nกับโครงการส่งเสริมคุณธรรม จริยธรรม สำนักงานอธิการบดี\n“ศีล สมาธิ ปัญญา นำชีวาพบสุข”\nในวันจันทร์ที่ 2 กันยายน 2567 เวลา 16.00-17.00 น. ณ โถงชั้น 1 อาคารสิริคุณากร มหาวิทยาลัยขอนแก่น\n——\nสามารถติดตาม วันเวลาของการจัดกิจกรรมล่วงหน้า ได้ที่\nFacebook : https://www.facebook.com/NATSAMOLKKU\nสอบถามเพิ่มเติม กองสื่อสารองค์กร 043-202204
URL:https://www.kku.ac.th/th/event/%e0%b8%aa%e0%b8%a7%e0%b8%94%e0%b8%a1%e0%b8%99%e0%b8%95%e0%b9%8c-%e0%b8%97%e0%b8%b3%e0%b8%a7%e0%b8%b1%e0%b8%95%e0%b8%a3%e0%b9%80%e0%b8%a2%e0%b9%87%e0%b8%99-%e0%b8%99%e0%b8%b1%e0%b9%88%e0%b8%87-11/
LOCATION:อาคารสิริคุณากร\, FRC8+94 Khon Kaen\, Mueang Khon Kaen District\, Khon Kaen\, Mueang Khon Kaen District\, Khon Kaen\, 40002\, Thailand
CATEGORIES:Non degree education,กิจกรรมนักศึกษา,กิจกรรมบุคลากร,ศิลปวัฒนธรรม ท่องเที่ยว บันเทิง
ATTACH;FMTTYPE=image/png:https://www.kku.ac.th/wp-content/uploads/2024/08/unnamed.png
END:VEVENT
BEGIN:VEVENT
DTSTART;VALUE=DATE:20240903
DTEND;VALUE=DATE:20240906
DTSTAMP:20260425T185447
CREATED:20240815T052115Z
LAST-MODIFIED:20240815T052307Z
UID:195003-1725321600-1725580799@www.kku.ac.th
SUMMARY:นวัตกรรมการแสดงหมอลำเรื่องต่อกลอนผสมผสานกับละครเพลง “นางไอ่” ละครเพลงลำเรื่อง (Morlam in Theatre: A New Musical) ครั้งแรกของไทย
DESCRIPTION:“นางไอ่” ละครเพลงลำเรื่อง (Morlam in Theatre: A New Musical) ครั้งแรกของไทย\nนวัตกรรมการแสดงหมอลำเรื่องต่อกลอนผสมผสานกับละครเพลง รูปแบบการแสดงหมอลำแนวทางใหม่ที่จะเปิดม่านการแสดงเป็นครั้งแรก ในงานสถาปนาคณะศิลปกรรมศาสตร์ มหาวิทยาลัยขอนแก่น วาระครอบรอบ 30 ปีสะท้อนการเป็นศูนย์กลางองค์ความรู้และนวัตกรรมทางด้านศิลปกรรม เพื่อพัฒนาสังคมอย่างยั่งยืน\nเมื่อวันที่ 14 สิงหาคม 2567 ที่ผ่านมา ผู้ช่วยศาสตราจารย์ ดร.บุรินทร์ เปล่งดีสกุล คณบดีคณะศิลปกรรมศาสตร์ มหาวิทยาลัยขอนแก่น ได้เปิดเผยว่า “คณะศิลปกรรมศาสตร์ มข. กำลังจะจัดงานวันสถาปนาคณะฯ ในวาระครบรอบ 30 ปี ซึ่งจะเกิดขึ้นในวันที่ 13 กันยายน 2567 นี้ และปีนี้เป็นปีพิเศษที่พวกเราชาวศิลปกรรม มข. ต้องการเสนอให้ได้เห็นว่า เราเป็นศูนย์กลางองค์ความรู้และนวัตกรรมทางด้านศิลปกรรม เพื่อพัฒนาสังคมอย่างยั่งยืน ตามวิสัยทัศน์ของคณะฯ จึงจัดให้มีกิจกรรมหลากหลาย เพื่อแสดงศักยภาพชาวศิลปกรรม ทั้งคณาจารย์ นักศึกษา และบุคลากร โดยนำความรู้จากงานวิจัยและนวัตกรรมมาจัดแสดง และสร้างพื้นที่ให้ประชาชนทั่วไปได้ร่วมสัมผัส และเรียนรู้ไปพร้อมกับเรา”\nกิจกรรมงานสถาปนาคณะศิลปกรรมศาสตร์ เริ่มตั้งแต่วันที่ 30 สิงหาคมนี้เป็นต้นไป โดยคณบดีฯ ย้ำว่าทุกกิจกรรมน่าติดตามอย่างยิ่ง โดยเฉพาะการแสดงละครเพลงลำเรื่อง “นางไอ่” ถือว่าเป็นไฮไลท์ที่ทุกคนห้ามพลาด เพราะเป็นผลงานการแสดงที่ต่อยอดจากงานวิจัยระดับปริญญาเอกของ ผศ.ดร.พชญ อัคพราหมณ์ รองคณบดีฝ่ายวิจัย นวัตกรรม และศิลปวัฒนธรรม ได้รับงบประมาณสนับสนันจากสำนักงานศิลปวัฒนธรรม\nร่วมสมัย กระทรวงวัฒนธรรม ประจำปีงบประมาณ 2567 เป็นการนำหมอลำหมู่หรือหมอลำเรื่องต่อกลอนของชาวอีสานมาทำงานร่วมกับละครเพลง ได้รับความร่วมมือจากคณาจารย์ นักศึกษา และศิษย์เก่าคณะศิลปกรรมศาสตร์มารวมตัวทำงานกันอย่างเต็มกำลัง โดยเฉพาะอย่างยิ่ง “วงโปงลางสินไซ มหาวิทยาลัยขอนแก่น” ได้มาร่วมบรรเลงดนตรีสดในการแสดงด้วย และที่สำคัญ คือ ผนึกกำลังศิลปินหมอลำรุ่นเก่า-รุ่นใหม่ เอาไว้อย่างลงตัว\nผศ.ดร.พชญ ให้ข้อมูลว่า “การแสดงครั้งนี้ตั้งต้นหลังจากหลังเรียนจบ ป.เอก แล้วรู้สึกว่า อยากให้งานวิจัยที่เกิดขึ้นในสตูดิโอได้ออกเดินทางต่อ และเข้าไปอยู่ในมิติของอุตสาหกรรมหมอลำได้จริง ผมมองว่างานการแสดงหมอลำแนวทางใหม่ที่ค้นพบจากการวิจัย ซึ่งเรียกว่า “หมอลำอินเธียร์เตอร์ (Morlam in Theatre)” เป็นหมอลำประเภทใหม่ที่แตกต่างจากการแสดงหมอลำที่ปรากฏอยู่ทั่วไปในตอนนี้ เหมาะกับการจัดแสดงในโรงละครหรือในพื้นที่ที่ต้องการผู้ชมสามารถฟังเรื่องราวได้เต็มอรรถรส ได้ฟังลำและการร้องที่แปลกใหม่ ได้ดูการแสดงที่เข้มข้นจากศิลปิน หมอลำ หรือนักแสดงที่เราชื่นชอบกับตัวละครที่เค้าสวมบทบาท นอกจากนี้ ยังมองว่าเป็นการเพิ่มทางเลือกใหม่ให้คณะหมอลำได้มีวิธีการจัดแสดงหมอลำหลังเสร็จสิ้นการแสดงตามฤดูกาลปกติ เพื่อสร้างรายได้เพิ่ม ไม่ว่าหมอลำคณะเล็กไปจนถึงขนาดใหญ่ก็ทำได้ เพื่อให้การแสดงหมอลำมีความหลากหลาย เพิ่มเติมการแสดงแบบใหม่เข้าไปในระบบนิเวศการแสดงหมอลำ ให้ผู้คนได้เลือกรับชมตามชอบ ซึ่งอาจทำให้เกิดผู้ชมหมอลำกลุ่มใหม่ และขยายขอบเขตผู้ชมหมอลำให้หลากหลายและกว้างขึ้น”\nการกลับมาของละครเพลงลำเรื่อง “นางไอ่” ในครั้งนี้ จึงเป็นครั้งสำคัญ นอกจากจะได้รับแรงสนับสนุนจากคณะศิลปกรรมศาสตร์ มหาวิทยาลัยขอนแก่น และสำนักงานศิลปวัฒนธรรมร่วมสมัย กระทรวงวัฒนธรรม ยังได้รับการสนับสนุนจากศิลปินหมอลำ และคณะหมอลำมาผนึกกำลังกันอย่างเต็มที่ โดยเฉพาะศิลปินหมอลำไอดอล ศิลปินจากคณะอีสานนครศิลป์ และคณะสาวน้อยลำเพลินโชว์ รวมถึง ศิลปินหมอลำอีกหลายท่าน ภายใต้การดูแลและประสานงานอย่างดียิ่งจากคุณสุชาติ อินทร์พรหม (เฮียหน่อย) ผู้บุกเบิกและสร้างปรากฏการณ์หมอลำฟีเวอร์จากรายการหมอลำไอดอลทางช่องเวิร์คพอยท์ 23 และเป็นหนึ่งในคณะกรรมการบริหารคณะศิลปกรรมศาสตร์ มข. ด้วย\nคุณสุชาติ กล่าวว่า “ผมได้ฟัง อ.ต้อง (ผศ.ดร.พชญ) เล่าถึงละครเพลงลำเรื่อง “นางไอ่” ผมรู้สึกดีใจมากที่มีคนอีสานรุ่นใหม่ลุกขึ้นมาทำหมอลำที่แปลกใหม่ ผมเองเป็นคนกรุงเทพที่เหมือนจะดูห่างไกลจากหมอลำ แต่เอาเข้าจริงแล้วหมอลำคือการแสดงอันเดียวเลยที่ทำให้ผมหลงใหลได้ขนาดนี้ ผมเลยทำอะไรที่เกี่ยวกับหมอลำ ไม่ว่าจะเป็นคณะหมอลำ รายการหมอลำ และครั้งนี้คือ “ละครเพลงลำเรื่อง” ซึ่งเป็นอีกสิ่งที่ผมอยากทำด้วย ผมเลยไปชวนน้อง ๆ ศิลปินที่ผมดูแลมาร่วมงานนี้ เพราะถือว่าเป็นโอกาสที่จะได้ทดลองอะไรใหม่ ๆ พอทราบว่ามีพ่อครูแม่ครูหมอลำอีกหลายท่านมาร่วมงานนี้ด้วย ยิ่งรู้สึกว่า การแสดงได้เปิดพื้นที่การเรียนรู้ให้ทั้งรุ่นใหม่กับรุ่นเก่า ผมว่ามันเป็นการส่งต่อคุณค่าของศาสตร์หมอลำให้กัน เป็นการสร้างความยั่งยืนให้กับศิลปะการแสดงหมอลำ และยืนยันตัวตนของคณะศิลปกรรม มข. ผมเชียร์และเชิญชวนให้ทุกคนมาดูครับ เชื่อว่า “นางไอ่” จะสร้างความประทับใจให้ทุกคนได้อย่างแน่นอน”\nเชิญชวนทุกท่านมาร่วมเปิดประสบการณ์รับชมการแสดงหมอลำแนวทางใหม่ Morlam in Theatre (A New Musical) หรือเรียกสั้น ๆ ว่า ละครเพลงลำเรื่อง ครั้งแรกในประเทศไทย โดยครั้งนี้นำวรรณกรรมอีสานคลาสสิคเรื่อง “ผาแดง-นางไอ่” มาตีความใหม่ และปรับบริบทเรื่องให้เป็นปัจจุบัน ภายใต้ชื่อเรื่อง “นางไอ่” เพื่อเสนอเรื่องราวของมนุษย์ผู้ซ่อนเร้นความลับอันดำมืดไว้ภายใต้ก้นบึ้งแห่งจิตใจ พร้อมกับการเผยธาตุแท้ของมนุษย์ทุกคนที่พัวพันในสังคมที่เต็มไปด้วยอำนาจ การกดขี่ และความเหลื่อมล้ำที่ยากจะหาทางออกได้ การแสดงนำเสนอจินตนาการใหม่ของตัวละครนางเอกในนิทานรักโรแมนติกมาเป็นนางเอกในเรื่องเล่าที่มีอยู่ในชีวิตจริง ซึ่งจะเหมือนหรือแตกต่างจากภาพจำของนิทานเรื่องเดิมอย่างไร และเรื่องนางไอ่จะจบลงแบบตำนานหนองหานล่มหรือไม่ต้องมาร่วมชมในวันที่ 3-5 กันยายน 2567 ณ โรงละครคณะศิลปกรรมศาสตร์ มหาวิทยาลัยขอนแก่น\nนำแสดงโดย อาย ปาลิตา อ๊อฟ สุรพล และนนท์ อชิระ จากหมอลำไอดอลซีซัน 1 สมทบด้วยนักแสดงมากความสามารถ อาทิ พิ้ง ปรางทิพย์ เดียร์ อภิญญา ตาอี๋ สาธิต ชาญชัย จตุรงค์ รุ่งฟ้า กุลาชัย ยิ้ม สมฤดี\nแต้มสี อนุทัย นักแสดงตลกมากฝีมือ อาทิ ตุ๊บตั๊บ น็อต นภา อัจฉรา และนักแสดงอีกมากมาย\n#กำกับการแสดงโดย พชญ อัคพราหมณ์\n#กำกับดนตรีโดย อาทิตย์ กระจ่างศรี\n#บทการแสดงโดย พชญ อัคพราหมณ์ พงศธร พุทธโคตร และสัจจาวุธ สุริยะดง\n#ประพันธ์กลอนลำโดย ธีรวัฒน์ เจียงคำ และบุญจันทร์ เพชรเมืองเลย\n#อำนวยการผลิตโดย สำนักงานศิลปวัฒนธรรมร่วมสมัย กระทรวงวัฒนธรรม และคณะศิลปกรรมศาสตร์ มหาวิทยาลัยขอนแก่น\n#ที่ปรึกษา ผศ.ดร.บุรินทร์ เปล่งดีสกุล คณบดีคณะศิลปกรรมศาสตร์\nผศ.ดร.ศิริศักดิ์ เหล่าจันขาม คณบดีวิทยาลัยปกครองท้องถิ่น\nคุณสุชาติ อินทร์พรหม ผู้บริหารคณะหมอลำอีสานนครศิลป์ และกรรมการบริการคณะศิลปกรรมศาสตร์\nติดตามข่าวสารและความเคลื่อนไหวการแสดงได้โดยสแกน QR Code (ในโปสเตอร์)\nหรือ Facebook Fanpage: Morlam Next Level\nหรือโทรสอบถามได้ที่ 063-6529396\, 082-1694963 \nติดตามรายละเอียดเพิ่มเติมได้ที่ : https://www.facebook.com/fakkukhonkaen  \nเพิ่มเติมรายละเอียดข่าว https://th.kku.ac.th/194985/ \n 
URL:https://www.kku.ac.th/th/event/%e0%b8%99%e0%b8%a7%e0%b8%b1%e0%b8%95%e0%b8%81%e0%b8%a3%e0%b8%a3%e0%b8%a1%e0%b8%81%e0%b8%b2%e0%b8%a3%e0%b9%81%e0%b8%aa%e0%b8%94%e0%b8%87%e0%b8%ab%e0%b8%a1%e0%b8%ad%e0%b8%a5%e0%b8%b3%e0%b9%80%e0%b8%a3/
LOCATION:คณะศิลปกรรมศาสตร์
CATEGORIES:Non degree education,กิจกรรมนักศึกษา,กิจกรรมบุคลากร,พิธีลงนามความร่วมมือ,ศิลปวัฒนธรรม ท่องเที่ยว บันเทิง
ATTACH;FMTTYPE=image/jpeg:https://www.kku.ac.th/wp-content/uploads/2024/08/6ff1fccf-518d-429e-b5c5-0d13d1d251ba.jpg
END:VEVENT
BEGIN:VEVENT
DTSTART;TZID=Asia/Bangkok:20240906T090000
DTEND;TZID=Asia/Bangkok:20240906T150000
DTSTAMP:20260425T185447
CREATED:20240827T082603Z
LAST-MODIFIED:20240903T030923Z
UID:196746-1725613200-1725634800@www.kku.ac.th
SUMMARY:“มหกรรมมหาวิทยาลัยขอนแก่นบริการชุมชน” ในโครงการ KKU CSV มหาวิทยาลัยขอนแก่นร่วมสร้างคุณค่าสู่สังคม ประจำปีงบประมาณ 2567
DESCRIPTION:มหกรรมมหาวิทยาลัยขอนแก่นบริการชุมชน จากมหาวิทยาลัยขอนแก่น และ หน่วยงานเครือข่าย ทั้งภายใน และภายนอกมหาวิทยาลัย  \nเข้าร่วมบริการวิชาการแก่ชาวขอนแก่นกว่า 40 หน่วยงาน \nโดยการจัดกิจกรรม “มหกรรมมหาวิทยาลัยขอนแก่นบริการชุมชน” ในโครงการ KKU CSV มหาวิทยาลัยขอนแก่นร่วมสร้างคุณค่าสู่สังคม ประจำปีงบประมาณ 2567 \nซึ่งจัดขึ้นเป็นครั้งที่ 5 แล้ว ในปีนี้ ได้กำหนดจัดขึ้น ในวันศุกร์ที่ 6 กันยายน  2567 เวลา 09.00 – 15.00 น. ณ สถานีรถไฟขอนแก่น จังหวัดขอนแก่น \nโดยมีวัตถุประสงค์เพื่อให้คณาจารย์ บุคลากร นักศึกษามหาวิทยาลัยขอนแก่น และหน่วยงานเครือข่าย ร่วมนำองค์ความรู้ \nทั้งทางด้านการบริการวิชาการ การให้คำปรึกษา รวมถึง การบริการด้านสุขภาพ ออกบริการประชาชนในชุมชน ฟรีโดยไม่มีค่าใช้จ่าย  ให้บริการ 4 ด้าน ได้แก่ \n1.บริการด้านสุขภาพ  \n2. บริการด้านส่งเสริมอาชีพ \n3. บริการด้านการให้ความรู้และการศึกษา \n4. บริการด้านการดูแลสัตว์เลี้ยงและอื่น ๆ \nรายละเอียดเพิ่มเติม \nhttps://www.facebook.com/kkuthailand 
URL:https://www.kku.ac.th/th/event/%e0%b8%a1%e0%b8%ab%e0%b8%81%e0%b8%a3%e0%b8%a3%e0%b8%a1%e0%b8%a1%e0%b8%ab%e0%b8%b2%e0%b8%a7%e0%b8%b4%e0%b8%97%e0%b8%a2%e0%b8%b2%e0%b8%a5%e0%b8%b1%e0%b8%a2%e0%b8%82%e0%b8%ad%e0%b8%99%e0%b9%81/
LOCATION:สถานีรถไฟขอนแก่น : Khon Kaen Railway Station\, Nai Mueang\, Mueang Khon Kaen District\, Khon Kaen 40000\, Mueang Khon Kaen District\, Khon Kaen\, 40000\, Thailand
CATEGORIES:Non degree education,กิจกรรมนักศึกษา,กิจกรรมบุคลากร,งานวิจัย,ประชุมสัมมนา,พิธีลงนามความร่วมมือ,ศิลปวัฒนธรรม ท่องเที่ยว บันเทิง,สิ่งแวดล้อม,สุขภาพ
ATTACH;FMTTYPE=image/png:https://www.kku.ac.th/wp-content/uploads/2024/08/100.png
END:VEVENT
BEGIN:VEVENT
DTSTART;VALUE=DATE:20240907
DTEND;VALUE=DATE:20240908
DTSTAMP:20260425T185447
CREATED:20240814T080121Z
LAST-MODIFIED:20240814T080121Z
UID:194904-1725667200-1725753599@www.kku.ac.th
SUMMARY:มหกรรมคอนเสิร์ตการกุศลเพื่อผู้ป่วยโรคหลอดเลือดสมอง Hope for Health
DESCRIPTION:เปิดจองความสนุกพร้อมได้ทำบุญกับเหล่าศิลปินหมอลำ ลูกทุ่งเพื่อชีวิตกว่า 200 ชีวิต ที่จะมาพร้อมกันใน\n“มหกรรมคอนเสิร์ตการกุศลเพื่อผู้ป่วยโรคหลอดเลือดสมอง Hope for Health”\n\n\n#เปิดจำหน่ายบัตรวันแรก\n14 สิงหาคม 2567 เวลา 14.00 น. เป็นต้นไป\nบัตรราคา 199 บาท\n………………………………………………………………………….\n บัตร VIP ราคา 10\,000 บาท\nได้รับบัตรชมคอนเสิร์ต 5 ที่นั่ง / คูปองเครื่องดื่ม 10 ใบ (Soft Drink) / ลดหย่อน ภาษี 2 เท่า\n………………………………………………………………………….\n บัตร VVIP 30\,000 บาท\nได้รับบัตรชมคอนเสิร์ต 8 ที่นั่ง / อาหารว่างและเครื่องดื่ม / ลดหย่อนภาษี 2 เท่า / บัตร all area (บัตรอนุญาตเข้าพื้นที่ เพื่อพบศิลปิน)\n………………………………………………………………………….\n บัตร Platinum 100\,000 บาท ขึ้นไป\n– ได้รับบัตรชมคอนเสิร์ต 16 ที่นั่ง\n– อาหารว่างและเครื่องดื่ม\n– ออกบูธประชาสัมพันธ์ และจำหน่ายผลิตภัณฑ์ด้านหน้าคอนเสิร์ต\nขนาด 3×3 เมตร\n– สิทธิ์นำชื่อบริษัท หรือ สัญลักษณ์ ขึ้นป้ายประชาสัมพันธ์ บนเวที\n– ลดหย่อนภาษี 2 เท่า\n– บัตร all area (บัตรอนุญาตเข้าพื้นที่ เพื่อพบศิลปิน)\n………………………………………………………………………….\n สนับสนุน 30\,000 บาท เพื่อออกบูธ ประชาสัมพันธ์\nจำหน่ายสินค้าและผลิตภัณฑ์\n– พื้นที่ 3×3 เมตร / ช่วงเวลา 14.00 น.- 20.00 น.\n– ลดหย่อนภาษี 2 เท่า\n– บัตรรับชมคอนเสิร์ต 5 ที่นั่ง / คูปองเครื่องดื่ม 10 ใบ (Soft Drink)\n\n\nสามารถซื้อบัตรมหกรรมคอนเสิร์ตการกุศล\nได้ทางเพจ : มหกรรมคอนเสิร์ตการกุศล Hope for Health\nhttps://web.facebook.com/profile.php?id=61563790268479
URL:https://www.kku.ac.th/th/event/%e0%b8%a1%e0%b8%ab%e0%b8%81%e0%b8%a3%e0%b8%a3%e0%b8%a1%e0%b8%84%e0%b8%ad%e0%b8%99%e0%b9%80%e0%b8%aa%e0%b8%b4%e0%b8%a3%e0%b9%8c%e0%b8%95%e0%b8%81%e0%b8%b2%e0%b8%a3%e0%b8%81%e0%b8%b8%e0%b8%a8%e0%b8%a5/
LOCATION:ศูนย์ประชุมอเนกประสงค์กาญจนาภิเษก มหาวิทยาลัยขอนแก่น\, CRW9+H3J\, Tambon Nai Mueang\, Mueang Khon Kaen District\, Khon Kaen 40002\, Mueang Khon Kaen District\, Khon Kaen\, 40002\, Thailand
CATEGORIES:Non degree education,กิจกรรมนักศึกษา,กิจกรรมบุคลากร,พิธีลงนามความร่วมมือ,ศิลปวัฒนธรรม ท่องเที่ยว บันเทิง
ATTACH;FMTTYPE=image/jpeg:https://www.kku.ac.th/wp-content/uploads/2024/08/S__11288730-1.jpg
END:VEVENT
BEGIN:VEVENT
DTSTART;TZID=Asia/Bangkok:20240911T090000
DTEND;TZID=Asia/Bangkok:20240912T170000
DTSTAMP:20260425T185447
CREATED:20240911T042004Z
LAST-MODIFIED:20240911T042004Z
UID:198694-1726045200-1726160400@www.kku.ac.th
SUMMARY:เปิดตัวละคร 5 เรื่องแรก ในเทศกาลละครเยาวชนแก่นอีสานวัฒน์
DESCRIPTION:เปิดตัวละคร 5 เรื่องแรก ใน\n#เทศกาลละครเยาวชนแก่นอีสานวัฒน์\n\n\nงานนี้น้องๆ ทุกโรงเรียนลงชุมชน\nค้นหาวัตถุดิบของตนเอง นำมาดีโค้ด (decoded)\nถอดรหัสถึงมุมมองต่อสิ่งนั้น\nในมุมของเยาวชนรุ่นใหม่-มองอีสานยังไงให้ดีโคตร\n\n\nร่วมรับชมการแสดงผลงานของน้องๆ\nณ โรงละครคณะศิลปกรรมศาสตร์ มหาวิทยาลัยขอนแก่น\n\n\nวันที่ 11-12 กันยายน 67\nเวลา 09.00 เป็นต้นไป\n\n\nหรือ Live Streaming ผ่านเพจ แก่นอีสานวัฒน์
URL:https://www.kku.ac.th/th/event/%e0%b9%80%e0%b8%9b%e0%b8%b4%e0%b8%94%e0%b8%95%e0%b8%b1%e0%b8%a7%e0%b8%a5%e0%b8%b0%e0%b8%84%e0%b8%a3-5-%e0%b9%80%e0%b8%a3%e0%b8%b7%e0%b9%88%e0%b8%ad%e0%b8%87%e0%b9%81%e0%b8%a3%e0%b8%81-%e0%b9%83/
LOCATION:คณะศิลปกรรมศาสตร์
CATEGORIES:Non degree education,กิจกรรมนักศึกษา,กิจกรรมบุคลากร,ศิลปวัฒนธรรม ท่องเที่ยว บันเทิง
ATTACH;FMTTYPE=image/jpeg:https://www.kku.ac.th/wp-content/uploads/2024/09/458467352_968898455039246_4485484348831163111_n.jpg
END:VEVENT
BEGIN:VEVENT
DTSTART;VALUE=DATE:20240912
DTEND;VALUE=DATE:20240915
DTSTAMP:20260425T185447
CREATED:20240904T065958Z
LAST-MODIFIED:20240909T035908Z
UID:197596-1726099200-1726358399@www.kku.ac.th
SUMMARY:งานนิทรรศการยิ่งใหญ่แห่งปี "Sustainability for All และ Food and Agro Tech 2024"
DESCRIPTION:เตรียมตัวให้พร้อม!\nพบกับงานนิทรรศการยิ่งใหญ่แห่งปี “Sustainability for All และ Food and Agro Tech 2024” \n.\n วันที่ 12-14 กันยายน 2567\nณ ศูนย์ประชุมอเนกประสงค์กาญจนาภิเษก มหาวิทยาลัยขอนแก่น\n.\n\n\n 12 กันยายน 2567\nปาฐกถาพิเศษ/เสวนา\n– พลังอุดมศึกษาสู่การพัฒนาอย่างยั่งยืน\n– ขับเคลื่อนเศรษฐกิจไทยด้วย BCG Model\n– เทคโนโลยีและนวัตกรรมเพื่อการเกษตร\nกิจกรรม Soft Power ของนักเรียน/นักศึกษา \n\n\n 13 กันยายน 2567\nปาฐกถาพิเศษ/เสวนา\n– นวัตกรรมอาหารแห่งอนาคตเพื่อสุขภาพที่ยั่งยืน\nประกวดวงดนตรี Better Strings 2024 \n\n\n 14 กันยายน 2567\nแข่งขัน Better Life Cover Dance 2024 \n\n\n บริการตรวจสุขภาพฟรีทุกวัน!\n– ตรวจคัดกรองมะเร็งปากมดลูก \n– ตรวจคัดกรองโรคไต \n– ตรวจคัดกรองพยาธิใบไม้ตับ\n– รับบริจาคโลหิต \n\n\n ชิม ช็อป ชมฟรี! พบกับสินค้านวัตกรรม ของดีเมืองอีสาน และร้านอาหารเจ้าดัง \n ปุ๊ปปั๊ปรับโชค ลุ้นรับรางวัลฟิน ๆ ทุกวัน ฟรี!!\n โดยภายในงานยังมีการจัดแสดงนิทรรศการและจำหน่ายสินค้ากว่า 100 นิทรรศการ จากมหาวิทยาลัยขอนแก่น และภาคีเครือข่าย\nงานนี้เข้าร่วมฟรี ห้ามพลาดเด็ดขาด! แล้วพบกันนะคะ \n\n\nอ่านรายละเอียดเพิ่มเติม : https://kku.world/a99m3\n.\nข่าวเพิ่มเติมได้ที่ : https://th.kku.ac.th/197525/\n.\nติดตามรายละเอียดได้ที่ : https://www.facebook.com/kkumuseum 
URL:https://www.kku.ac.th/th/event/%e0%b8%87%e0%b8%b2%e0%b8%99%e0%b8%99%e0%b8%b4%e0%b8%97%e0%b8%a3%e0%b8%a3%e0%b8%a8%e0%b8%81%e0%b8%b2%e0%b8%a3%e0%b8%a2%e0%b8%b4%e0%b9%88%e0%b8%87%e0%b9%83%e0%b8%ab%e0%b8%8d%e0%b9%88%e0%b9%81%e0%b8%ab/
LOCATION:ศูนย์ประชุมอเนกประสงค์กาญจนาภิเษก มหาวิทยาลัยขอนแก่น\, CRW9+H3J\, Tambon Nai Mueang\, Mueang Khon Kaen District\, Khon Kaen 40002\, Mueang Khon Kaen District\, Khon Kaen\, 40002\, Thailand
CATEGORIES:Non degree education,กิจกรรมนักศึกษา,กิจกรรมบุคลากร,ประชุมสัมมนา,พิธีลงนามความร่วมมือ,ศิลปวัฒนธรรม ท่องเที่ยว บันเทิง,สุขภาพ
ATTACH;FMTTYPE=image/jpeg:https://www.kku.ac.th/wp-content/uploads/2024/09/457645915_923219843174371_4759527198855532335_n.jpg
END:VEVENT
BEGIN:VEVENT
DTSTART;TZID=Asia/Bangkok:20240919T160000
DTEND;TZID=Asia/Bangkok:20240919T170000
DTSTAMP:20260425T185447
CREATED:20240828T062116Z
LAST-MODIFIED:20240828T062149Z
UID:196771-1726761600-1726765200@www.kku.ac.th
SUMMARY:สวดมนต์ ทำวัตรเย็น นั่งสมาธิ  “ศีล สมาธิ ปัญญา นำชีวาพบสุข”
DESCRIPTION:ขอเชิญพุทธศาสนิกชนทุกท่าน ร่วมสวดมนต์ ทำวัตรเย็น นั่งสมาธิ \nกับโครงการส่งเสริมคุณธรรม จริยธรรม สำนักงานอธิการบดี\n“ศีล สมาธิ ปัญญา นำชีวาพบสุข”\nในวันอังคารที่ 19 กันยายน 2567 เวลา 16.00-17.00 น. ณ โถงชั้น 1 อาคารสิริคุณากร มหาวิทยาลัยขอนแก่น\n——\nสามารถติดตาม วันเวลาของการจัดกิจกรรมล่วงหน้า ได้ที่\nFacebook : https://www.facebook.com/NATSAMOLKKU\nสอบถามเพิ่มเติม กองสื่อสารองค์กร 043-202204
URL:https://www.kku.ac.th/th/event/%e0%b8%aa%e0%b8%a7%e0%b8%94%e0%b8%a1%e0%b8%99%e0%b8%95%e0%b9%8c-%e0%b8%97%e0%b8%b3%e0%b8%a7%e0%b8%b1%e0%b8%95%e0%b8%a3%e0%b9%80%e0%b8%a2%e0%b9%87%e0%b8%99-%e0%b8%99%e0%b8%b1%e0%b9%88%e0%b8%87-12/
LOCATION:อาคารสิริคุณากร\, FRC8+94 Khon Kaen\, Mueang Khon Kaen District\, Khon Kaen\, Mueang Khon Kaen District\, Khon Kaen\, 40002\, Thailand
CATEGORIES:Non degree education,กิจกรรมนักศึกษา,กิจกรรมบุคลากร,ศิลปวัฒนธรรม ท่องเที่ยว บันเทิง
ATTACH;FMTTYPE=image/png:https://www.kku.ac.th/wp-content/uploads/2024/08/unnamed.png
END:VEVENT
BEGIN:VEVENT
DTSTART;VALUE=DATE:20240921
DTEND;VALUE=DATE:20240925
DTSTAMP:20260425T185447
CREATED:20240911T041424Z
LAST-MODIFIED:20240911T041424Z
UID:198691-1726876800-1727222399@www.kku.ac.th
SUMMARY:โครงการอบรมเชิงปฏิบัติการ แลกเปลี่ยนเรียนรู้ เชื่อมโยง เครือข่ายเยาวชนด้านวัฒนธรรม มหาวิทยาลัยขอนแก่น "โขนมอดินแดง"
DESCRIPTION:โครงการอบรมเชิงปฏิบัติการ แลกเปลี่ยนเรียนรู้ เชื่อมโยง เครือข่ายเยาวชนด้านวัฒนธรรม มหาวิทยาลัยขอนแก่น\n.\n“โขนมอดินแดง”\n.\nตรวจสอบรายชื่อ https://kku.world/yw2ho\nมีทั้งสิ้น 4 หลักสูตร ได้แก่\nหลักสูตรที่ 1 ลีลากุมภัณฑ์ (ตัวยักษ์)\nหลักสูตรที่ 2 ลีลาวานร (ตัวลิง)\nหลักสูตรที่ 3 ลีลาอัปสร (ตัวนาง)\nหลักสูตรที่ 4 ลีลาเทวบุตร (ตัวพระ)\n.\nสิ่งที่ผู้เข้าอบรมต้องเตรียมมาด้วย…\n1.เสื้อยืดสีขาว\n2.ผ้าแดง และ เข็มขัด\n3.ยารักษาโรคประจำตัว\n4.อาหารส่วนตัว (โครงการมีอาหารกลางวัน)\n.\nกำหนดจัดอบรมระหว่างวันที่ 14 – 15 กันยายน 2567\nและ 21 -22 กันยายน 2567 (ระยะเวลาอบรม 4 วัน)\nกำหนดการ https://kku.world/3jxhk\nณ ศูนย์ศิลปวัฒนธรรม มหาวิทยาลัยขอนแก่น\nติดต่อสอบถามเพิ่มเติมได้ที่ 0991674664\nหรือ anuskh@kku.ac.th
URL:https://www.kku.ac.th/th/event/%e0%b9%82%e0%b8%84%e0%b8%a3%e0%b8%87%e0%b8%81%e0%b8%b2%e0%b8%a3%e0%b8%ad%e0%b8%9a%e0%b8%a3%e0%b8%a1%e0%b9%80%e0%b8%8a%e0%b8%b4%e0%b8%87%e0%b8%9b%e0%b8%8f%e0%b8%b4%e0%b8%9a%e0%b8%b1%e0%b8%95%e0%b8%b4-6/
LOCATION:คุ้มศิลปวัฒนธรรม (ริมบึงสีฐาน) มหาวิทยาลัยขอนแก่น\, CRW7+43 Khon Kaen\, Mueang Khon Kaen District\, Khon Kaen\, Thailand\, Mueang Khon Kaen District\, Khon Kaen\, 40002\, Thailand
CATEGORIES:Non degree education,กิจกรรมนักศึกษา,กิจกรรมบุคลากร,ศิลปวัฒนธรรม ท่องเที่ยว บันเทิง,หลักสูตรระยะสั้น
ATTACH;FMTTYPE=image/jpeg:https://www.kku.ac.th/wp-content/uploads/2024/09/459075432_972988594631610_7362210450216967408_n.jpg
END:VEVENT
BEGIN:VEVENT
DTSTART;TZID=Asia/Bangkok:20240923T170000
DTEND;TZID=Asia/Bangkok:20240923T203000
DTSTAMP:20260425T185447
CREATED:20240916T022205Z
LAST-MODIFIED:20240916T022205Z
UID:199179-1727110800-1727123400@www.kku.ac.th
SUMMARY:งาน"สุขีมั่น สู่ขวัญวันเกิด" ประจำเดือน "กันยายน" สำหรับบุคลากรมหาวิทยาลัยขอนแก่น ที่เกิดในเดือนกันยายน
DESCRIPTION:สุขสันต์วันเกิดแบบอีสานบ้านเฮา ม่วนๆ ซื่นๆ\nในงาน”สุขีมั่น สู่ขวัญวันเกิด” ประจำเดือน “กันยายน”\nเพื่อเสริมสร้างกำลังกาย กำลังใจให้กับบุคลากรมหาวิทยาลัยขอนแก่น\nสำหรับบุคลากรมหาวิทยาลัยขอนแก่น ที่เกิดในเดือนกันยายน\nเชิญชวนเข้าร่วมกิจกรรมในวันจันทร์ที่ ๒๓ กันยายน ๒๕๖๗\nฟังหมอลำม่วนๆ จากแม่ ดร.จินตนา เย็นสวัสดิ์ (หมอลำจินตนา ปากไฟ) ศิลปินมรดกอีสาน ทานอาหารแซ่บๆ พร้อมร่วมกันทำบุญ\nแล้วพบกันที่ ณ คุ้มศิลปวัฒนธรรม ริมบึงสีฐาน มหาวิทยาลัยขอนแก่น\nงานเริ่ม ๑๗.๐๐ น. เป็นต้นไป\n\n\nสำหรับบุคลากรที่เกิดเดือนกันยายน สามารถลงทะเบียนได้ที่ ลิงค์ >>\nhttps://kku.world/mcn9r
URL:https://www.kku.ac.th/th/event/%e0%b8%87%e0%b8%b2%e0%b8%99%e0%b8%aa%e0%b8%b8%e0%b8%82%e0%b8%b5%e0%b8%a1%e0%b8%b1%e0%b9%88%e0%b8%99-%e0%b8%aa%e0%b8%b9%e0%b9%88%e0%b8%82%e0%b8%a7%e0%b8%b1%e0%b8%8d%e0%b8%a7%e0%b8%b1%e0%b8%99-3/
LOCATION:คุ้มศิลปวัฒนธรรม (ริมบึงสีฐาน) มหาวิทยาลัยขอนแก่น\, CRW7+43 Khon Kaen\, Mueang Khon Kaen District\, Khon Kaen\, Thailand\, Mueang Khon Kaen District\, Khon Kaen\, 40002\, Thailand
CATEGORIES:กิจกรรมบุคลากร,ศิลปวัฒนธรรม ท่องเที่ยว บันเทิง
ATTACH;FMTTYPE=image/jpeg:https://www.kku.ac.th/wp-content/uploads/2024/09/460249676_977474954182974_9102186344787962846_n.jpg
ORGANIZER;CN="%E0%B8%A8%E0%B8%B9%E0%B8%99%E0%B8%A2%E0%B9%8C%E0%B8%A7%E0%B8%B1%E0%B8%92%E0%B8%99%E0%B8%98%E0%B8%A3%E0%B8%A3%E0%B8%A1 %E0%B8%A1%E0%B8%AB%E0%B8%B2%E0%B8%A7%E0%B8%B4%E0%B8%97%E0%B8%A2%E0%B8%B2%E0%B8%A5%E0%B8%B1%E0%B8%A2%E0%B8%82%E0%B8%AD%E0%B8%99%E0%B9%81%E0%B8%81%E0%B9%88%E0%B8%99":MAILTO:cackku2516@gmail.com
END:VEVENT
BEGIN:VEVENT
DTSTART;VALUE=DATE:20240927
DTEND;VALUE=DATE:20240928
DTSTAMP:20260425T185447
CREATED:20240927T080240Z
LAST-MODIFIED:20240927T080423Z
UID:200683-1727395200-1727481599@www.kku.ac.th
SUMMARY:"จากวันที่พากเพียร สู่วันเกษียณที่ภาคภูมิ"  งานวันเกษียณอายุราชการ ประจำปี 2567
DESCRIPTION:พิธีบายศรีสู่ขวัญผู้เกษียณอายุราชการ ประจำปี 2567\n\n\nวันศุกร์ที่ 27 กันยายน 2567  เวลา 13.00 – 18.00 น.\n\nณ ศูนย์ประชุมเอนกประสงค์กาญจนาภิเษก มหาวิทยาลัยขอนแก่น\nhttps://www.facebook.com/kkuthailand
URL:https://www.kku.ac.th/th/event/%e0%b8%9e%e0%b8%b4%e0%b8%98%e0%b8%b5%e0%b8%9a%e0%b8%b2%e0%b8%a2%e0%b8%a8%e0%b8%a3%e0%b8%b5%e0%b8%aa%e0%b8%b9%e0%b9%88%e0%b8%82%e0%b8%a7%e0%b8%b1%e0%b8%8d%e0%b8%9c%e0%b8%b9%e0%b9%89%e0%b9%80%e0%b8%81-3/
LOCATION:ศูนย์ประชุมอเนกประสงค์กาญจนาภิเษก มหาวิทยาลัยขอนแก่น\, CRW9+H3J\, Tambon Nai Mueang\, Mueang Khon Kaen District\, Khon Kaen 40002\, Mueang Khon Kaen District\, Khon Kaen\, 40002\, Thailand
CATEGORIES:กิจกรรมบุคลากร,ศิลปวัฒนธรรม ท่องเที่ยว บันเทิง
ORGANIZER;CN="%E0%B8%A1%E0%B8%AB%E0%B8%B2%E0%B8%A7%E0%B8%B4%E0%B8%97%E0%B8%A2%E0%B8%B2%E0%B8%A5%E0%B8%B1%E0%B8%A2%E0%B8%82%E0%B8%AD%E0%B8%99%E0%B9%81%E0%B8%81%E0%B9%88%E0%B8%99":MAILTO:inbox@kku.ac.th
END:VEVENT
END:VCALENDAR