BEGIN:VCALENDAR
VERSION:2.0
PRODID:-//Khon Kaen University - ECPv6.15.20//NONSGML v1.0//EN
CALSCALE:GREGORIAN
METHOD:PUBLISH
X-ORIGINAL-URL:https://www.kku.ac.th
X-WR-CALDESC:Events for Khon Kaen University
REFRESH-INTERVAL;VALUE=DURATION:PT1H
X-Robots-Tag:noindex
X-PUBLISHED-TTL:PT1H
BEGIN:VTIMEZONE
TZID:Asia/Bangkok
BEGIN:STANDARD
TZOFFSETFROM:+0700
TZOFFSETTO:+0700
TZNAME:+07
DTSTART:20230101T000000
END:STANDARD
END:VTIMEZONE
BEGIN:VEVENT
DTSTART;TZID=Asia/Bangkok:20241002T160000
DTEND;TZID=Asia/Bangkok:20241002T170000
DTSTAMP:20260425T223051
CREATED:20240926T030748Z
LAST-MODIFIED:20240926T031219Z
UID:200421-1727884800-1727888400@www.kku.ac.th
SUMMARY:สวดมนต์ ทำวัตรเย็น นั่งสมาธิ  “ศีล สมาธิ ปัญญา นำชีวาพบสุข”
DESCRIPTION:ขอเชิญพุทธศาสนิกชนทุกท่าน ร่วมสวดมนต์ ทำวัตรเย็น นั่งสมาธิ \nกับโครงการส่งเสริมคุณธรรม จริยธรรม สำนักงานอธิการบดี\n“ศีล สมาธิ ปัญญา นำชีวาพบสุข”\nในวันพุธที่ 2 ตุลาคม 2567 เวลา 16.00-17.00 น. ณ โถงชั้น 1 อาคารสิริคุณากร มหาวิทยาลัยขอนแก่น\n——\nสามารถติดตาม วันเวลาของการจัดกิจกรรมล่วงหน้า ได้ที่\nFacebook : https://www.facebook.com/NATSAMOLKKU\nสอบถามเพิ่มเติม กองสื่อสารองค์กร 043-202204
URL:https://www.kku.ac.th/th/event/%e0%b8%aa%e0%b8%a7%e0%b8%94%e0%b8%a1%e0%b8%99%e0%b8%95%e0%b9%8c-%e0%b8%97%e0%b8%b3%e0%b8%a7%e0%b8%b1%e0%b8%95%e0%b8%a3%e0%b9%80%e0%b8%a2%e0%b9%87%e0%b8%99-%e0%b8%99%e0%b8%b1%e0%b9%88%e0%b8%87-13/
LOCATION:อาคารสิริคุณากร\, FRC8+94 Khon Kaen\, Mueang Khon Kaen District\, Khon Kaen\, Mueang Khon Kaen District\, Khon Kaen\, 40002\, Thailand
CATEGORIES:ศิลปวัฒนธรรม ท่องเที่ยว บันเทิง
ATTACH;FMTTYPE=image/png:https://www.kku.ac.th/wp-content/uploads/2024/09/2567-23.png
END:VEVENT
BEGIN:VEVENT
DTSTART;TZID=Asia/Bangkok:20241004T180000
DTEND;TZID=Asia/Bangkok:20241004T220000
DTSTAMP:20260425T223051
CREATED:20241003T083930Z
LAST-MODIFIED:20241003T084320Z
UID:201249-1728064800-1728079200@www.kku.ac.th
SUMMARY:ขอเชิญร่วมชมหมอลำศิลปินสินไซ หมอลำเรื่องต่อกลอนทำนองขอนแก่นในท้องเรื่อง “ปลาบู่ทอง”
DESCRIPTION:. ⟡ เชิญชวนทุกท่านร่วมจอยหมอลำศิลปินสินไซ . ⟡ \n\n\nภายใต้โครงการสอบทักษะดนตรีและการแสดง ของนักศึกษา สาขาดนตรีพื้นเมือง และสาขานาฏศิลป์ ชั้นปีที่3 คณะศิลปกรรมศาสตร์ มหาวิทยาลัยขอนแก่น\n\n\nเสนอ การสอบการจัดการแสดงวงหมอลำ ภายใต้ชื่อ คณะหมอลำ “ศิลปินสินไซ” หมอลำเรื่องต่อกลอนทำนองขอนแก่นในท้องเรื่อง “ปลาบู่ทอง” \nศิลปิน นักร้อง นักดนตรี แดนเซอร์ ตลก กว่า 100 ชีวิต เต็มที่กันสุดๆ \n\n\nพิเศษ !! พร้อมกับ “ศิลปินศิษย์เก่าสินไซ”\nแฮ็คส์ วิษณุกรณ์\, ดอกเหมย เพ็ญนภา\, อุ๋งอิ๋ง กรองกาญจน์\, แพรว กิตติยาภรณ์\, เนส ปรินทร\, พรุมพริม วิลาสินี และ ศิลปินรับเชิญพิเศษ แตงโม แซ่บเวอร์\, อ๊อฟ สุรพล จากแชมป์หมอลำไอดอล ซีซั่น 1\, พราว ภัทราวดี จากหมอลำไอดอล ซีซั่น 1\, พิม พรทิพย์ จากหมอลำไอดอล ซีซั่น 2\, ตาโต ชิษณุพงศ์ จากหมอลำไอดอล ซีซั่น 2\, หญิง กาญจน์กนก จาก รถแห่สายทอง มิวสิค\n\n\n 4 ตุลาคมนี้ ณ ริมบึงสีฐาน (ฝั่งหอศิลปวัฒนธรรม) มหาวิทยาลัยขอนแก่น\nเวลา 18:00 น. เป็นต้นไป\n\n\n∘₊✧─────  ชมฟรี  ───── ∘₊✧\n\n\nเต็มที่ เต็มรูปแบบ อลังการแน่นอน
URL:https://www.kku.ac.th/th/event/%e0%b8%82%e0%b8%ad%e0%b9%80%e0%b8%8a%e0%b8%b4%e0%b8%8d%e0%b8%a3%e0%b9%88%e0%b8%a7%e0%b8%a1%e0%b8%8a%e0%b8%a1%e0%b8%ab%e0%b8%a1%e0%b8%ad%e0%b8%a5%e0%b8%b3%e0%b8%a8%e0%b8%b4%e0%b8%a5%e0%b8%9b%e0%b8%b4/
LOCATION:คุ้มศิลปวัฒนธรรม (ริมบึงสีฐาน) มหาวิทยาลัยขอนแก่น\, CRW7+43 Khon Kaen\, Mueang Khon Kaen District\, Khon Kaen\, Thailand\, Mueang Khon Kaen District\, Khon Kaen\, 40002\, Thailand
CATEGORIES:Non degree education,กิจกรรมนักศึกษา,ศิลปวัฒนธรรม ท่องเที่ยว บันเทิง,หลักสูตรระยะสั้น
ATTACH;FMTTYPE=image/jpeg:https://www.kku.ac.th/wp-content/uploads/2024/10/461809200_945448400951515_8387029224558429159_n.jpg
END:VEVENT
BEGIN:VEVENT
DTSTART;TZID=Asia/Bangkok:20241005T190000
DTEND;TZID=Asia/Bangkok:20241005T220000
DTSTAMP:20260425T223051
CREATED:20240909T034355Z
LAST-MODIFIED:20240909T034355Z
UID:198174-1728154800-1728165600@www.kku.ac.th
SUMMARY:"คอนเสิร์ตดั่งแสงทองส่องในดวงใจนิรันดร์ 5" เนื่องในวาระครบรอบ 60 ปี แห่งการสถาปนามหาวิทยาลัยขอนแก่น และ 45 ปี แห่งการก่อตั้ง คณะทันตแพทยศาสตร์ มหาวิทยาลัยขอนแก่น
DESCRIPTION:“คอนเสิร์ตดั่งแสงทองส่องในดวงใจนิรันดร์ 5”\nเนื่องในวาระครบรอบ 60 ปี แห่งการสถาปนามหาวิทยาลัยขอนแก่น\nและ 45 ปี แห่งการก่อตั้ง คณะทันตแพทยศาสตร์ มหาวิทยาลัยขอนแก่น\nโดยกำหนดจัดขึ้นในวันเสาร์ที่ 5 ตุลาคม 2567 เริ่มเวลา 19.00 – 22.00 น.\nณ โรงละคร คณะศิลปกรรมศาสตร์ มหาวิทยาลัยขอนแก่น\nงานนี้มีศิลปินใจดี มาร่วมร้องบทเพลงไพเราะ\n💜คุณธีรนัยน์ ณ หนองคาย (น้ำมนต์)\n💜คุณปนัดดา เรืองวุฒิ (นัท)\n💜คุณพิจิกา จิตตะปุตตะ (ลูกหว้า)\n💜คุณกิตตินันท์ ชินสำราญ (ครูกิต เดอะวอยส์)\n💜คุณเขมวัฒน์ เริงธรรม (เก้ง Crescendo Space Brothers)\n💜และพิธีกรรับเชิญ คุณวราพรรณ ทรัพย์ธนะอุดม (แจง)\n“รวมบทเพลงไพเราะจากหลากหลายอัลบั้มของคุณเบิร์ด ธงไชย แมคอินไตย์” เพื่อสมทบกองทุนช่วยเหลือผู้ป่วยด้วยโรคช่องปาก ในภาคตะวันออกเฉียงเหนือ\n😍เปิดจองบัตรแล้ว….\nVIP 3\,000 บาท / 2\,500 บาท / 2\,000 บาท / 1\,000 บาท และ 500 บาท\n😍สอบถามเพิ่มเติมได้ที่ :\nโทร : 043-202405 หรือ 094- 278-4634 \n. \nติดตามรายละเอียดเพิ่มเติมได้ที่ :  https://www.facebook.com/dentistrykku \n \n  \nสแกนเพื่อกรอกรายละเอียดใบเสร็จและชำระเงิน
URL:https://www.kku.ac.th/th/event/%e0%b8%84%e0%b8%ad%e0%b8%99%e0%b9%80%e0%b8%aa%e0%b8%b4%e0%b8%a3%e0%b9%8c%e0%b8%95%e0%b8%94%e0%b8%b1%e0%b9%88%e0%b8%87%e0%b9%81%e0%b8%aa%e0%b8%87%e0%b8%97%e0%b8%ad%e0%b8%87%e0%b8%aa%e0%b9%88%e0%b8%ad/
LOCATION:คณะศิลปกรรมศาสตร์
CATEGORIES:Non degree education,กิจกรรมนักศึกษา,กิจกรรมบุคลากร,ครบรอบ สถาปณา,ศิลปวัฒนธรรม ท่องเที่ยว บันเทิง,สุขภาพ
ATTACH;FMTTYPE=image/png:https://www.kku.ac.th/wp-content/uploads/2024/09/a3-นำ้เงิน-00-4-1.png
END:VEVENT
BEGIN:VEVENT
DTSTART;TZID=Asia/Bangkok:20241008T170000
DTEND;TZID=Asia/Bangkok:20241008T200000
DTSTAMP:20260425T223051
CREATED:20241008T034659Z
LAST-MODIFIED:20241008T034659Z
UID:201654-1728406800-1728417600@www.kku.ac.th
SUMMARY:พิธีเปิดนิทรรศการ "สีสันบนแผ่นดินอีสาน"
DESCRIPTION:หอศิลป์ มหาวิทยาลัยขอนแก่น\nขอเชิญร่วมในพิธีเปิดนิทรรศการ “สีสันบนแผ่นดินอีสาน”\nวันที่ 8 ตุลาคม 2567\nเริ่มลงทะเบียนเวลา 17.00 น. เป็นต้นไป\nพิธีเปิดเวลา 17.30 น. ณ หอศิลป์ มหาวิทยาลัยขอนแก่น\n.\nพบกับผลงาน อ.ไสว แกล้วกล้า ศิลปินมรดกอีสาน\nพร้อมกับศิลปินรับเชิญ ประกอบด้วย\nจุมพล ราชวิจิตร I เดชา ศิริภาษณ์ I จักรี หาญสุวรรณI วินัย มารักษา I เพลิง วัตสาร I อำไพ แกล้วกล้าI คเณศ ศิลสัตย์ I ชากร ทินบุตร\n.\nประธานในพิธีโดย\nรศ.นพ.ชาญชัย พานทองวิริยะกุล\nอธิการบดี มหาวิทยาลัยขอนแก่น\n\n\nสนใจลงทะเบียนเข้าร่วม https://forms.gle/teG17xcabXREWmgB9
URL:https://www.kku.ac.th/th/event/%e0%b8%9e%e0%b8%b4%e0%b8%98%e0%b8%b5%e0%b9%80%e0%b8%9b%e0%b8%b4%e0%b8%94%e0%b8%99%e0%b8%b4%e0%b8%97%e0%b8%a3%e0%b8%a3%e0%b8%a8%e0%b8%81%e0%b8%b2%e0%b8%a3-%e0%b8%aa%e0%b8%b5%e0%b8%aa%e0%b8%b1/
LOCATION:หอศิลป์ มหาวิทยาลัยขอนแก่น
CATEGORIES:Non degree education,กิจกรรมนักศึกษา,กิจกรรมบุคลากร,ศิลปวัฒนธรรม ท่องเที่ยว บันเทิง
ATTACH;FMTTYPE=image/jpeg:https://www.kku.ac.th/wp-content/uploads/2024/10/462141941_1036291594963874_8239553353269279494_n.jpg
END:VEVENT
BEGIN:VEVENT
DTSTART;TZID=Asia/Bangkok:20241010T080000
DTEND;TZID=Asia/Bangkok:20241010T150000
DTSTAMP:20260425T223051
CREATED:20241009T045502Z
LAST-MODIFIED:20241009T060827Z
UID:201785-1728547200-1728572400@www.kku.ac.th
SUMMARY:พิธีไหว้อ้อยอครูหมอลำมหาวิทยาลัยขอนแก่น ประจำปี 2567
DESCRIPTION:พิธีไหว้อ้อยอครูหมอลำมหาวิทยาลัยขอนแก่น ประจำปี 2567 \nในวันพฤหัสบดี ที่ 10 ตุลาคม 2567 เวลา 08.30 น. \nณ โรงละคร FA Theater KKU คณะศิลปกรรมศาสตร์ มหาวิทยาลัยขอนแก่น\n\n\nกำหนดการไหว้ครู หมอลำกลอน 2567
URL:https://www.kku.ac.th/th/event/%e0%b8%9e%e0%b8%b4%e0%b8%98%e0%b8%b5%e0%b9%84%e0%b8%ab%e0%b8%a7%e0%b9%89%e0%b8%ad%e0%b9%89%e0%b8%ad%e0%b8%a2%e0%b8%ad%e0%b8%84%e0%b8%a3%e0%b8%b9%e0%b8%ab%e0%b8%a1%e0%b8%ad%e0%b8%a5%e0%b8%b3%e0%b8%a1/
LOCATION:คณะศิลปกรรมศาสตร์
CATEGORIES:Non degree education,กิจกรรมนักศึกษา,กิจกรรมบุคลากร,ศิลปวัฒนธรรม ท่องเที่ยว บันเทิง
ATTACH;FMTTYPE=image/jpeg:https://www.kku.ac.th/wp-content/uploads/2024/10/461930809_122137085102323531_562615887540636863_n.jpg
END:VEVENT
BEGIN:VEVENT
DTSTART;VALUE=DATE:20241012
DTEND;VALUE=DATE:20241110
DTSTAMP:20260425T223051
CREATED:20241009T061421Z
LAST-MODIFIED:20241009T061628Z
UID:201806-1728691200-1731196799@www.kku.ac.th
SUMMARY:เปิดรับสมัครผู้ที่สนใจเข้าร่วมอบรมใน โครงการอบรมเชิงปฏิบัติการพัฒนาทักษะและความรู้ด้านการแสดงศิลปะโขน
DESCRIPTION:ชมรมนาฏศิลป์ขอนแก่น ร่วมกับ ศูนย์ศิลปวัฒนธรรม มหาวิทยาลัยขอนแก่นเปิดรับสมัครผู้ที่สนใจเข้าร่วมอบรมในโครงการอบรมเชิงปฏิบัติการพัฒนาทักษะและความรู้ด้านการแสดงศิลปะโขน .“โขนมอดินแดง” ครั้งที่ 2.กำหนดการเข้าร่วมอบรม 5 วัน วันเสาร์ที่ 12 \,19\, 26 ตุลาคม 2567 และวันเสาร์ที่ 2\, 9 พ.ย. 67 เวลา 09.00 – 12.00 น.ลิ้งกำหนดการ https://kku.world/hahn3ณ ศูนย์ศิลปวัฒนธรรม มหาวิทยาลัยขอนแก่น.คุณสมบัติ1. นักเรียน / นักศึกษา /ประชาชนทั่วไป2. มีอายุ ตั้งแต่ 7 ปี ขึ้นไป3. ไม่จำกัดเพศ4. ไม่จำเป็นต้องมีพื้นฐานการแสดงศิลปะโขน5. สามารถเข้าอบรมได้ตลอดเวลาของหลักสูตร.มีทั้งสิ้น 4 หลักสูตร ได้แก่หลักสูตรที่ 1 ลีลากุมภัณฑ์ (ตัวยักษ์)หลักสูตรที่ 2 ลีลาวานร (ตัวลิง)หลักสูตรที่ 3 ลีลาอัปสร (ตัวนาง)หลักสูตรที่ 4 ลีลาเทวบุตร (ตัวพระ) \n.เปิดรับสมัคร ตั้งแต่บัดนี้ ถึง วันที่ 11 ตุลาคม 2567 เวลา 16.00 น.สมัครอบรมได้ที่ QR Code หรือ https://kku.world/biiv0สถานที่จัดงาน: ศูนย์ศิลปวัฒนธรรม มหาวิทยาลัยขอนแก่นติดต่อสอบถามเพิ่มเติมได้ที่ 0991674664 หรือ anuskh@kku.ac.th \nเพิ่มเติมรายละเอียด \nhttps://www.facebook.com/culturecenterkku
URL:https://www.kku.ac.th/th/event/%e0%b9%80%e0%b8%9b%e0%b8%b4%e0%b8%94%e0%b8%a3%e0%b8%b1%e0%b8%9a%e0%b8%aa%e0%b8%a1%e0%b8%b1%e0%b8%84%e0%b8%a3%e0%b8%9c%e0%b8%b9%e0%b9%89%e0%b8%97%e0%b8%b5%e0%b9%88%e0%b8%aa%e0%b8%99%e0%b9%83%e0%b8%88/
LOCATION:คณะศิลปกรรมศาสตร์
CATEGORIES:Non degree education,กิจกรรมนักศึกษา,กิจกรรมบุคลากร,ศิลปวัฒนธรรม ท่องเที่ยว บันเทิง,หลักสูตรระยะสั้น
ATTACH;FMTTYPE=image/jpeg:https://www.kku.ac.th/wp-content/uploads/2024/10/462279223_992805472649922_8145076795361333022_n.jpg
END:VEVENT
BEGIN:VEVENT
DTSTART;TZID=Asia/Bangkok:20241017T160000
DTEND;TZID=Asia/Bangkok:20241017T170000
DTSTAMP:20260425T223051
CREATED:20240926T030859Z
LAST-MODIFIED:20240926T031117Z
UID:200424-1729180800-1729184400@www.kku.ac.th
SUMMARY:โครงการส่งเสริมคุณธรรม จริยธรรม สำนักงานอธิการบดี “ศีล สมาธิ ปัญญา นำชีวาพบสุข”
DESCRIPTION:ขอเชิญพุทธศาสนิกชนทุกท่าน ร่วมสวดมนต์ ทำวัตรเย็น นั่งสมาธิ \nกับโครงการส่งเสริมคุณธรรม จริยธรรม สำนักงานอธิการบดี\n“ศีล สมาธิ ปัญญา นำชีวาพบสุข”\nในวันพฤหัสบดีที่ 17 ตุลาคม 2567 เวลา 16.00-17.00 น. ณ โถงชั้น 1 อาคารสิริคุณากร มหาวิทยาลัยขอนแก่น\n——\nสามารถติดตาม วันเวลาของการจัดกิจกรรมล่วงหน้า ได้ที่\nFacebook : https://www.facebook.com/NATSAMOLKKU\nสอบถามเพิ่มเติม กองสื่อสารองค์กร 043-202204
URL:https://www.kku.ac.th/th/event/%e0%b9%82%e0%b8%84%e0%b8%a3%e0%b8%87%e0%b8%81%e0%b8%b2%e0%b8%a3%e0%b8%aa%e0%b9%88%e0%b8%87%e0%b9%80%e0%b8%aa%e0%b8%a3%e0%b8%b4%e0%b8%a1%e0%b8%84%e0%b8%b8%e0%b8%93%e0%b8%98%e0%b8%a3%e0%b8%a3%e0%b8%a1/
LOCATION:อาคารสิริคุณากร\, FRC8+94 Khon Kaen\, Mueang Khon Kaen District\, Khon Kaen\, Mueang Khon Kaen District\, Khon Kaen\, 40002\, Thailand
CATEGORIES:ศิลปวัฒนธรรม ท่องเที่ยว บันเทิง
ATTACH;FMTTYPE=image/png:https://www.kku.ac.th/wp-content/uploads/2024/09/2567-23.png
END:VEVENT
BEGIN:VEVENT
DTSTART;TZID=Asia/Bangkok:20241022T130000
DTEND;TZID=Asia/Bangkok:20241022T153000
DTSTAMP:20260425T223051
CREATED:20241021T042308Z
LAST-MODIFIED:20241021T042308Z
UID:203285-1729602000-1729611000@www.kku.ac.th
SUMMARY:งานแถลงข่าวงานสีฐานเฟสติวัล“บุญสมมาบูชานาค” 2567 (Sithan KKU Festival2024)  “วิถีแห่งอีสาน สีฐานมูเตลู”
DESCRIPTION:แถลงข่าวงานสีฐานเฟสติวัล“บุญสมมาบูชานาค” 2567 (Sithan KKU Festival2024) \n“วิถีแห่งอีสาน สีฐานมูเตลู” ในวันอังคารที่ 22 ตุลาคม 2567 เวลา 13.00 – 15.30 น.  \nณ หอศิลป์ ศูนย์ศิลปวัฒนธรรม มหาวิทยาลัยขอนแก่น \n\n\n\n13.00 – 13.30 น.\nลงทะเบียน\n\n\n13.40 – 13.50 น.\nรับชมวีดิทัศน์ “การกลับมาของสีฐานเฟสติวัล 2567 มหาวิทยาลัยขอนแก่น”\n\n\n13.50 – 13.55 น.\nพิธีกรนำเข้าสู่บรรยากาศการจัดงาน\n\n\n13.55 – 14.40 น.\nแถลงข่าว โดย \n1. ผู้ว่าราชการจังหวัดขอนแก่น  \n          กล่าวถึง ความพร้อมของจังหวัดขอนแก่น \n2. รศ.นพ.ชาญชัย พานทองวิริยะ อธิการบดีมหาวิทยาลัยขอนแก่น    \n          กล่าวถึง ภาพรวมของการจัดงานสีฐานเฟสติวัล“บุญสมมาบูชานาค” 2567 \nกิจกรรมสำคัญที่จะเกิดขึ้นภายในงาน \n3. นายธีระศักดิ์ ฑีฆายุพันธุ์ นายกเทศมนตรีนครขอนแก่น \nกล่าวถึง ความร่วมมือระหว่างเทศบาลนครขอนแก่น และมหาวิทยาลัยขอนแก่นด้านศิลปวัฒนธรรม \n4. นายกองค์การบริหารส่วนจังหวัดขอนแก่น \n         กล่าวถึง การสนับสนุนการจัดงานสีฐานเฟสติวัล“บุญสมมาบูชานาค” 2567 \n4. การท่องเที่ยวแห่งประเทศไทย (ททท.) สำนักงานขอนแก่น \n         กล่าวถึง การสนับสนุนและการประชาสัมพันธ์การจัดงานสีฐานเฟสติวัล“บุญสมมาบูชานาค” 2567\n\n\n14.40 – 14.50 น.\nแนะนำเครือข่ายความร่วมมือ และผู้สนับสนุน\n\n\n14.50 – 15.15 น.\nเชิญสื่อมวลชนสอบถาม และให้สัมภาษณ์สื่อมวลชน\n\n\n15.15 – 15.30 น.\nผู้แถลงข่าว ส่วนราชการ อินฟลูเอนเซอร์ แขกผู้มีเกียรติ ถ่ายภาพรวม / เสร็จพิธี
URL:https://www.kku.ac.th/th/event/%e0%b8%87%e0%b8%b2%e0%b8%99%e0%b9%81%e0%b8%96%e0%b8%a5%e0%b8%87%e0%b8%82%e0%b9%88%e0%b8%b2%e0%b8%a7%e0%b8%87%e0%b8%b2%e0%b8%99%e0%b8%aa%e0%b8%b5%e0%b8%90%e0%b8%b2%e0%b8%99%e0%b9%80%e0%b8%9f%e0%b8%aa/
LOCATION:คุ้มศิลปวัฒนธรรม (ริมบึงสีฐาน) มหาวิทยาลัยขอนแก่น\, CRW7+43 Khon Kaen\, Mueang Khon Kaen District\, Khon Kaen\, Thailand\, Mueang Khon Kaen District\, Khon Kaen\, 40002\, Thailand
CATEGORIES:Non degree education,กิจกรรมนักศึกษา,กิจกรรมบุคลากร,ประชุมสัมมนา,ศิลปวัฒนธรรม ท่องเที่ยว บันเทิง
ATTACH;FMTTYPE=image/jpeg:https://www.kku.ac.th/wp-content/uploads/2024/10/ขอเชิญร่วมงานแถลงข่าว-scaled.jpg
END:VEVENT
BEGIN:VEVENT
DTSTART;VALUE=DATE:20241026
DTEND;VALUE=DATE:20241028
DTSTAMP:20260425T223051
CREATED:20241009T060504Z
LAST-MODIFIED:20241009T060543Z
UID:201802-1729900800-1730073599@www.kku.ac.th
SUMMARY:"กฐินมหาวิทยาลัยขอนแก่น ประจำปี ๒๕๖๗"
DESCRIPTION:ขอเชิญ ผู้บริหาร คณาจารย์ บุคลากร นักศึกษา และผู้มีจิตศรัทธา ร่วมอนุโมทนา กับมหาวิทยาลัยขอนแก่นในงาน“กฐินมหาวิทยาลัยขอนแก่นประจำปี ๒๕๖๗”ทอดถวาย ณ วัดเทพนรินทรารามตำบลวังสามหมอ อำเภอวังสามหมอ จังหวัดอุดรธานี  \nในระหว่างวันที่ ๒๖-๒๗ ตุลาคม ๒๕๖๗ผู้มีจิตศรัทธาร่วมปัจจัยทำบุญมหากุศลกับ มหาวิทยาลัยขอนแก่นชื่อบัญชี “กฐินมหาวิทยาลัยขอนแก่น”ธนาคารไทยพาณิชย์ เลขที่บัญชี 551 – 404422-9
URL:https://www.kku.ac.th/th/event/%e0%b8%81%e0%b8%90%e0%b8%b4%e0%b8%99%e0%b8%a1%e0%b8%ab%e0%b8%b2%e0%b8%a7%e0%b8%b4%e0%b8%97%e0%b8%a2%e0%b8%b2%e0%b8%a5%e0%b8%b1%e0%b8%a2%e0%b8%82%e0%b8%ad%e0%b8%99%e0%b9%81%e0%b8%81%e0%b9%88%e0%b8%99-4/
LOCATION:Khon Kaen
CATEGORIES:Non degree education,กิจกรรมนักศึกษา,กิจกรรมบุคลากร,ศิลปวัฒนธรรม ท่องเที่ยว บันเทิง
ATTACH;FMTTYPE=image/jpeg:https://www.kku.ac.th/wp-content/uploads/2024/10/462462945_994088562521613_2199175381981977383_n.jpg
END:VEVENT
BEGIN:VEVENT
DTSTART;TZID=Asia/Bangkok:20241031T160000
DTEND;TZID=Asia/Bangkok:20241031T170000
DTSTAMP:20260425T223051
CREATED:20240926T031032Z
LAST-MODIFIED:20240926T031146Z
UID:200426-1730390400-1730394000@www.kku.ac.th
SUMMARY:ขอเชิญพุทธศาสนิกชนทุกท่าน ร่วมสวดมนต์ ทำวัตรเย็น นั่งสมาธิ  กับโครงการส่งเสริมคุณธรรม จริยธรรม สำนักงานอธิการบดี “ศีล สมาธิ ปัญญา นำชีวาพบสุข”
DESCRIPTION:ขอเชิญพุทธศาสนิกชนทุกท่าน ร่วมสวดมนต์ ทำวัตรเย็น นั่งสมาธิ \nกับโครงการส่งเสริมคุณธรรม จริยธรรม สำนักงานอธิการบดี\n“ศีล สมาธิ ปัญญา นำชีวาพบสุข”\nในวันพฤหัสบดีที่ 31 ตุลาคม 2567 เวลา 16.00-17.00 น. ณ โถงชั้น 1 อาคารสิริคุณากร มหาวิทยาลัยขอนแก่น\n——\nสามารถติดตาม วันเวลาของการจัดกิจกรรมล่วงหน้า ได้ที่\nFacebook : https://www.facebook.com/NATSAMOLKKU\nสอบถามเพิ่มเติม กองสื่อสารองค์กร 043-202204
URL:https://www.kku.ac.th/th/event/%e0%b8%82%e0%b8%ad%e0%b9%80%e0%b8%8a%e0%b8%b4%e0%b8%8d%e0%b8%9e%e0%b8%b8%e0%b8%97%e0%b8%98%e0%b8%a8%e0%b8%b2%e0%b8%aa%e0%b8%99%e0%b8%b4%e0%b8%81%e0%b8%8a%e0%b8%99%e0%b8%97%e0%b8%b8%e0%b8%81%e0%b8%97-2/
LOCATION:อาคารสิริคุณากร\, FRC8+94 Khon Kaen\, Mueang Khon Kaen District\, Khon Kaen\, Mueang Khon Kaen District\, Khon Kaen\, 40002\, Thailand
CATEGORIES:ศิลปวัฒนธรรม ท่องเที่ยว บันเทิง
ATTACH;FMTTYPE=image/png:https://www.kku.ac.th/wp-content/uploads/2024/09/2567-23.png
END:VEVENT
END:VCALENDAR