BEGIN:VCALENDAR
VERSION:2.0
PRODID:-//Khon Kaen University - ECPv6.15.19//NONSGML v1.0//EN
CALSCALE:GREGORIAN
METHOD:PUBLISH
X-WR-CALNAME:Khon Kaen University
X-ORIGINAL-URL:https://www.kku.ac.th
X-WR-CALDESC:Events for Khon Kaen University
REFRESH-INTERVAL;VALUE=DURATION:PT1H
X-Robots-Tag:noindex
X-PUBLISHED-TTL:PT1H
BEGIN:VTIMEZONE
TZID:Asia/Bangkok
BEGIN:STANDARD
TZOFFSETFROM:+0700
TZOFFSETTO:+0700
TZNAME:+07
DTSTART:20230101T000000
END:STANDARD
END:VTIMEZONE
BEGIN:VEVENT
DTSTART;VALUE=DATE:20241012
DTEND;VALUE=DATE:20241110
DTSTAMP:20260420T042348
CREATED:20241009T061421Z
LAST-MODIFIED:20241009T061628Z
UID:201806-1728691200-1731196799@www.kku.ac.th
SUMMARY:เปิดรับสมัครผู้ที่สนใจเข้าร่วมอบรมใน โครงการอบรมเชิงปฏิบัติการพัฒนาทักษะและความรู้ด้านการแสดงศิลปะโขน
DESCRIPTION:ชมรมนาฏศิลป์ขอนแก่น ร่วมกับ ศูนย์ศิลปวัฒนธรรม มหาวิทยาลัยขอนแก่นเปิดรับสมัครผู้ที่สนใจเข้าร่วมอบรมในโครงการอบรมเชิงปฏิบัติการพัฒนาทักษะและความรู้ด้านการแสดงศิลปะโขน .“โขนมอดินแดง” ครั้งที่ 2.กำหนดการเข้าร่วมอบรม 5 วัน วันเสาร์ที่ 12 \,19\, 26 ตุลาคม 2567 และวันเสาร์ที่ 2\, 9 พ.ย. 67 เวลา 09.00 – 12.00 น.ลิ้งกำหนดการ https://kku.world/hahn3ณ ศูนย์ศิลปวัฒนธรรม มหาวิทยาลัยขอนแก่น.คุณสมบัติ1. นักเรียน / นักศึกษา /ประชาชนทั่วไป2. มีอายุ ตั้งแต่ 7 ปี ขึ้นไป3. ไม่จำกัดเพศ4. ไม่จำเป็นต้องมีพื้นฐานการแสดงศิลปะโขน5. สามารถเข้าอบรมได้ตลอดเวลาของหลักสูตร.มีทั้งสิ้น 4 หลักสูตร ได้แก่หลักสูตรที่ 1 ลีลากุมภัณฑ์ (ตัวยักษ์)หลักสูตรที่ 2 ลีลาวานร (ตัวลิง)หลักสูตรที่ 3 ลีลาอัปสร (ตัวนาง)หลักสูตรที่ 4 ลีลาเทวบุตร (ตัวพระ) \n.เปิดรับสมัคร ตั้งแต่บัดนี้ ถึง วันที่ 11 ตุลาคม 2567 เวลา 16.00 น.สมัครอบรมได้ที่ QR Code หรือ https://kku.world/biiv0สถานที่จัดงาน: ศูนย์ศิลปวัฒนธรรม มหาวิทยาลัยขอนแก่นติดต่อสอบถามเพิ่มเติมได้ที่ 0991674664 หรือ anuskh@kku.ac.th \nเพิ่มเติมรายละเอียด \nhttps://www.facebook.com/culturecenterkku
URL:https://www.kku.ac.th/th/event/%e0%b9%80%e0%b8%9b%e0%b8%b4%e0%b8%94%e0%b8%a3%e0%b8%b1%e0%b8%9a%e0%b8%aa%e0%b8%a1%e0%b8%b1%e0%b8%84%e0%b8%a3%e0%b8%9c%e0%b8%b9%e0%b9%89%e0%b8%97%e0%b8%b5%e0%b9%88%e0%b8%aa%e0%b8%99%e0%b9%83%e0%b8%88/
LOCATION:คณะศิลปกรรมศาสตร์
CATEGORIES:Non degree education,กิจกรรมนักศึกษา,กิจกรรมบุคลากร,ศิลปวัฒนธรรม ท่องเที่ยว บันเทิง,หลักสูตรระยะสั้น
ATTACH;FMTTYPE=image/jpeg:https://www.kku.ac.th/wp-content/uploads/2024/10/462279223_992805472649922_8145076795361333022_n.jpg
END:VEVENT
BEGIN:VEVENT
DTSTART;VALUE=DATE:20241101
DTEND;VALUE=DATE:20241102
DTSTAMP:20260420T042348
CREATED:20241018T063117Z
LAST-MODIFIED:20241018T063117Z
UID:203114-1730419200-1730505599@www.kku.ac.th
SUMMARY:กิจกรรม “คนไทยสมองดี” เนื่องในวันอัมพาตโลก World Stroke Day ภายใต้โครงการ แสงนำใจไทยทั้งชาติ เดิน วิ่ง ปั่น ป้องกันอัมพาต ครั้งที่ 10 เฉลิมพระเกียรติ
DESCRIPTION:ขอเชิญร่วมกิจกรรม “คนไทยสมองดี”\nเนื่องในวันอัมพาตโลก World Stroke Day\nภายใต้โครงการ แสงนำใจไทยทั้งชาติ เดิน วิ่ง ปั่น ป้องกันอัมพาต ครั้งที่ 10 เฉลิมพระเกียรติ\nวันที่ 1 พฤศจิกายน 2567 เวลา 11:00-15:00 น.\nณ ศูนย์การค้าเซ็นทรัล ขอนแก่น ชั้น 5\n\n\nพบกับกิจกรรมมากมาย\n\n\nบูธให้ความรู้ “เข้าถึง… เข้าใจ ป้องกัน Stroke ได้”\nบรรยายพิเศษ เรื่อง เครือข่ายบริการโรคอัมพาต เข้าถึงทันเวลา รักษาป้องกันได้\nโดย ศ.นพ. สมศักดิ์ เทียมเก่า ผูู้อำนวยการโรงพยาบาลศรีนครินทร์\nเสวนาความรูู้ “คนไทยสมองดี” (Healthy Thais\, Healthy Brains)\nโดย\nรศ.นพ. วีระเดช พิศประเสิรฐ รพ.ศรีนครินทร์ (อาหารบำรุงสมองดี)\nพญ. ภัทรชนก ภักดิ์ไธสง รพ.ศรีนครินทร์ (โรคหลอดเลือดสมอง : เข้าใจป้องกันได้)\nนพ. ธิติ ธิติศักดิ์สุกล รพ.ขอนแก่น (โรคหลอดเลือดสมอง : เข้าถึงทันเวลารักษาได้)\nนพ.เกษมสิน ภาวะกุล รพ.ขอนแก่น (โรคหลอดเลือดสมอง : การรักษาในยุคปัจจุบัน)\n\n\nบูธนิทรรศการความรู้\nเข้าถึง… เข้าใจ ป้องกัน Stroke ได้\nโรงพยาบาลศรีนครินทร์\n– บูธ “Fast track มาเร็วดีแน่จะแย่หากมาช้า”\n– บูธ “กินอย่างไร ห่างไกล Stroke”\n– บูธ “การประเมินองค์ประกอบของร่างกาย\n(Body Composition)”\n– บูธ “ประเมินความเสี่ยงโรคหลอดเลือดสมอง”\n2. โรงพยาบาลขอนแก่น\n– บูธนิทรรศการความรู้โรคหลอดเลือดสมอง\n\n\n#Stroke #Fasttrackมาเร็วดีแน่จะแย่หากมาช้า #WorldStrokeDay
URL:https://www.kku.ac.th/th/event/world-stroke-day/
LOCATION:ศูนย์การค้าเซ็นทรัล ขอนแก่น
CATEGORIES:Non degree education,กิจกรรมนักศึกษา,กิจกรรมบุคลากร,ศิลปวัฒนธรรม ท่องเที่ยว บันเทิง,สุขภาพ
ATTACH;FMTTYPE=image/jpeg:https://www.kku.ac.th/wp-content/uploads/2024/10/463838823_936111615216267_584437953567287960_n.jpg
END:VEVENT
BEGIN:VEVENT
DTSTART;VALUE=DATE:20241113
DTEND;VALUE=DATE:20241114
DTSTAMP:20260420T042348
CREATED:20240703T045717Z
LAST-MODIFIED:20240703T045717Z
UID:189728-1731456000-1731542399@www.kku.ac.th
SUMMARY:มหกรรมการประกวดวงดนตรีลูกทุ่ง ดาวรุ่งลูกทุ่งมอดินแดง ระดับมัธยมศึกษา ประจำปี 2567 ครั้งที่ 6
DESCRIPTION:สมเด็จพระกนิษฐาธิราชเจ้า กรมสมเด็จพระเทพรัตนราชสุดา เจ้าฟ้ามหาจักรีสิรินธร มหาวชิราลงกรณวรราชภักดี สิริกิจการิณีพีรยพัฒน รัฐสีมาคุณากรปิยชาติ สยามบรมราชกุมารี\n———\nทรงพระกรุณาโปรดเกล้าโปรดกระหม่อม\nพระราชทานถ้วยรางวัลชนะเลิศ\n\n\nในมหกรรมการประกวดวงดนตรีลูกทุ่ง ดาวรุ่งลูกทุ่งมอดินแดง\nระดับมัธยมศึกษา ประจำปี 2567 ครั้งที่ 6\n\n\nในรอบชิงชนะเลิศ วันที่ 13 พฤศจิกายน 2567 ณ มหาวิทยาลัยขอนแก่น\n\n\n———\n\n\nทรงพระเจริญ\nด้วยเกล้าด้วยกระหม่อมข้าพระพุทธเจ้า\nคณะกรรมการจัดการประกวดวงดนตรีลูกทุ่ง ดาวรุ่งลูกทุ่งมอดินแดง\nศูนย์ศิลปวัฒนธรรม มหาวิทยาลัยขอนแก่น\n\n\n———\nติดตามความเคลื่อนไหวการประกวดได้ที่ : https://www.facebook.com/profile.php?id=61559983570512
URL:https://www.kku.ac.th/th/event/%e0%b8%a1%e0%b8%ab%e0%b8%81%e0%b8%a3%e0%b8%a3%e0%b8%a1%e0%b8%81%e0%b8%b2%e0%b8%a3%e0%b8%9b%e0%b8%a3%e0%b8%b0%e0%b8%81%e0%b8%a7%e0%b8%94%e0%b8%a7%e0%b8%87%e0%b8%94%e0%b8%99%e0%b8%95%e0%b8%a3%e0%b8%b5/
LOCATION:คุ้มศิลปวัฒนธรรม (ริมบึงสีฐาน) มหาวิทยาลัยขอนแก่น\, CRW7+43 Khon Kaen\, Mueang Khon Kaen District\, Khon Kaen\, Thailand\, Mueang Khon Kaen District\, Khon Kaen\, 40002\, Thailand
CATEGORIES:Non degree education,กิจกรรมนักศึกษา,กิจกรรมบุคลากร,ศิลปวัฒนธรรม ท่องเที่ยว บันเทิง
ATTACH;FMTTYPE=image/jpeg:https://www.kku.ac.th/wp-content/uploads/2024/07/449742206_930786668851803_8481505181903509085_n.jpg
END:VEVENT
BEGIN:VEVENT
DTSTART;VALUE=DATE:20241113
DTEND;VALUE=DATE:20241116
DTSTAMP:20260420T042348
CREATED:20241016T042808Z
LAST-MODIFIED:20241030T031445Z
UID:202780-1731456000-1731715199@www.kku.ac.th
SUMMARY:สีฐานเฟสติวัล บุญสมมา บูชานาค 2567 (Sithan KKU Festival 2024)
DESCRIPTION:จัดเต็ม 3 วัน 3 คืน บรรยากาศ ความสนุกสนาน\nความอลังการยิ่งใหญ่กว่าเดิม \nกิจกรรมสุดว้าวมากมายกว่า 40 กิจกรรม\n.\n\n\n“สีฐานเฟสติวัล”\nบุญสมมา บูชานาค” 2567 \n(Sithan KKU Festival 2024)\nวิถีแห่งอีสาน สีฐานมูเตลู\n.\n\n>>>  13 – 15 พฤศจิกายน 2567 ณ ริมบึงสีฐาน มหาวิทยาลัยขอนแก่น ปักหมุดความสนุก รอไว้เลย  \nติดตามรายละเอียดเพิ่มเติมได้ที่เพจ : https://www.facebook.com/SithanKKUFestival
URL:https://www.kku.ac.th/th/event/%e0%b8%aa%e0%b8%b5%e0%b8%90%e0%b8%b2%e0%b8%99%e0%b9%80%e0%b8%9f%e0%b8%aa%e0%b8%95%e0%b8%b4%e0%b8%a7%e0%b8%b1%e0%b8%a52567/
LOCATION:บึงสีฐาน\, บึงสีฐาน มหาวิทยาลัยขอนแก่น\, เมืองขอนแก่น-\, ขอนแก่น\, 40000\, Thailand
CATEGORIES:Non degree education,ศิลปวัฒนธรรม ท่องเที่ยว บันเทิง
ATTACH;FMTTYPE=image/jpeg:https://www.kku.ac.th/wp-content/uploads/2024/10/464822530_862943925953364_7343770906257166972_n-scaled.jpg
ORGANIZER;CN="%E0%B8%A8%E0%B8%B9%E0%B8%99%E0%B8%A2%E0%B9%8C%E0%B8%A7%E0%B8%B1%E0%B8%92%E0%B8%99%E0%B8%98%E0%B8%A3%E0%B8%A3%E0%B8%A1 %E0%B8%A1%E0%B8%AB%E0%B8%B2%E0%B8%A7%E0%B8%B4%E0%B8%97%E0%B8%A2%E0%B8%B2%E0%B8%A5%E0%B8%B1%E0%B8%A2%E0%B8%82%E0%B8%AD%E0%B8%99%E0%B9%81%E0%B8%81%E0%B9%88%E0%B8%99":MAILTO:cackku2516@gmail.com
END:VEVENT
BEGIN:VEVENT
DTSTART;TZID=Asia/Bangkok:20241113T163000
DTEND;TZID=Asia/Bangkok:20241115T233000
DTSTAMP:20260420T042348
CREATED:20241021T043616Z
LAST-MODIFIED:20241021T043616Z
UID:203290-1731515400-1731713400@www.kku.ac.th
SUMMARY:NIGHT AT THE MUSEUM 2024
DESCRIPTION:NIGHT AT THE MUSEUM 2024 \n\n\nขอเชิญมาร่วมเปิดประสบการณ์กับเรื่องเล่าลี้ลับที่สืบทอดมา ค้นหาความเป็นมาของสิ่งเร้นลับที่อยู่คู่กับความเชื่อและพิธีกรรมโบราณ \nก่อนรวบรวมความกล้าเข้าสู่ความระทึกขวัญในบ้านผีสิงสุดสะพรึงที่รอคุณมาท้าพิสูจน์ บททดสอบจิตใจ และเส้นทางแห่งความสยองรอคุณที่นี่…\n\n\n…อย่าหวังว่าจะหนีพ้น!! \n\n\n  พิพิธภัณฑ์ธรรมชาติวิทยา\n  พิพิธภัณฑ์วิทยาศาสตร์\n\n\n วันที่ 13 14 15 พฤศจิกายน 2567\n เวลา 18.30 – 23.30 น. (จำหน่ายบัตร 18.00-23.00 น.)
URL:https://www.kku.ac.th/th/event/night-at-the-museum-2024/
LOCATION:ศูนย์พิพิธภัณฑ์และแหล่งเรียนรู้ตลอดชีวิต มหาวิทยาลัยขอนแก่น\, 123 ถนน มิตรภาพ Tambon Sila\, Mueang Khon Kaen District\, Khon Kaen 40002\, Mueang Khon Kaen District\, 40002
CATEGORIES:Non degree education,กิจกรรมนักศึกษา,กิจกรรมบุคลากร,พิธีลงนามความร่วมมือ,ศิลปวัฒนธรรม ท่องเที่ยว บันเทิง
ATTACH;FMTTYPE=image/jpeg:https://www.kku.ac.th/wp-content/uploads/2024/10/464015699_1075932904536753_189146653566445102_n.jpg
END:VEVENT
BEGIN:VEVENT
DTSTART;TZID=Asia/Bangkok:20241114T183000
DTEND;TZID=Asia/Bangkok:20241114T233000
DTSTAMP:20260420T042348
CREATED:20241112T020410Z
LAST-MODIFIED:20241112T020410Z
UID:205870-1731609000-1731627000@www.kku.ac.th
SUMMARY:การประกวดร้องเพลงลูกทุ่ง "เสียงสนแว่วหวาน สีฐานเฟสติวัล" ฉลองครบรอบ 60 ปี มข. ในงานสีฐานเฟสติวัล บุญสมมาบูชานาค 2567
DESCRIPTION:14 พฤศจิกายน 67 !!\nรับชมและร่วมเป็นกำลังใจ\nให้กับผู้เข้าประกวดในงาน\n—\nการประกวดร้องเพลงลูกทุ่ง\n“เสียงสนแว่วหวาน สีฐานเฟสติวัล”\nฉลองครบรอบ 60 ปี มข.\n—\nชิงเงินรางวัลรวมกว่า 50\,000 บาท\n—\nการแข่งขันในรอบชิงชนะเลิศ\nในวันพฤหัสบดีที่ 14 พฤศจิกายน 2567\nณ เวที 2 มหาวิทยาลัยขอนแก่น\nในงานสีฐานเฟสติวัล บุญสมมาบูชานาค 2567\n—\nพบกับนักร้องรับเชิญพิเศษ !!\n ผัดไท และ พอใจ\nจากค่ายสิงห์มิวสิค\n.\nหงสา ประภาพร\nจาก HONGSA GROUP\n———\nอย่าลืมมาร่วมเป็นกำลังใจให้นักร้องทุกท่านน่ะค้าบบ
URL:https://www.kku.ac.th/th/event/%e0%b8%81%e0%b8%b2%e0%b8%a3%e0%b8%9b%e0%b8%a3%e0%b8%b0%e0%b8%81%e0%b8%a7%e0%b8%94%e0%b8%a3%e0%b9%89%e0%b8%ad%e0%b8%87%e0%b9%80%e0%b8%9e%e0%b8%a5%e0%b8%87%e0%b8%a5%e0%b8%b9%e0%b8%81%e0%b8%97%e0%b8%b8/
LOCATION:Khon Kaen
CATEGORIES:ศิลปวัฒนธรรม ท่องเที่ยว บันเทิง
ATTACH;FMTTYPE=image/png:https://www.kku.ac.th/wp-content/uploads/2024/11/เสียงสนแว่วหวาน67.png
END:VEVENT
BEGIN:VEVENT
DTSTART;VALUE=DATE:20241119
DTEND;VALUE=DATE:20241120
DTSTAMP:20260420T042348
CREATED:20241118T022811Z
LAST-MODIFIED:20241118T022811Z
UID:206341-1731974400-1732060799@www.kku.ac.th
SUMMARY:พิธีบวงสรวงเจ้าพ่อมอดินแดง ประจำปี 2567
DESCRIPTION:ขอเชิญบุคลากร นักศึกษาและผู้มีจิตศรัทธา ร่วม “พิธีบวงสรวงเจ้าพ่อมอดินแดง ประจำปี 2567”\nในวันอังคารที่ 19 พฤศจิกายน 2567 ณ ศาลาธรรมสถานเจ้าพ่อมอดินแดง\n.\n\n\nกิจกรรมภาคเช้า : พิธีบวงสรวงเจ้าพ่อมอดินแดง (07.30 น. – 09.30 น.)\n07.30 น. นักศึกษาเดินขบวนสู่พิธีบวงสรวง\n08.00 น. คณะผู้บริหารและแขกผู้มีเกียรติพร้อมกัน ณ มณฑลพิธี\n08.09 น. เริ่มพิธีบวงสรวง นำโดย อธิการบดีมหาวิทยาลัยขอนแก่น\n\n\nกิจกรรมภาคค่ำ : มหรสพสมโภชเจ้าพ่อมอดินแดง (18.00 น. – 21.00 น.)\n18.00 น. งานสมโภชลิเก\n.\n\n\nการแต่งกาย ชุดผ้าไทย สวยงาม\n• หมายเหตุ\n– พิธีบวงสรวงช่วงเช้า ท่านใดที่มาร่วมพิธีสามารถนำของไหว้มาเองได้\n– ไม่มีบริการบูชาของไหว้ หรือ ของบวงสรวง\n\n\nสอบถามเพิ่มเติมได้ที่ : กองพัฒนานักศึกษาและศิษย์เก่าสัมพันธ์ มหาวิทยาลัยขอนแก่น
URL:https://www.kku.ac.th/th/event/%e0%b8%9a%e0%b8%a7%e0%b8%87%e0%b8%aa%e0%b8%a3%e0%b8%a7%e0%b8%87%e0%b9%80%e0%b8%88%e0%b9%89%e0%b8%b2%e0%b8%9e%e0%b9%88%e0%b8%ad%e0%b8%a1%e0%b8%ad2567/
LOCATION:ศาลาธรรมสถานศาลเจ้าพ่อมอดินแดง มหาวิทยาลัยขอนแก่น
CATEGORIES:Non degree education,กิจกรรมนักศึกษา,กิจกรรมบุคลากร,ครบรอบ สถาปณา,ศิลปวัฒนธรรม ท่องเที่ยว บันเทิง
ATTACH;FMTTYPE=image/jpeg:https://www.kku.ac.th/wp-content/uploads/2024/11/466924822_978269104336111_4786306271491768748_n-scaled.jpg
END:VEVENT
BEGIN:VEVENT
DTSTART;TZID=Asia/Bangkok:20241121T133000
DTEND;TZID=Asia/Bangkok:20241121T163000
DTSTAMP:20260420T042348
CREATED:20241106T083739Z
LAST-MODIFIED:20241106T083739Z
UID:205030-1732195800-1732206600@www.kku.ac.th
SUMMARY:กิจกรรม KKU Academy Talk หัวข้อ: ‘ห้องเรียนสีชมพู’  และ หัวข้อ: ‘ธรรมชาติวาดแปลง’
DESCRIPTION:กลับมาอีกครั้งกับกิจกรรม KKU Academy Talk ‘ห้องเรียนสีชมพู’ ที่จะพาคุณดื่มด่ำไปกับธรรมชาติและศิลปะ ณ KKU Academy!\n\n\n รับชมสารคดี ‘ห้องเรียนสีชมพู’ สารคดีที่จะพาคุณไปรู้จักกับธรรมชาติในพื้นที่ อ.สีชมพู จ.ขอนแก่น ให้มากยิ่งขึ้น\n\n\n กิจกรรม KKU Academy Talk\nหัวข้อ: ‘ห้องเรียนสีชมพู’ โดย ครูสอญอ คุณสัญญา มัครินทร์ ผู้ร่วมก่อตั้ง มหา’ลัยไทบ้าน\n\n\n Workshop Art\nหัวข้อ: ‘ธรรมชาติวาดแปลง’ โดย คุณขวัญยืน เกตุหนู ศิลปินและผู้ร่วมก่อตั้ง เที่ยววิถีสีชมพู\nมาเรียนรู้การสร้างสรรค์ศิลปะจากธรรมชาติ พร้อมรับผลงานกลับบ้านฟรี! \n\n\n วันที่ 21 พฤศจิกายน 2567\n เวลา 13.30 – 16.30 น.\n สถานที่: KKU Academy ชั้น 9 ศูนย์สารสนเทศ (สำนักหอสมุด) มหาวิทยาลัยขอนแก่น\n\n\n สอบถามข้อมูลเพิ่มเติม 043-009700 ต่อ 50792\nหรือทางเพจ Facebook KKU Academy\n\n\nมาเป็นส่วนหนึ่งของประสบการณ์ศิลปะและการเรียนรู้ที่ไม่เหมือนใคร!  #ห้องเรียนสีชมพู #ศิลปะจากธรรมชาติ #KKUAcademyTalk #WhereLearningMeetsInspiration
URL:https://www.kku.ac.th/th/event/%e0%b8%81%e0%b8%b4%e0%b8%88%e0%b8%81%e0%b8%a3%e0%b8%a3%e0%b8%a1-kku-academy-talk-%e0%b8%ab%e0%b8%b1%e0%b8%a7%e0%b8%82%e0%b9%89%e0%b8%ad-%e0%b8%ab%e0%b9%89%e0%b8%ad%e0%b8%87%e0%b9%80%e0%b8%a3/
LOCATION:อุทยานเทคโนโลยีการเกษตร มหาวิทยาลัยขอนแก่น
CATEGORIES:Non degree education,กิจกรรมนักศึกษา,ศิลปวัฒนธรรม ท่องเที่ยว บันเทิง,สุขภาพ
ATTACH;FMTTYPE=image/jpeg:https://www.kku.ac.th/wp-content/uploads/2024/11/465745149_971551581674530_2708743660347346860_n.jpg
END:VEVENT
BEGIN:VEVENT
DTSTART;TZID=Asia/Bangkok:20241125T163000
DTEND;TZID=Asia/Bangkok:20241126T173000
DTSTAMP:20260420T042348
CREATED:20241112T081531Z
LAST-MODIFIED:20241112T081531Z
UID:205954-1732552200-1732642200@www.kku.ac.th
SUMMARY:มหาวิทยาลัยขอนแก่น ซ้อม“รำบวงสรวง 10 สิ่งศักดิ์สิทธิ์คู่เมืองขอนแก่น” เพื่อเฉลิมฉลองครบรอบ 227 ปีเมืองขอนแก่น
DESCRIPTION:📢 ขอเชิญชาวมหาวิทยาลัยขอนแก่นร่วมเป็นส่วนหนึ่งในประวัติศาสตร์ร่วม “รำบวงสรวง 10 สิ่งศักดิ์สิทธิ์คู่เมืองขอนแก่น” เพื่อเฉลิมฉลองครบรอบ 227 ปีเมืองขอนแก่น \n🎉 กำหนดการซ้อม: 🗓 วันที่ 25-26 พฤศจิกายน 2567\n⏰เวลา 16.30 – 17.30 น. 📍\nณ โถงชั้น 1 อาคารสิริคุณากร มหาวิทยาลัยขอนแก่น \n🎉 กำหนดการวันรำบวงสรวง: 🗓 วันที่ 28 พฤศจิกายน 2567\n⏰ เวลา 13.30 น. พร้อมกันหน้าอาคารสิริคุณากร\n⏰ เวลา 14.00 น. ขบวนเคลื่อนไปยังศาลหลักเมืองขอนแก่น 🚶‍♂️\n⏰ เวลา 16.00 น. ร่วมรำบวงสรวง 10 สิ่งศักดิ์สิทธิ์คู่เมืองขอนแก่น \n🔔 สแกน QR Code หรือลิ้งค์ https://forms.gle/N9WGSYXjmUX35ZhZA เพื่อลงทะเบียนสมัครเข้าร่วมกิจกรรม\nสอบถามรายละเอียดเพิ่มเติมได้ที่: 📞 โทร 043 202 204 เบอร์ภายใน 48745 \nผู้ร่วมงานใส่เสื้อเหลืองดอกคูน\n“ผู้รำหญิง” นุ่งผ้าซิ่นมัดหมี่สีเหลือง หรือผ้าซิ่นลายแคนแก่นคูณ พาดสไบผ้าขาวม้า หรือผ้าสไบแคนแก่นคูณ เก็บผมให้เรียบร้อยพร้อมติดดอกคูน (ด้านซ้าย)\n“ผู้รำชาย” สวมกางเกงสีดำ คาดเอวด้วยผ้าขาวม้า หรือผ้าลายแคนแก่นคูน หรือสามารถสวมใส่ชุดผ้าไทยประจำถิ่น หรือชุดประจำหมู่คณะได้เป็นชุดหลากสี ชุดผ้าพื้นเมือง หรือใส่เสื้ออะไรก็ได้ไม่ว่าชุดนักเรียน ชุดนักศึกษา\nการรำ 3 เพลง คือ ขอนแก่นวันนี้ ฟ้อนผูกเสี่ยว ดอกคูนเสียงแคน\nแถมเพิ่มอีก 2 เพลง เพลงสาวอีสานรอรัก ฮักสาวขอนแก่น ไม่บังคับทำท่า \nhttps://www.youtube.com/watch?v=eimhWtHN4po&t=1202s
URL:https://www.kku.ac.th/th/event/%e0%b8%a1%e0%b8%ab%e0%b8%b2%e0%b8%a7%e0%b8%b4%e0%b8%97%e0%b8%a2%e0%b8%b2%e0%b8%a5%e0%b8%b1%e0%b8%a2%e0%b8%82%e0%b8%ad%e0%b8%99%e0%b9%81%e0%b8%81%e0%b9%88%e0%b8%99-%e0%b8%8b%e0%b9%89%e0%b8%ad%e0%b8%a1/
LOCATION:อาคารสิริคุณากร\, FRC8+94 Khon Kaen\, Mueang Khon Kaen District\, Khon Kaen\, Mueang Khon Kaen District\, Khon Kaen\, 40002\, Thailand
CATEGORIES:Non degree education,กิจกรรมนักศึกษา,กิจกรรมบุคลากร,ครบรอบ สถาปณา,ศิลปวัฒนธรรม ท่องเที่ยว บันเทิง
ATTACH;FMTTYPE=image/jpeg:https://www.kku.ac.th/wp-content/uploads/2024/11/00-scaled.jpg
END:VEVENT
BEGIN:VEVENT
DTSTART;TZID=Asia/Bangkok:20241129T160000
DTEND;TZID=Asia/Bangkok:20241129T170000
DTSTAMP:20260420T042348
CREATED:20241107T034643Z
LAST-MODIFIED:20241107T034643Z
UID:205070-1732896000-1732899600@www.kku.ac.th
SUMMARY:สวดมนต์ ทำวัตรเย็น นั่งสมาธิ  กับโครงการส่งเสริมคุณธรรม จริยธรรม สำนักงานอธิการบดี “ศีล สมาธิ ปัญญา นำชีวาพบสุข”
DESCRIPTION:ขอเชิญพุทธศาสนิกชนทุกท่าน ร่วมสวดมนต์ ทำวัตรเย็น นั่งสมาธิ \nกับโครงการส่งเสริมคุณธรรม จริยธรรม สำนักงานอธิการบดี\n“ศีล สมาธิ ปัญญา นำชีวาพบสุข”\nในวันศุกร์ที่ 29 พฤษจิกายน 2567 เวลา 16.00-17.00 น. ณ โถงชั้น 1 อาคารสิริคุณากร มหาวิทยาลัยขอนแก่น\n——\nสามารถติดตาม วันเวลาของการจัดกิจกรรมล่วงหน้า ได้ที่\nFacebook : https://www.facebook.com/NATSAMOLKKU\nสอบถามเพิ่มเติม กองสื่อสารองค์กร 043-202204
URL:https://www.kku.ac.th/th/event/%e0%b8%aa%e0%b8%a7%e0%b8%94%e0%b8%a1%e0%b8%99%e0%b8%95%e0%b9%8c-%e0%b8%97%e0%b8%b3%e0%b8%a7%e0%b8%b1%e0%b8%95%e0%b8%a3%e0%b9%80%e0%b8%a2%e0%b9%87%e0%b8%99-%e0%b8%99%e0%b8%b1%e0%b9%88%e0%b8%87-14/
LOCATION:อาคารสิริคุณากร\, FRC8+94 Khon Kaen\, Mueang Khon Kaen District\, Khon Kaen\, Mueang Khon Kaen District\, Khon Kaen\, 40002\, Thailand
CATEGORIES:Non degree education,กิจกรรมนักศึกษา,กิจกรรมบุคลากร,ศิลปวัฒนธรรม ท่องเที่ยว บันเทิง
ATTACH;FMTTYPE=image/jpeg:https://www.kku.ac.th/wp-content/uploads/2024/11/465795483_1069424121641081_6843983107654148946_n.jpg
END:VEVENT
END:VCALENDAR