BEGIN:VCALENDAR
VERSION:2.0
PRODID:-//Khon Kaen University - ECPv6.15.20//NONSGML v1.0//EN
CALSCALE:GREGORIAN
METHOD:PUBLISH
X-WR-CALNAME:Khon Kaen University
X-ORIGINAL-URL:https://www.kku.ac.th
X-WR-CALDESC:Events for Khon Kaen University
REFRESH-INTERVAL;VALUE=DURATION:PT1H
X-Robots-Tag:noindex
X-PUBLISHED-TTL:PT1H
BEGIN:VTIMEZONE
TZID:Asia/Bangkok
BEGIN:STANDARD
TZOFFSETFROM:+0700
TZOFFSETTO:+0700
TZNAME:+07
DTSTART:20210101T000000
END:STANDARD
END:VTIMEZONE
BEGIN:VEVENT
DTSTART;TZID=Asia/Bangkok:20220617T123000
DTEND;TZID=Asia/Bangkok:20220617T150000
DTSTAMP:20260425T003503
CREATED:20220615T033408Z
LAST-MODIFIED:20220615T044514Z
UID:103792-1655469000-1655478000@www.kku.ac.th
SUMMARY:ปฐมนิเทศนักศึกษาระดับบัณฑิตศึกษา คณะบริหารธุรกิจและการบัญชี ประจำปีการศึกษา 2565
DESCRIPTION:ขอเชิญนักศึกษาใหม่ระดับบัณฑิตศึกษา (ป.โท-ป.เอก)\nเข้าร่วมกิจกรรมปฐมนิเทศนักศึกษาระดับบัณฑิตศึกษา คณะบริหารธุรกิจและการบัญชี ประจำปีการศึกษา 2565 \n📌 วันศุกร์ที่ 17 มิถุนายน 2565 เวลา 12.30 น. เป็นต้นไป\n📌ณ ห้องวังเลิศ สมาร์ทคลาสรูม ชั้น 1 อาคาร BS01 คณะบริหารธุรกิจและการบัญชี มหาวิทยาลัยขอนแก่น
URL:https://www.kku.ac.th/th/event/%e0%b8%9b%e0%b8%90%e0%b8%a1%e0%b8%99%e0%b8%b4%e0%b9%80%e0%b8%97%e0%b8%a8%e0%b8%99%e0%b8%b1%e0%b8%81%e0%b8%a8%e0%b8%b6%e0%b8%81%e0%b8%a9%e0%b8%b2%e0%b8%a3%e0%b8%b0%e0%b8%94%e0%b8%b1%e0%b8%9a%e0%b8%9a/
LOCATION:คณะบริหารธุรกิจและการบัญชี\, FRFG+G6 Khon Kaen\, Mueang Khon Kaen District\, Khon Kaen\, Mueang Khon Kaen District\, Khon Kaen\, 40002\, Thailand
CATEGORIES:กิจกรรมนักศึกษา,ประชุมสัมมนา
ATTACH;FMTTYPE=image/jpeg:https://www.kku.ac.th/wp-content/uploads/2022/06/2-1.jpg
END:VEVENT
BEGIN:VEVENT
DTSTART;TZID=Asia/Bangkok:20220621T083000
DTEND;TZID=Asia/Bangkok:20220621T120000
DTSTAMP:20260425T003503
CREATED:20220613T095308Z
LAST-MODIFIED:20220615T044640Z
UID:103723-1655800200-1655812800@www.kku.ac.th
SUMMARY:วันพบผู้ปกครองนักศึกษาใหม่ KKBS ประจำปีการศึกษา 2565
DESCRIPTION:  \nขอเชิญผู้ปกครองนักศึกษาใหม่ คณะบริหารธุรกิจและการบัญชี มหาวิทยาลัยขอนแก่น เข้าร่วมงาน\n“วันพบผู้ปกครองนักศึกษาใหม่ KKBS ประจำปีการศึกษา 2565”\nวันอังคารที่ 21 มิถุนายน 2565 เวลา 08.45-12.00 น.\nด้วยวิธีออนไลน์ ผ่านโปรแกรม ZOOM \nสอบถามรายละเอียดเพิ่มเติม ภารกิจด้านพัฒนานักศึกษา คณะบริหารธุรกิจและการบัญชี มหาวิทยาลัยขอนแก่น โทร.043202401 ต่อ 48005-7\nหรือที่ https://kku.world/kkbsparent
URL:https://www.kku.ac.th/th/event/%e0%b8%a7%e0%b8%b1%e0%b8%99%e0%b8%9e%e0%b8%9a%e0%b8%9c%e0%b8%b9%e0%b9%89%e0%b8%9b%e0%b8%81%e0%b8%84%e0%b8%a3%e0%b8%ad%e0%b8%87%e0%b8%99%e0%b8%b1%e0%b8%81%e0%b8%a8%e0%b8%b6%e0%b8%81%e0%b8%a9%e0%b8%b2/
LOCATION:คณะบริหารธุรกิจและการบัญชี\, FRFG+G6 Khon Kaen\, Mueang Khon Kaen District\, Khon Kaen\, Mueang Khon Kaen District\, Khon Kaen\, 40002\, Thailand
CATEGORIES:กิจกรรมนักศึกษา,ประชุมสัมมนา
ATTACH;FMTTYPE=image/jpeg:https://www.kku.ac.th/wp-content/uploads/2022/06/3-2.jpg
END:VEVENT
BEGIN:VEVENT
DTSTART;TZID=Asia/Bangkok:20220624T083000
DTEND;TZID=Asia/Bangkok:20220624T120000
DTSTAMP:20260425T003503
CREATED:20220615T033806Z
LAST-MODIFIED:20220615T044608Z
UID:103795-1656059400-1656072000@www.kku.ac.th
SUMMARY:ปฐมนิเทศนักศึกษาระดับระดับปริญญาตรี คณะบริหารธุรกิจและการบัญชี ประจำปีการศึกษา 2565
DESCRIPTION:ขอเชิญนักศึกษาใหม่ เข้าร่วมปฐมนิเทศนักศึกษาระดับระดับปริญญาตรี คณะบริหารธุรกิจและการบัญชี ประจำปีการศึกษา 2565\n📌วันศุกร์ที่ 24 มิถุนายน 2565 เวลา 08.45 เป็นต้นไป\n📌 ณ ห้องประชุมเพียงฟ้า ชั้น 6 อาคาร BS02 คณะบริหารธุรกิจและการบัญชี มหาวิทยาลัยขอนแก่น
URL:https://www.kku.ac.th/th/event/%e0%b8%9b%e0%b8%90%e0%b8%a1%e0%b8%99%e0%b8%b4%e0%b9%80%e0%b8%97%e0%b8%a8%e0%b8%99%e0%b8%b1%e0%b8%81%e0%b8%a8%e0%b8%b6%e0%b8%81%e0%b8%a9%e0%b8%b2%e0%b8%a3%e0%b8%b0%e0%b8%94%e0%b8%b1%e0%b8%9a%e0%b8%a3/
LOCATION:คณะบริหารธุรกิจและการบัญชี\, FRFG+G6 Khon Kaen\, Mueang Khon Kaen District\, Khon Kaen\, Mueang Khon Kaen District\, Khon Kaen\, 40002\, Thailand
CATEGORIES:กิจกรรมนักศึกษา,ประชุมสัมมนา
ATTACH;FMTTYPE=image/jpeg:https://www.kku.ac.th/wp-content/uploads/2022/06/1-3.jpg
END:VEVENT
BEGIN:VEVENT
DTSTART;VALUE=DATE:20220630
DTEND;VALUE=DATE:20220701
DTSTAMP:20260425T003503
CREATED:20220624T045900Z
LAST-MODIFIED:20220624T045900Z
UID:104608-1656547200-1656633599@www.kku.ac.th
SUMMARY:“ISAAN PRIDE 2022: LGBTQ+ Rights in Education”
DESCRIPTION:“ISAAN PRIDE 2022: LGBTQ+ Rights in Education” \n🏳️‍🌈 งานไพรด์ครั้งแรกของภาคอีสานและมหาวิทยาลัยขอนแก่น 🏳️‍🌈 \nศูนย์เพศภาวะศึกษา คณะมนุษยศาสตร์และสังคมศาสตร์ พร้อมภาคีเครือข่าย ขอเชิญทุกท่านร่วมเป็นสักขีพยานในประวัติศาสตร์หน้าใหม่ \nวันพฤหัสบดี ที่ 30 มิถุนายน 2565  เวลา 08.30 – 24.00 น.\nณ คณะมนุษยศาสตร์และสังคมศาสตร์ มหาวิทยาลัยขอนแก่น \nติดตามรายละเอียดเพิ่มเติมได้ที่\nแฟนเพจ ศูนย์เพศภาวะศึกษา-Center for Gender Studies
URL:https://www.kku.ac.th/th/event/isaan-pride-2022-lgbtq-rights-in-education/
LOCATION:คณะมนุษยศาสตร์และสังคมศาสตร์
CATEGORIES:กิจกรรมนักศึกษา
ATTACH;FMTTYPE=image/jpeg:https://www.kku.ac.th/wp-content/uploads/2022/06/06-30-PRIDE.jpg
END:VEVENT
END:VCALENDAR