BEGIN:VCALENDAR
VERSION:2.0
PRODID:-//Khon Kaen University - ECPv6.15.20//NONSGML v1.0//EN
CALSCALE:GREGORIAN
METHOD:PUBLISH
X-ORIGINAL-URL:https://www.kku.ac.th
X-WR-CALDESC:Events for Khon Kaen University
REFRESH-INTERVAL;VALUE=DURATION:PT1H
X-Robots-Tag:noindex
X-PUBLISHED-TTL:PT1H
BEGIN:VTIMEZONE
TZID:Asia/Bangkok
BEGIN:STANDARD
TZOFFSETFROM:+0700
TZOFFSETTO:+0700
TZNAME:+07
DTSTART:20210101T000000
END:STANDARD
END:VTIMEZONE
BEGIN:VEVENT
DTSTART;TZID=Asia/Bangkok:20220701T163000
DTEND;TZID=Asia/Bangkok:20220702T223000
DTSTAMP:20260423T223920
CREATED:20220702T065910Z
LAST-MODIFIED:20220702T070223Z
UID:105567-1656693000-1656801000@www.kku.ac.th
SUMMARY:TE KKU Food Festival 2022
DESCRIPTION:ขอเชิญร่วมงานเทศกาลอาหารคณะเทคโนโลยี มหาวิทยาลัยขอนแก่น “TE KKU Food Festival 2022” \nระหว่างวันที่ 1-2 กรกฎาคม 2565 ตั้งแต่ เวลา 16.30 น เป็นต้นไป \nเชิญเที่ยว ชม ชิม แชะ ร้านค้าอาหาร กิจกรรมของนักศึกษา ดนตรีในสวน และร้านค้าอาหารต่างๆ มากมาย \nจัดขึ้น ณ บริเวณถนนด้านหน้าร้าน TE Lakeview (TE Outlet) \nรายละเอียดเพิ่มเติม >> Facebook TE KKU Food Festival
URL:https://www.kku.ac.th/th/event/te-kku-food-festival-2022/
LOCATION:คณะเทคโนโลยี มหาวิทยาลัยขอนแก่น
CATEGORIES:กิจกรรมนักศึกษา
ATTACH;FMTTYPE=image/jpeg:https://www.kku.ac.th/wp-content/uploads/2022/07/07-01-TE-Food-fes.jpg
END:VEVENT
BEGIN:VEVENT
DTSTART;TZID=Asia/Bangkok:20220712T083000
DTEND;TZID=Asia/Bangkok:20220712T120000
DTSTAMP:20260423T223920
CREATED:20220705T085806Z
LAST-MODIFIED:20220705T085834Z
UID:105916-1657614600-1657627200@www.kku.ac.th
SUMMARY:Grand Opening College of Computing
DESCRIPTION:วิทยาลัยการคอมพิวเตอร์ขอเชิญร่วมงาน Grand Opening College of Computing \nในวันที่ 12 กรกฎาคม 2565 ณ ห้องประชุมวิทยวิภาส 1 อาคารวิทยวิภาส มหาวิทยาลัยขอนแก่น \nเปิดลงทะเบียนตั้งแต่เวลา 08:30 น. เป็นต้นไป \n————————————————- \n           การเปิดตัวอย่างยิ่งใหญ่ของวิทยาลัยการคอมพิวเตอร์ ซึ่งเป็นคณะวิชาน้องใหม่ของมหาวิทยาลัยขอนแก่น มุ่งสานพันธกิจของมหาวิทยาลัยขอนแก่น ในการผลิตผลงานวิจัยและบัณฑิตด้านเทคโนโลยีดิจิทัล เรามีความเชี่ยวชาญในสาขาวิชาที่หลากหลายและเป็นที่ต้องการของตลาดงานทั้งภาครัฐ ภาคอุตสาหกรรม และภาคธุรกิจ ตามแนวโน้มของเทคโนโลยีใหม่ในอนาคต ที่มีความต้องการกําลังคนด้านการคำนวณคอมพิวเตอร์ มีทักษะด้านการพัฒนาซอฟต์แวร์ การพัฒนาระบบด้านเทคโนโลยีดิจิทัล การประยุกต์ปัญญาประดิษฐ์ รวมถึงเทคโนโลยีทางภูมิสารสนเทศศาสตร์ เราจึงถือกำเนิดขึ้นมาเพื่อสอดรับกับยุทธศาสตร์และทิศทางการพัฒนาของประเทศไทย เพื่อขับเคลื่อนสังคม เศรษฐกิจของประเทศไทยไปด้วยกัน \nงานเปิดตัววิทยาลัยการคอมพิวเตอร์ ได้มีกำหนดจัดขึ้นในวันที่ 12 กรกฎาคม 2565 ณ ห้องประชุมวิทยวิภาส 1 อาคารวิทยวิภาส มหาวิทยาลัยขอนแก่น ซึ่งท่านจะได้พบกับกิจกรรมต่างๆ เช่น บรรยายพิเศษ “Digital Transformation Trend and Thailand Readiness”  โดย รศ.ดร.ธนชาติ  นุ่มนนท์ กรรมการสภามหาวิทยาลัยผู้ทรงคุณวุฒิ มหาวิทยาลัยขอนแก่น กิจกรรมการเสวนา หัวข้อ “บทบาทของสถาบันการศึกษาในการวางรากฐานกำลังคนด้าน Computing” จากคณาจารย์ผู้มีชื่อเสียงในหลายสถาบันการศึกษา นอกจากนี้ยังมีกิจกรรมที่ได้จัดขึ้นโดยได้รับความร่วมมือจากศิษย์เก่าที่ประสบความสำเร็จให้เกียรติมาเล่าประสบการณ์เกี่ยวกับการศึกษาและการทำงาน กิจกรรมนิทรรศการการนำเสนอผลงานของนักศึกษาวิทยาลัยการคอมพิวเตอร์  การออกบูธจัดแสดงโดยบริษัทที่เรามีความร่วมมือด้วยในกิจกรรม Mini Job Fair การนำเสนอนวัตกรรม / รับสมัครงาน จากสถานประกอบการ การเสวนาและบรรยายพิเศษเกี่ยวกับการวิจัยด้านการคำนวณคอมพิวเตอร์ กิจกรรม Smart City Challenge และเส้นทางสู่เวทีการแข่งขันโอลิมปิกวิชาการ สาขาคอมพิวเตอร์ ระดับชาติ \nผู้สนใจเข้าร่วมงานสามารถลงทะเบียนผ่านลิงก์ https://kku.world/cpgrandopening  แล้วพบกัน!! \nสามารถดูรายละเอียดเพิ่มเติมได้ผ่านทางเว็บไซต์ https://kku.world/9z7el
URL:https://www.kku.ac.th/th/event/grand-opening-college-of-computing/
LOCATION:วิทยาลัยการคอมพิวเตอร์
CATEGORIES:กิจกรรมนักศึกษา
ATTACH;FMTTYPE=image/png:https://www.kku.ac.th/wp-content/uploads/2022/07/07-12-เปิดวิทยาลัยการคอมพิวเตอร์.png
END:VEVENT
END:VCALENDAR