BEGIN:VCALENDAR
VERSION:2.0
PRODID:-//Khon Kaen University - ECPv6.15.20//NONSGML v1.0//EN
CALSCALE:GREGORIAN
METHOD:PUBLISH
X-WR-CALNAME:Khon Kaen University
X-ORIGINAL-URL:https://www.kku.ac.th
X-WR-CALDESC:Events for Khon Kaen University
REFRESH-INTERVAL;VALUE=DURATION:PT1H
X-Robots-Tag:noindex
X-PUBLISHED-TTL:PT1H
BEGIN:VTIMEZONE
TZID:Asia/Bangkok
BEGIN:STANDARD
TZOFFSETFROM:+0700
TZOFFSETTO:+0700
TZNAME:+07
DTSTART:20210101T000000
END:STANDARD
END:VTIMEZONE
BEGIN:VEVENT
DTSTART;TZID=Asia/Bangkok:20220805T080000
DTEND;TZID=Asia/Bangkok:20220809T143000
DTSTAMP:20260423T182612
CREATED:20220805T085116Z
LAST-MODIFIED:20220805T093934Z
UID:109162-1659686400-1660055400@www.kku.ac.th
SUMMARY:ขอเชิญลงทะเบียนเข้าร่วมการสัมมนา “Development of Environmental Consciousness in Problem-Solving based on STEAM Education”
DESCRIPTION:มหาวิทยาลัยขอนแก่น โดย สถาบันวิจัยและพัฒนาวิชาชีพครูสำหรับอาเซียน \nมูลนิธิการศึกษาเพื่อการพัฒนาทักษะการคิด บริษัท Toyo System Co.\, LTD. และ \nThe Mathematics Certification Institute of Japan \n  \nขอเรียนเชิญผู้ที่สนใจเข้าร่วมการสัมมนา “Development of Environmental Consciousness in Problem–Solving based on STEAM Education” \nในหัวข้อ “Corporate Social Responsibility” \nโดย Mr. Hideki Shoji   Chairman of the Board\, President & CEO of TOYO SYSTEM Co.\, LTD. \nในวันอังคารที่ 9 สิงหาคม 2565 เวลา 13.00 – 14.30 น. (ตามเวลาประเทศไทย) ทางออนไลน์ผ่าน Zoom meeting โดยไม่เสียค่าใช้จ่าย \n \nโดยผู้สนใจสามารถ Scan QR-Code เพื่อลงทะเบียนและรับลิงค์การประชุม \nติดต่อสอบถามเพิ่มเติม โทร. 043-009700 ต่อ 50147
URL:https://www.kku.ac.th/th/event/%e0%b8%81%e0%b8%b4%e0%b8%88%e0%b8%81%e0%b8%a3%e0%b8%a3%e0%b8%a1%e0%b8%aa%e0%b8%b1%e0%b8%a1%e0%b8%a1%e0%b8%99%e0%b8%b2-development-of-environmental-consciousness-in-problem-solving-based-on-st/
LOCATION:KhonKaen
CATEGORIES:กิจกรรมนักศึกษา,ประชุมสัมมนา
ATTACH;FMTTYPE=image/jpeg:https://www.kku.ac.th/wp-content/uploads/2022/08/291599226_1704935103193785_7323139055195807889_n-scaled.jpg
END:VEVENT
BEGIN:VEVENT
DTSTART;TZID=Asia/Bangkok:20220816T090000
DTEND;TZID=Asia/Bangkok:20220816T140000
DTSTAMP:20260423T182612
CREATED:20220815T032828Z
LAST-MODIFIED:20220815T032828Z
UID:109976-1660640400-1660658400@www.kku.ac.th
SUMMARY:ขอเชิญร่วมบริจาคโลหิต เพื่อช่วยเหลือผู้ป่วย
DESCRIPTION:หน่วยรับบริจาคโลหิตเคลื่อนที่ คลังเลือดกลาง โรงพยาบาลศรีนครินทร์  \nขอเชิญชวนบุคลากร นักศึกษา และผู้ที่สนใจ ร่วมบริจาคโลหิต เพื่อช่วยเหลือผู้ป่วย \nในวันที่ 16  สิงหาคม  2565   ณ ชั้น 1 อาคารกิจกรรมนักศึกษา  กองพัฒนานักศึกษาและศิษย์เก่าสัมพันธ์ \nหมายเหตุ : ผู้บริจาคโปรดเตรียมร่างกายให้พร้อม พักผ่อนให้เพียงพอ  \n————————————— \nFacebook : คลังเลือดกลาง คณะแพทยศาสตร์ ม.ขอนแก่น   \nYoutube : Blood Bank kku.Channel
URL:https://www.kku.ac.th/th/event/%e0%b8%82%e0%b8%ad%e0%b9%80%e0%b8%8a%e0%b8%b4%e0%b8%8d%e0%b8%a3%e0%b9%88%e0%b8%a7%e0%b8%a1%e0%b8%9a%e0%b8%a3%e0%b8%b4%e0%b8%88%e0%b8%b2%e0%b8%84%e0%b9%82%e0%b8%a5%e0%b8%ab%e0%b8%b4%e0%b8%95-3/
LOCATION:กองพัฒนานักศึกษาและศิษย์เก่าสัมพันธ์
CATEGORIES:กิจกรรมนักศึกษา
ATTACH;FMTTYPE=image/png:https://www.kku.ac.th/wp-content/uploads/2022/08/Poster-blood-donation.png
END:VEVENT
END:VCALENDAR