BEGIN:VCALENDAR
VERSION:2.0
PRODID:-//Khon Kaen University - ECPv6.15.20//NONSGML v1.0//EN
CALSCALE:GREGORIAN
METHOD:PUBLISH
X-ORIGINAL-URL:https://www.kku.ac.th
X-WR-CALDESC:Events for Khon Kaen University
REFRESH-INTERVAL;VALUE=DURATION:PT1H
X-Robots-Tag:noindex
X-PUBLISHED-TTL:PT1H
BEGIN:VTIMEZONE
TZID:Asia/Bangkok
BEGIN:STANDARD
TZOFFSETFROM:+0700
TZOFFSETTO:+0700
TZNAME:+07
DTSTART:20250101T000000
END:STANDARD
END:VTIMEZONE
BEGIN:VEVENT
DTSTART;VALUE=DATE:20260703
DTEND;VALUE=DATE:20260706
DTSTAMP:20260424T043518
CREATED:20260421T081702Z
LAST-MODIFIED:20260421T081720Z
UID:285628-1783036800-1783295999@www.kku.ac.th
SUMMARY:การแข่งขัน BDI Young Innovator Hackathon เฟ้นหาสุดยอดนวัตกรรม "Intelligent Living" ในด้านสุขภาพและเมืองอัจฉริยะ
DESCRIPTION:โอกาสครั้งสำคัญของเหล่านวัตกรรุ่นใหม่มาถึงแล้ว! \nเชิญชวนร่วมแข่งขัน BDI Young Innovator Hackathon เฟ้นหาสุดยอดนวัตกรรม “Intelligent Living” ในด้านสุขภาพและเมืองอัจฉริยะ\n ภายใต้แนวคิด Intelligent Living (การอยู่อาศัยอัจฉริยะ) เพื่อยกระดับคุณภาพชีวิตและสุขภาพของคนไทย\n.\n ทำไมต้องมาร่วมงานนี้?\n• ได้ลงมือสร้าง Prototype จากโจทย์จริงและข้อมูลจริง (Phenome\, EMR\, Smart City)\n• บูรณาการความร่วมมือข้ามศาสตร์กับผู้เชี่ยวชาญจากคณะแพทยศาสตร์ พยาบาลศาสตร์ และอีกมากมาย\n• สร้างเครือข่ายกับนวัตกรและหน่วยงานระดับแนวหน้าของประเทศ\n\n\n รายละเอียดกิจกรรม:\n• รับสมัคร: 10 เม.ย. – 20 พ.ค. 2569\n• แข่งขัน: 3-5 ก.ค. 2569 ณ มหาวิทยาลัยขอนแก่น\n• รางวัล: ชิงถ้วยพระราชทาน สมเด็จพระกนิษฐาธิราชเจ้า กรมสมเด็จพระเทพรัตนราชสุดา ฯ สยามบรมราชกุมารี และรางวัลเงินสดรวมกว่า 1 แสนบาท!\nอย่าปล่อยให้ไอเดียอยู่แค่ในกระดาษ มาเปลี่ยนให้เป็นนวัตกรรมที่ใช้งานได้จริงที่นี่!\n.\n สมัครเลยที่: https://short.bdi.or.th/young-hackathon\nหรือสแกน QR Code ในภาพ!\nสอบถามเพิ่มเติม: โทร 043-009-700 ต่อ 44463\, 50525
URL:https://www.kku.ac.th/th/event/%e0%b8%81%e0%b8%b2%e0%b8%a3%e0%b9%81%e0%b8%82%e0%b9%88%e0%b8%87%e0%b8%82%e0%b8%b1%e0%b8%99-bdi-young-innovator-hackathon-%e0%b9%80%e0%b8%9f%e0%b9%89%e0%b8%99%e0%b8%ab%e0%b8%b2%e0%b8%aa%e0%b8%b8/
LOCATION:มหาวิทยาลัยขอนแก่น\, 123 ถนนมิตรภาพ Tambon Nai Mueang\, Mueang Khon Kaen District\, Khon Kaen 40002\, Mueang Khon Kaen District\, KhonKaen\, 40002\, Thailand
CATEGORIES:กิจกรรมนักศึกษา,กิจกรรมนักเรียน,กิจกรรมบุคลากร,หลักสูตรอบรม
ATTACH;FMTTYPE=image/jpeg:https://www.kku.ac.th/wp-content/uploads/2026/04/672672675_1400026072160410_5417661766348347391_n.jpg
END:VEVENT
END:VCALENDAR